BEGIN:VCALENDAR
VERSION:2.0
PRODID:-//The Link Christian Fellowship - ECPv6.15.20//NONSGML v1.0//EN
CALSCALE:GREGORIAN
METHOD:PUBLISH
X-WR-CALNAME:The Link Christian Fellowship
X-ORIGINAL-URL:https://linkchurch.org
X-WR-CALDESC:Events for The Link Christian Fellowship
REFRESH-INTERVAL;VALUE=DURATION:PT1H
X-Robots-Tag:noindex
X-PUBLISHED-TTL:PT1H
BEGIN:VTIMEZONE
TZID:America/Edmonton
BEGIN:DAYLIGHT
TZOFFSETFROM:-0700
TZOFFSETTO:-0600
TZNAME:MDT
DTSTART:20210314T090000
END:DAYLIGHT
BEGIN:STANDARD
TZOFFSETFROM:-0600
TZOFFSETTO:-0700
TZNAME:MST
DTSTART:20211107T080000
END:STANDARD
BEGIN:DAYLIGHT
TZOFFSETFROM:-0700
TZOFFSETTO:-0600
TZNAME:MDT
DTSTART:20220313T090000
END:DAYLIGHT
BEGIN:STANDARD
TZOFFSETFROM:-0600
TZOFFSETTO:-0700
TZNAME:MST
DTSTART:20221106T080000
END:STANDARD
BEGIN:DAYLIGHT
TZOFFSETFROM:-0700
TZOFFSETTO:-0600
TZNAME:MDT
DTSTART:20230312T090000
END:DAYLIGHT
BEGIN:STANDARD
TZOFFSETFROM:-0600
TZOFFSETTO:-0700
TZNAME:MST
DTSTART:20231105T080000
END:STANDARD
END:VTIMEZONE
BEGIN:VEVENT
DTSTART;TZID=America/Edmonton:20220828T150000
DTEND;TZID=America/Edmonton:20220828T170000
DTSTAMP:20260424T191658
CREATED:20220817T200447Z
LAST-MODIFIED:20220817T200447Z
UID:10000577-1661698800-1661706000@linkchurch.org
SUMMARY:Family Fun Day
DESCRIPTION:Everyone is welcome to join us at Echo Dale park for a corn roast\, beach games\, and time to hang out and connect. \nIf you are able to help set up or help haul coolers of corn or shuck corn please contact sherry@linkchurch.org
URL:https://linkchurch.org/event/family-fun-day-2/
LOCATION:Echodale park\, 1001 Echodale Rd\, Medicine Hat\, AB\, T0K 0G0\, Canada
CATEGORIES:Church Family
ATTACH;FMTTYPE=image/png:https://linkchurch.org/wordpress/wp-content/uploads/2022/08/Link-Family-Fun-Day.png
END:VEVENT
END:VCALENDAR