BEGIN:VCALENDAR
VERSION:2.0
PRODID:-//The Link Christian Fellowship - ECPv6.15.20//NONSGML v1.0//EN
CALSCALE:GREGORIAN
METHOD:PUBLISH
X-ORIGINAL-URL:https://linkchurch.org
X-WR-CALDESC:Events for The Link Christian Fellowship
REFRESH-INTERVAL;VALUE=DURATION:PT1H
X-Robots-Tag:noindex
X-PUBLISHED-TTL:PT1H
BEGIN:VTIMEZONE
TZID:America/Edmonton
BEGIN:DAYLIGHT
TZOFFSETFROM:-0700
TZOFFSETTO:-0600
TZNAME:MDT
DTSTART:20210314T090000
END:DAYLIGHT
BEGIN:STANDARD
TZOFFSETFROM:-0600
TZOFFSETTO:-0700
TZNAME:MST
DTSTART:20211107T080000
END:STANDARD
BEGIN:DAYLIGHT
TZOFFSETFROM:-0700
TZOFFSETTO:-0600
TZNAME:MDT
DTSTART:20220313T090000
END:DAYLIGHT
BEGIN:STANDARD
TZOFFSETFROM:-0600
TZOFFSETTO:-0700
TZNAME:MST
DTSTART:20221106T080000
END:STANDARD
BEGIN:DAYLIGHT
TZOFFSETFROM:-0700
TZOFFSETTO:-0600
TZNAME:MDT
DTSTART:20230312T090000
END:DAYLIGHT
BEGIN:STANDARD
TZOFFSETFROM:-0600
TZOFFSETTO:-0700
TZNAME:MST
DTSTART:20231105T080000
END:STANDARD
END:VTIMEZONE
BEGIN:VEVENT
DTSTART;TZID=America/Edmonton:20220902T150000
DTEND;TZID=America/Edmonton:20220905T110000
DTSTAMP:20260424T173356
CREATED:20220518T200812Z
LAST-MODIFIED:20220823T170751Z
UID:10000532-1662130800-1662375600@linkchurch.org
SUMMARY:Church Camp
DESCRIPTION:The Link’s Church/Family Camp (Sept 2-5) is quickly approaching! We are completely FULL for camping.  We are so excited to have so many people joining us this year!  There is still opportunity for you to join the group on Sunday\, Sept 4th for the day & afternoon BBQ\, but you still are required to register as we need to make sure we have enough food (deadline to register is August 23rd) \nForms are available at the Welcome/Information desk. \nStill have questions\, contact Donna Heidebrecht (donna@linkchurch.org) \n  \n  \n  \n 
URL:https://linkchurch.org/event/church-camp/
LOCATION:Whispering Pines Camp\, Range Rd 25\, Elkwater\, Alberta\, T0J 1C0
CATEGORIES:Church Family,Special Events
ATTACH;FMTTYPE=image/png:https://linkchurch.org/wordpress/wp-content/uploads/2022/05/Church-1.png
END:VEVENT
END:VCALENDAR