BEGIN:VCALENDAR
VERSION:2.0
PRODID:-//The Link Christian Fellowship - ECPv6.15.20//NONSGML v1.0//EN
CALSCALE:GREGORIAN
METHOD:PUBLISH
X-ORIGINAL-URL:https://linkchurch.org
X-WR-CALDESC:Events for The Link Christian Fellowship
REFRESH-INTERVAL;VALUE=DURATION:PT1H
X-Robots-Tag:noindex
X-PUBLISHED-TTL:PT1H
BEGIN:VTIMEZONE
TZID:America/Edmonton
BEGIN:DAYLIGHT
TZOFFSETFROM:-0700
TZOFFSETTO:-0600
TZNAME:MDT
DTSTART:20220313T090000
END:DAYLIGHT
BEGIN:STANDARD
TZOFFSETFROM:-0600
TZOFFSETTO:-0700
TZNAME:MST
DTSTART:20221106T080000
END:STANDARD
BEGIN:DAYLIGHT
TZOFFSETFROM:-0700
TZOFFSETTO:-0600
TZNAME:MDT
DTSTART:20230312T090000
END:DAYLIGHT
BEGIN:STANDARD
TZOFFSETFROM:-0600
TZOFFSETTO:-0700
TZNAME:MST
DTSTART:20231105T080000
END:STANDARD
BEGIN:DAYLIGHT
TZOFFSETFROM:-0700
TZOFFSETTO:-0600
TZNAME:MDT
DTSTART:20240310T090000
END:DAYLIGHT
BEGIN:STANDARD
TZOFFSETFROM:-0600
TZOFFSETTO:-0700
TZNAME:MST
DTSTART:20241103T080000
END:STANDARD
END:VTIMEZONE
BEGIN:VEVENT
DTSTART;TZID=America/Edmonton:20230901T150000
DTEND;TZID=America/Edmonton:20230904T120000
DTSTAMP:20260424T000223
CREATED:20230622T174645Z
LAST-MODIFIED:20230808T182702Z
UID:10001243-1693580400-1693828800@linkchurch.org
SUMMARY:Link Family Camp
DESCRIPTION:Join us for a fun\, yet relaxing weekend out at Whispering Pines Camp!\nSpace is limited\, the deadline to register is Sunday\, August 27th\n\n12 cabins are available.  RV sites (6 with 30 AMP – can run extension cords for all)\nAccess to washrooms/showers (bring own towels & toiletries)\nMeals are your own responsibility.  There is access to kitchen\, BBQ & refrigerator\nNo pets allowed\n\nYou are welcome to come out for the day if you are unable to stay for the weekend\nSchedule:  \n\nFriday: (anytime after 3PM) – Arrival & set up.  Supper & campfire\nSaturday:  AM devotional.  Afternoon activities/free time.  Evening movie/campfire\nSunday: AM church service.  Afternoon activities/free time.  5PM devotional & BBQ (Supper provided).  Campfire\nMonday: cleanup & check out\n\nRegistration forms are available at the Link at the Welcome Desk in the main foyer\nFor more info please contact Jurgen/Gayleen Schlenker – jgschl@shaw.ca \nJason/Donna Heidebrecht – donna@linkchurch.org
URL:https://linkchurch.org/event/family-camp/
LOCATION:Whispering Pines Camp\, Range Rd 25\, Elkwater\, Alberta\, T0J 1C0
CATEGORIES:Church Family,Special Events
ATTACH;FMTTYPE=image/png:https://linkchurch.org/wordpress/wp-content/uploads/2023/06/Family-Camp.png
END:VEVENT
END:VCALENDAR