BEGIN:VCALENDAR
VERSION:2.0
PRODID:-//The Link Christian Fellowship - ECPv6.15.20//NONSGML v1.0//EN
CALSCALE:GREGORIAN
METHOD:PUBLISH
X-WR-CALNAME:The Link Christian Fellowship
X-ORIGINAL-URL:https://linkchurch.org
X-WR-CALDESC:Events for The Link Christian Fellowship
REFRESH-INTERVAL;VALUE=DURATION:PT1H
X-Robots-Tag:noindex
X-PUBLISHED-TTL:PT1H
BEGIN:VTIMEZONE
TZID:America/Edmonton
BEGIN:DAYLIGHT
TZOFFSETFROM:-0700
TZOFFSETTO:-0600
TZNAME:MDT
DTSTART:20230312T090000
END:DAYLIGHT
BEGIN:STANDARD
TZOFFSETFROM:-0600
TZOFFSETTO:-0700
TZNAME:MST
DTSTART:20231105T080000
END:STANDARD
BEGIN:DAYLIGHT
TZOFFSETFROM:-0700
TZOFFSETTO:-0600
TZNAME:MDT
DTSTART:20240310T090000
END:DAYLIGHT
BEGIN:STANDARD
TZOFFSETFROM:-0600
TZOFFSETTO:-0700
TZNAME:MST
DTSTART:20241103T080000
END:STANDARD
BEGIN:DAYLIGHT
TZOFFSETFROM:-0700
TZOFFSETTO:-0600
TZNAME:MDT
DTSTART:20250309T090000
END:DAYLIGHT
BEGIN:STANDARD
TZOFFSETFROM:-0600
TZOFFSETTO:-0700
TZNAME:MST
DTSTART:20251102T080000
END:STANDARD
END:VTIMEZONE
BEGIN:VEVENT
DTSTART;TZID=America/Edmonton:20240405T190000
DTEND;TZID=America/Edmonton:20240405T203000
DTSTAMP:20260420T171628
CREATED:20240328T190229Z
LAST-MODIFIED:20240403T180711Z
UID:10002003-1712343600-1712349000@linkchurch.org
SUMMARY:Link Singles
DESCRIPTION:Our next event will be Friday\, April 5 from 7:00-8:30 pm.  We will be doing an Escape Room Adventure at Mr.E’s Solve-it-torium.  The cost is $25.  There will be 3 different teams in 3 different rooms solving clues to escape!  After the Escape Room\, we will meet for coffee and a visit.  Don’t miss out on this exciting event!  Please RSVP by Monday\, April 1 to Delynne Spencer (delynne@telus.net)
URL:https://linkchurch.org/event/link-singles-2/
LOCATION:Alberta
CATEGORIES:Link Singles
ATTACH;FMTTYPE=image/jpeg:https://linkchurch.org/wordpress/wp-content/uploads/2024/03/Unknown-4.jpeg
END:VEVENT
END:VCALENDAR