BEGIN:VCALENDAR
VERSION:2.0
PRODID:-//The Link Christian Fellowship - ECPv6.15.14//NONSGML v1.0//EN
CALSCALE:GREGORIAN
METHOD:PUBLISH
X-ORIGINAL-URL:https://linkchurch.org
X-WR-CALDESC:Events for The Link Christian Fellowship
REFRESH-INTERVAL;VALUE=DURATION:PT1H
X-Robots-Tag:noindex
X-PUBLISHED-TTL:PT1H
BEGIN:VTIMEZONE
TZID:America/Edmonton
BEGIN:DAYLIGHT
TZOFFSETFROM:-0700
TZOFFSETTO:-0600
TZNAME:MDT
DTSTART:20230312T090000
END:DAYLIGHT
BEGIN:STANDARD
TZOFFSETFROM:-0600
TZOFFSETTO:-0700
TZNAME:MST
DTSTART:20231105T080000
END:STANDARD
BEGIN:DAYLIGHT
TZOFFSETFROM:-0700
TZOFFSETTO:-0600
TZNAME:MDT
DTSTART:20240310T090000
END:DAYLIGHT
BEGIN:STANDARD
TZOFFSETFROM:-0600
TZOFFSETTO:-0700
TZNAME:MST
DTSTART:20241103T080000
END:STANDARD
BEGIN:DAYLIGHT
TZOFFSETFROM:-0700
TZOFFSETTO:-0600
TZNAME:MDT
DTSTART:20250309T090000
END:DAYLIGHT
BEGIN:STANDARD
TZOFFSETFROM:-0600
TZOFFSETTO:-0700
TZNAME:MST
DTSTART:20251102T080000
END:STANDARD
END:VTIMEZONE
BEGIN:VEVENT
DTSTART;TZID=America/Edmonton:20240702T190500
DTEND;TZID=America/Edmonton:20240702T213000
DTSTAMP:20260420T122117
CREATED:20240628T171421Z
LAST-MODIFIED:20240628T171421Z
UID:10002097-1719947100-1719955800@linkchurch.org
SUMMARY:Link Singles - Mavericks Baseball Game
DESCRIPTION:
URL:https://linkchurch.org/event/link-singles-mavericks-baseball-game/
LOCATION:The Link Church\, 1714 Saamis Dr NW\, Medicine Hat\, Alberta\, T1C1W7\, Canada
CATEGORIES:Link Singles
END:VEVENT
BEGIN:VEVENT
DTSTART;TZID=America/Edmonton:20240706T113000
DTEND;TZID=America/Edmonton:20240706T143000
DTSTAMP:20260420T122117
CREATED:20240628T171227Z
LAST-MODIFIED:20240628T171227Z
UID:10002096-1720265400-1720276200@linkchurch.org
SUMMARY:Link Singles Big Paddle
DESCRIPTION:From Echo Dale to Strathcona down the South Saskatchewan. We will load into the water at 11:30am at the Echo Dale Boat Launch and leave at noon. It takes approx. 2 hours to make the trip to Strathcona.
URL:https://linkchurch.org/event/link-singles-big-paddle/
LOCATION:Alberta
CATEGORIES:Link Singles
END:VEVENT
BEGIN:VEVENT
DTSTART;TZID=America/Edmonton:20240726T180000
DTEND;TZID=America/Edmonton:20240726T220000
DTSTAMP:20260420T122117
CREATED:20240711T154557Z
LAST-MODIFIED:20240718T174220Z
UID:10002105-1722016800-1722031200@linkchurch.org
SUMMARY:Link Singles - Stampede Time!
DESCRIPTION:Meet at the front gates @ 6:00pm. We will grab supper from the food trucks and then hang out and check out the Stampede grounds! \nTo RSVP or for more information(or to be added to our Facebook Messenger group)email Delynne Spencer at delynne@telus.net
URL:https://linkchurch.org/event/link-singles-stampede-time/
LOCATION:Alberta
CATEGORIES:Link Singles
ATTACH;FMTTYPE=image/jpeg:https://linkchurch.org/wordpress/wp-content/uploads/2024/07/Link-Singles-copy.jpg
END:VEVENT
END:VCALENDAR