BEGIN:VCALENDAR
VERSION:2.0
PRODID:-//The Link Christian Fellowship - ECPv6.15.20//NONSGML v1.0//EN
CALSCALE:GREGORIAN
METHOD:PUBLISH
X-WR-CALNAME:The Link Christian Fellowship
X-ORIGINAL-URL:https://linkchurch.org
X-WR-CALDESC:Events for The Link Christian Fellowship
REFRESH-INTERVAL;VALUE=DURATION:PT1H
X-Robots-Tag:noindex
X-PUBLISHED-TTL:PT1H
BEGIN:VTIMEZONE
TZID:America/Edmonton
BEGIN:DAYLIGHT
TZOFFSETFROM:-0700
TZOFFSETTO:-0600
TZNAME:MDT
DTSTART:20240310T090000
END:DAYLIGHT
BEGIN:STANDARD
TZOFFSETFROM:-0600
TZOFFSETTO:-0700
TZNAME:MST
DTSTART:20241103T080000
END:STANDARD
BEGIN:DAYLIGHT
TZOFFSETFROM:-0700
TZOFFSETTO:-0600
TZNAME:MDT
DTSTART:20250309T090000
END:DAYLIGHT
BEGIN:STANDARD
TZOFFSETFROM:-0600
TZOFFSETTO:-0700
TZNAME:MST
DTSTART:20251102T080000
END:STANDARD
BEGIN:DAYLIGHT
TZOFFSETFROM:-0700
TZOFFSETTO:-0600
TZNAME:MDT
DTSTART:20260308T090000
END:DAYLIGHT
BEGIN:STANDARD
TZOFFSETFROM:-0600
TZOFFSETTO:-0700
TZNAME:MST
DTSTART:20261101T080000
END:STANDARD
BEGIN:DAYLIGHT
TZOFFSETFROM:-0700
TZOFFSETTO:-0600
TZNAME:MDT
DTSTART:20270314T090000
END:DAYLIGHT
BEGIN:STANDARD
TZOFFSETFROM:-0600
TZOFFSETTO:-0700
TZNAME:MST
DTSTART:20271107T080000
END:STANDARD
END:VTIMEZONE
BEGIN:VEVENT
DTSTART;TZID=America/Edmonton:20250606T173000
DTEND;TZID=America/Edmonton:20250606T203000
DTSTAMP:20260420T190344
CREATED:20250513T165009Z
LAST-MODIFIED:20250513T165009Z
UID:10002984-1749231000-1749241800@linkchurch.org
SUMMARY:Link Singles BBQ & Bonfire
DESCRIPTION:BBQ and Bonfire at Teri England’s \nFriday\, June 6 @ 5:30pm \nPotluck plus burgers and fixings – $5.00 each \nBring a lawn chair and outdoor games if you have any. \nRSVP to Delynne at delynne@telus.net
URL:https://linkchurch.org/event/link-singles-bbq-bonfire/
LOCATION:The Link Church\, 1714 Saamis Dr NW\, Medicine Hat\, Alberta\, T1C1W7\, Canada
CATEGORIES:Link Singles
ATTACH;FMTTYPE=image/jpeg:https://linkchurch.org/wordpress/wp-content/uploads/2025/05/Link-singles-Instagram-Post-45.jpg
END:VEVENT
BEGIN:VEVENT
DTSTART;TZID=America/Edmonton:20250625T180000
DTEND;TZID=America/Edmonton:20250625T210000
DTSTAMP:20260420T190344
CREATED:20250620T164533Z
LAST-MODIFIED:20250620T164533Z
UID:10002988-1750874400-1750885200@linkchurch.org
SUMMARY:Link Singles Stampede Time
DESCRIPTION:Supper\, rides and walk around \nMeet at 6:00pm
URL:https://linkchurch.org/event/link-singles-stampede-time-2/
LOCATION:The Link Church\, 1714 Saamis Dr NW\, Medicine Hat\, Alberta\, T1C1W7\, Canada
CATEGORIES:Link Singles
ATTACH;FMTTYPE=image/jpeg:https://linkchurch.org/wordpress/wp-content/uploads/2025/06/LInk-Singles-Stampede-Time.jpg
END:VEVENT
BEGIN:VEVENT
DTSTART;TZID=America/Edmonton:20250705T120000
DTEND;TZID=America/Edmonton:20250705T170000
DTSTAMP:20260420T190344
CREATED:20250620T163534Z
LAST-MODIFIED:20250620T163552Z
UID:10002986-1751716800-1751734800@linkchurch.org
SUMMARY:Link Singles Big Paddle
DESCRIPTION:down the South Saskatchewan from Echo Dale to Strathcona Park \nLeave Echo Dale at 12:00pm sharp \nIf you need a ride or help transporting your kayak or SUP contact Delynne. \nRSVP to Delynne at delynne@telus.net
URL:https://linkchurch.org/event/link-singles-big-paddle-2/
LOCATION:The Link Church\, 1714 Saamis Dr NW\, Medicine Hat\, Alberta\, T1C1W7\, Canada
CATEGORIES:Link Singles
ATTACH;FMTTYPE=image/jpeg:https://linkchurch.org/wordpress/wp-content/uploads/2025/06/Big-Paddle-July-5.jpg
END:VEVENT
BEGIN:VEVENT
DTSTART;TZID=America/Edmonton:20250711T183000
DTEND;TZID=America/Edmonton:20250711T210000
DTSTAMP:20260420T190344
CREATED:20250620T164243Z
LAST-MODIFIED:20250620T164243Z
UID:10002987-1752258600-1752267600@linkchurch.org
SUMMARY:Link Singles Maverick's Game
DESCRIPTION:7:05pm start\, meet at 6:30pm
URL:https://linkchurch.org/event/link-singles-mavericks-game/
LOCATION:The Link Church\, 1714 Saamis Dr NW\, Medicine Hat\, Alberta\, T1C1W7\, Canada
CATEGORIES:Link Singles
ATTACH;FMTTYPE=image/jpeg:https://linkchurch.org/wordpress/wp-content/uploads/2025/06/Mavericks-Game.jpg
END:VEVENT
BEGIN:VEVENT
DTSTART;TZID=America/Edmonton:20250822T190000
DTEND;TZID=America/Edmonton:20250822T210000
DTSTAMP:20260420T190344
CREATED:20250729T172128Z
LAST-MODIFIED:20250729T172128Z
UID:10003050-1755889200-1755896400@linkchurch.org
SUMMARY:Link Singles Bonfire & Outdoor Games
DESCRIPTION:Join the Link Singles group for a fun filled evening at Teri England’s place. \nBring an outdoor game\, your favorite snack to share(your own drink) and a lawn chair. \nRSVP to Delynne – delynne@telus.net
URL:https://linkchurch.org/event/link-singles-bonfire-outdoor-games/
LOCATION:Alberta
CATEGORIES:Link Singles
ATTACH;FMTTYPE=image/jpeg:https://linkchurch.org/wordpress/wp-content/uploads/2025/07/Bonfire-and-Outdoor-Games-at-Teri-Englands-Instagram-Post-45.jpg
END:VEVENT
BEGIN:VEVENT
DTSTART;TZID=America/Edmonton:20251004T180000
DTEND;TZID=America/Edmonton:20251004T210000
DTSTAMP:20260420T190344
CREATED:20251001T192950Z
LAST-MODIFIED:20251001T193025Z
UID:10003490-1759600800-1759611600@linkchurch.org
SUMMARY:Link Singles
DESCRIPTION:Tigers Hockey game.  Meet in the front lobby at 6:00 PM. \nRSVP to delynne@telus.net to reserve tickets
URL:https://linkchurch.org/event/link-singles-4/
LOCATION:Alberta
CATEGORIES:Link Singles
ATTACH;FMTTYPE=image/png:https://linkchurch.org/wordpress/wp-content/uploads/2025/10/11.png
END:VEVENT
BEGIN:VEVENT
DTSTART;TZID=America/Edmonton:20260206T180000
DTEND;TZID=America/Edmonton:20260206T200000
DTSTAMP:20260420T190344
CREATED:20260104T015534Z
LAST-MODIFIED:20260104T015534Z
UID:10004474-1770400800-1770408000@linkchurch.org
SUMMARY:Link Singles Olympic Games
DESCRIPTION:Link Olympic Games in the foyer \nFor more information and to RSVP contact Delynne at delynne@telus.net
URL:https://linkchurch.org/event/link-singles-olympic-games/
LOCATION:The Link Church\, 1714 Saamis Dr NW\, Medicine Hat\, Alberta\, T1C1W7\, Canada
CATEGORIES:Link Singles
ATTACH;FMTTYPE=image/jpeg:https://linkchurch.org/wordpress/wp-content/uploads/2026/01/link-singles.jpg
END:VEVENT
BEGIN:VEVENT
DTSTART;TZID=America/Edmonton:20260403T100000
DTEND;TZID=America/Edmonton:20260403T113000
DTSTAMP:20260420T190344
CREATED:20260306T161823Z
LAST-MODIFIED:20260306T161823Z
UID:10004582-1775210400-1775215800@linkchurch.org
SUMMARY:Link Singles - Good Friday Service
DESCRIPTION:On April 3 we are going to meet at the Citywide Good Friday Service at 10am. Meet in Section E.
URL:https://linkchurch.org/event/link-singles-good-friday-service/
LOCATION:The Link Church\, 1714 Saamis Dr NW\, Medicine Hat\, Alberta\, T1C1W7\, Canada
CATEGORIES:Link Singles
ATTACH;FMTTYPE=image/jpeg:https://linkchurch.org/wordpress/wp-content/uploads/2026/03/Link-Singles-Group.jpg
END:VEVENT
BEGIN:VEVENT
DTSTART;TZID=America/Edmonton:20260418T190000
DTEND;TZID=America/Edmonton:20260418T210000
DTSTAMP:20260420T190344
CREATED:20260306T161923Z
LAST-MODIFIED:20260306T161947Z
UID:10004583-1776538800-1776546000@linkchurch.org
SUMMARY:Link Singles - REND Rally Night
DESCRIPTION:On April 18 we are going to meet at Glenview Nazarene Church for the REND Rally Night. \n 
URL:https://linkchurch.org/event/link-singles-rend-rally-night/
LOCATION:The Link Church\, 1714 Saamis Dr NW\, Medicine Hat\, Alberta\, T1C1W7\, Canada
CATEGORIES:Link Singles
ATTACH;FMTTYPE=image/jpeg:https://linkchurch.org/wordpress/wp-content/uploads/2026/03/Link-Singles-Group.jpg
END:VEVENT
END:VCALENDAR