BEGIN:VCALENDAR
VERSION:2.0
PRODID:-//The Link Christian Fellowship - ECPv6.15.20//NONSGML v1.0//EN
CALSCALE:GREGORIAN
METHOD:PUBLISH
X-WR-CALNAME:The Link Christian Fellowship
X-ORIGINAL-URL:https://linkchurch.org
X-WR-CALDESC:Events for The Link Christian Fellowship
REFRESH-INTERVAL;VALUE=DURATION:PT1H
X-Robots-Tag:noindex
X-PUBLISHED-TTL:PT1H
BEGIN:VTIMEZONE
TZID:America/Edmonton
BEGIN:DAYLIGHT
TZOFFSETFROM:-0700
TZOFFSETTO:-0600
TZNAME:MDT
DTSTART:20220313T090000
END:DAYLIGHT
BEGIN:STANDARD
TZOFFSETFROM:-0600
TZOFFSETTO:-0700
TZNAME:MST
DTSTART:20221106T080000
END:STANDARD
BEGIN:DAYLIGHT
TZOFFSETFROM:-0700
TZOFFSETTO:-0600
TZNAME:MDT
DTSTART:20230312T090000
END:DAYLIGHT
BEGIN:STANDARD
TZOFFSETFROM:-0600
TZOFFSETTO:-0700
TZNAME:MST
DTSTART:20231105T080000
END:STANDARD
BEGIN:DAYLIGHT
TZOFFSETFROM:-0700
TZOFFSETTO:-0600
TZNAME:MDT
DTSTART:20240310T090000
END:DAYLIGHT
BEGIN:STANDARD
TZOFFSETFROM:-0600
TZOFFSETTO:-0700
TZNAME:MST
DTSTART:20241103T080000
END:STANDARD
BEGIN:DAYLIGHT
TZOFFSETFROM:-0700
TZOFFSETTO:-0600
TZNAME:MDT
DTSTART:20250309T090000
END:DAYLIGHT
BEGIN:STANDARD
TZOFFSETFROM:-0600
TZOFFSETTO:-0700
TZNAME:MST
DTSTART:20251102T080000
END:STANDARD
END:VTIMEZONE
BEGIN:VEVENT
DTSTART;TZID=America/Edmonton:20240322T190000
DTEND;TZID=America/Edmonton:20240322T220000
DTSTAMP:20260422T124726
CREATED:20240229T201303Z
LAST-MODIFIED:20240229T201303Z
UID:10001965-1711134000-1711144800@linkchurch.org
SUMMARY:YXH Youth City Wide Event
DESCRIPTION:Tonight the youth are meeting for City Wide Youth Night from 7:00-10:00 pm at Hillcrest Church \nYouth is for kids in grades 7-12.  Contact Pastor Josh for more info at josh@linkchurch.org
URL:https://linkchurch.org/event/yxh-youth-city-wide-event/
LOCATION:Hillcrest Church\, 3785 13 Ave SE\, Medicine Hat\, Alberta\, T1B 1J2\, Canada
CATEGORIES:Link Youth
ATTACH;FMTTYPE=image/png:https://linkchurch.org/wordpress/wp-content/uploads/2024/02/City-wide-youth.png
END:VEVENT
BEGIN:VEVENT
DTSTART;TZID=America/Edmonton:20240320T183000
DTEND;TZID=America/Edmonton:20240320T213000
DTSTAMP:20260422T124726
CREATED:20240229T192843Z
LAST-MODIFIED:20240327T180005Z
UID:10001593-1710959400-1710970200@linkchurch.org
SUMMARY:Youth Bible Study
DESCRIPTION:Bible study/games/worship/small groups.  Youth is for grades 7-12\, For more info contact Pastor Josh at josh@linkchurch.org.  Make sure you are following the youth social media pages for more info and for any last-minute changes
URL:https://linkchurch.org/event/youth-bible-study-24-2-2/2024-03-20/
LOCATION:The Link Church\, 1714 Saamis Dr NW\, Medicine Hat\, Alberta\, T1C1W7\, Canada
CATEGORIES:Link Youth
ATTACH;FMTTYPE=image/png:https://linkchurch.org/wordpress/wp-content/uploads/2023/12/youth.png
END:VEVENT
BEGIN:VEVENT
DTSTART;TZID=America/Edmonton:20240313T183000
DTEND;TZID=America/Edmonton:20240313T213000
DTSTAMP:20260422T124726
CREATED:20240229T192843Z
LAST-MODIFIED:20240327T180005Z
UID:10001592-1710354600-1710365400@linkchurch.org
SUMMARY:Youth Bible Study
DESCRIPTION:Bible study/games/worship/small groups.  Youth is for grades 7-12\, For more info contact Pastor Josh at josh@linkchurch.org.  Make sure you are following the youth social media pages for more info and for any last-minute changes
URL:https://linkchurch.org/event/youth-bible-study-24-2-2/2024-03-13/
LOCATION:The Link Church\, 1714 Saamis Dr NW\, Medicine Hat\, Alberta\, T1C1W7\, Canada
CATEGORIES:Link Youth
ATTACH;FMTTYPE=image/png:https://linkchurch.org/wordpress/wp-content/uploads/2023/12/youth.png
END:VEVENT
BEGIN:VEVENT
DTSTART;TZID=America/Edmonton:20240306T190000
DTEND;TZID=America/Edmonton:20240306T210000
DTSTAMP:20260422T124726
CREATED:20240229T192947Z
LAST-MODIFIED:20240229T193407Z
UID:10001591-1709751600-1709758800@linkchurch.org
SUMMARY:Youth Home Groups
DESCRIPTION:Youth are meeting in their home groups tonight\, do not come to the Link-go straight to your home group!  The list of home group locations can be found in the foyer or contact Pastor Josh at josh@linkchurch.org
URL:https://linkchurch.org/event/youth-bible-study-24-2-2-2/
LOCATION:Alberta
CATEGORIES:Link Youth
ATTACH;FMTTYPE=image/jpeg:https://linkchurch.org/wordpress/wp-content/uploads/2024/02/Home-groups.jpg
END:VEVENT
BEGIN:VEVENT
DTSTART;TZID=America/Edmonton:20240228T183000
DTEND;TZID=America/Edmonton:20240228T213000
DTSTAMP:20260422T124726
CREATED:20240130T214243Z
LAST-MODIFIED:20240130T220502Z
UID:10001590-1709145000-1709155800@linkchurch.org
SUMMARY:Youth Bible Study
DESCRIPTION:Bible study/games/worship/small groups.  Youth is for grades 7-12\, For more info contact Pastor Josh at josh@linkchurch.org.  Make sure you are following the youth social media pages for more info and for any last-minute changes
URL:https://linkchurch.org/event/youth-bible-study-24-2/2024-02-28/
LOCATION:The Link Church\, 1714 Saamis Dr NW\, Medicine Hat\, Alberta\, T1C1W7\, Canada
CATEGORIES:Link Youth
ATTACH;FMTTYPE=image/png:https://linkchurch.org/wordpress/wp-content/uploads/2023/12/youth.png
END:VEVENT
BEGIN:VEVENT
DTSTART;TZID=America/Edmonton:20240214T183000
DTEND;TZID=America/Edmonton:20240214T213000
DTSTAMP:20260422T124726
CREATED:20240130T214243Z
LAST-MODIFIED:20240130T220502Z
UID:10001588-1707935400-1707946200@linkchurch.org
SUMMARY:Youth Bible Study
DESCRIPTION:Bible study/games/worship/small groups.  Youth is for grades 7-12\, For more info contact Pastor Josh at josh@linkchurch.org.  Make sure you are following the youth social media pages for more info and for any last-minute changes
URL:https://linkchurch.org/event/youth-bible-study-24-2/2024-02-14/
LOCATION:The Link Church\, 1714 Saamis Dr NW\, Medicine Hat\, Alberta\, T1C1W7\, Canada
CATEGORIES:Link Youth
ATTACH;FMTTYPE=image/png:https://linkchurch.org/wordpress/wp-content/uploads/2023/12/youth.png
END:VEVENT
BEGIN:VEVENT
DTSTART;TZID=America/Edmonton:20240207T190000
DTEND;TZID=America/Edmonton:20240207T210000
DTSTAMP:20260422T124726
CREATED:20240130T214457Z
LAST-MODIFIED:20240130T214457Z
UID:10001943-1707332400-1707339600@linkchurch.org
SUMMARY:Youth Home Groups
DESCRIPTION:Youth are meeting in their home groups tonight\, do not come to the Link-go straight to your home group!  The list of home group locations can be found in the foyer or contact Pastor Josh at josh@linkchurch.org
URL:https://linkchurch.org/event/youth-home-groups-9/
LOCATION:Alberta
CATEGORIES:Link Youth
ATTACH;FMTTYPE=image/jpeg:https://linkchurch.org/wordpress/wp-content/uploads/2022/09/Home-groups.jpg
END:VEVENT
BEGIN:VEVENT
DTSTART;TZID=America/Edmonton:20240131T183000
DTEND;TZID=America/Edmonton:20240131T213000
DTSTAMP:20260422T124726
CREATED:20240130T214243Z
LAST-MODIFIED:20240130T220502Z
UID:10001586-1706725800-1706736600@linkchurch.org
SUMMARY:Youth Bible Study
DESCRIPTION:Bible study/games/worship/small groups.  Youth is for grades 7-12\, For more info contact Pastor Josh at josh@linkchurch.org.  Make sure you are following the youth social media pages for more info and for any last-minute changes
URL:https://linkchurch.org/event/youth-bible-study-24-2/2024-01-31/
LOCATION:The Link Church\, 1714 Saamis Dr NW\, Medicine Hat\, Alberta\, T1C1W7\, Canada
CATEGORIES:Link Youth
ATTACH;FMTTYPE=image/png:https://linkchurch.org/wordpress/wp-content/uploads/2023/12/youth.png
END:VEVENT
BEGIN:VEVENT
DTSTART;TZID=America/Edmonton:20240126T190000
DTEND;TZID=America/Edmonton:20240126T220000
DTSTAMP:20260422T124726
CREATED:20240117T194851Z
LAST-MODIFIED:20240117T195020Z
UID:10001940-1706295600-1706306400@linkchurch.org
SUMMARY:City Wide Youth Night
DESCRIPTION:YXH City-wide youth night.  Location TBA.  Any questions contact Pastor Josh\, josh@linkchurch.org
URL:https://linkchurch.org/event/city-wide-youth-night-9/
LOCATION:Alberta
CATEGORIES:Link Youth
ATTACH;FMTTYPE=image/png:https://linkchurch.org/wordpress/wp-content/uploads/2023/09/City-wide-1.png
END:VEVENT
BEGIN:VEVENT
DTSTART;TZID=America/Edmonton:20240124T183000
DTEND;TZID=America/Edmonton:20240124T213000
DTSTAMP:20260422T124726
CREATED:20231212T191825Z
LAST-MODIFIED:20231221T214046Z
UID:10001585-1706121000-1706131800@linkchurch.org
SUMMARY:Youth Bible Study
DESCRIPTION:Bible study/games/worship/small groups.  Youth is for grades 7-12\, For more info contact Pastor Josh at josh@linkchurch.org.  Make sure you are following the youth social media pages for more info and for any last-minute changes
URL:https://linkchurch.org/event/youth-bible-study-24/2024-01-24/
LOCATION:The Link Church\, 1714 Saamis Dr NW\, Medicine Hat\, Alberta\, T1C1W7\, Canada
CATEGORIES:Link Youth
ATTACH;FMTTYPE=image/png:https://linkchurch.org/wordpress/wp-content/uploads/2023/12/youth.png
END:VEVENT
BEGIN:VEVENT
DTSTART;TZID=America/Edmonton:20240117T183000
DTEND;TZID=America/Edmonton:20240117T213000
DTSTAMP:20260422T124726
CREATED:20231212T191825Z
LAST-MODIFIED:20231221T214046Z
UID:10001584-1705516200-1705527000@linkchurch.org
SUMMARY:Youth Bible Study
DESCRIPTION:Bible study/games/worship/small groups.  Youth is for grades 7-12\, For more info contact Pastor Josh at josh@linkchurch.org.  Make sure you are following the youth social media pages for more info and for any last-minute changes
URL:https://linkchurch.org/event/youth-bible-study-24/2024-01-17/
LOCATION:The Link Church\, 1714 Saamis Dr NW\, Medicine Hat\, Alberta\, T1C1W7\, Canada
CATEGORIES:Link Youth
ATTACH;FMTTYPE=image/png:https://linkchurch.org/wordpress/wp-content/uploads/2023/12/youth.png
END:VEVENT
BEGIN:VEVENT
DTSTART;TZID=America/Edmonton:20240110T183000
DTEND;TZID=America/Edmonton:20240110T213000
DTSTAMP:20260422T124726
CREATED:20231212T191825Z
LAST-MODIFIED:20231221T214046Z
UID:10001545-1704911400-1704922200@linkchurch.org
SUMMARY:Youth Bible Study
DESCRIPTION:Bible study/games/worship/small groups.  Youth is for grades 7-12\, For more info contact Pastor Josh at josh@linkchurch.org.  Make sure you are following the youth social media pages for more info and for any last-minute changes
URL:https://linkchurch.org/event/youth-bible-study-24/2024-01-10/
LOCATION:The Link Church\, 1714 Saamis Dr NW\, Medicine Hat\, Alberta\, T1C1W7\, Canada
CATEGORIES:Link Youth
ATTACH;FMTTYPE=image/png:https://linkchurch.org/wordpress/wp-content/uploads/2023/12/youth.png
END:VEVENT
BEGIN:VEVENT
DTSTART;TZID=America/Edmonton:20231220T183000
DTEND;TZID=America/Edmonton:20231220T213000
DTSTAMP:20260422T124726
CREATED:20230830T202131Z
LAST-MODIFIED:20231221T193143Z
UID:10001342-1703097000-1703107800@linkchurch.org
SUMMARY:Youth Bible Study
DESCRIPTION:Bible study/games/worship/small groups.  Youth is for grades 7-12\, For more info contact Pastor Josh at josh@linkchurch.org.  Make sure you are following the youth social media pages for more info and for any last-minute changes
URL:https://linkchurch.org/event/youth-bible-study-23/2023-12-20/
LOCATION:The Link Church\, 1714 Saamis Dr NW\, Medicine Hat\, Alberta\, T1C1W7\, Canada
CATEGORIES:Link Youth
ATTACH;FMTTYPE=image/png:https://linkchurch.org/wordpress/wp-content/uploads/2022/06/youth.png
END:VEVENT
BEGIN:VEVENT
DTSTART;TZID=America/Edmonton:20231220T180000
DTEND;TZID=America/Edmonton:20231220T200000
DTSTAMP:20260422T124726
CREATED:20231212T182708Z
LAST-MODIFIED:20231212T182709Z
UID:10001543-1703095200-1703102400@linkchurch.org
SUMMARY:Youth Semi Formal Christmas Potluck
DESCRIPTION:Bring your Fav Christmas Dishes! \n\nGrade 7&8 – Dessert\nGrade 9-10 – Appetizers\nGrade 11-12 – Main Dish\n\nYou do not have to dress semi-formal\, but you are invited to dress nice if you want. \nThis is the last youth group for the year.  Youth will begin again on January 10\, 2024 \nContact josh@linkchurch.org for more info
URL:https://linkchurch.org/event/youth-semi-formal-christmas-potluck/
LOCATION:The Link Church\, 1714 Saamis Dr NW\, Medicine Hat\, Alberta\, T1C1W7\, Canada
CATEGORIES:Link Youth
ATTACH;FMTTYPE=image/png:https://linkchurch.org/wordpress/wp-content/uploads/2023/12/Social-Bunco-Night-2.png
END:VEVENT
BEGIN:VEVENT
DTSTART;TZID=America/Edmonton:20231215T190000
DTEND;TZID=America/Edmonton:20231215T210000
DTSTAMP:20260422T124726
CREATED:20231212T181823Z
LAST-MODIFIED:20231212T181823Z
UID:10001542-1702666800-1702674000@linkchurch.org
SUMMARY:Youth Bunco Night
DESCRIPTION:Youth is for grades 7-12.  Contact Pastor Josh for more info at josh@linkchurch.org
URL:https://linkchurch.org/event/youth-bunco-night-3/
LOCATION:The Link Church\, 1714 Saamis Dr NW\, Medicine Hat\, Alberta\, T1C1W7\, Canada
CATEGORIES:Link Youth
ATTACH;FMTTYPE=image/png:https://linkchurch.org/wordpress/wp-content/uploads/2023/12/Social-Bunco-Night-1.png
END:VEVENT
BEGIN:VEVENT
DTSTART;TZID=America/Edmonton:20231213T183000
DTEND;TZID=America/Edmonton:20231213T213000
DTSTAMP:20260422T124726
CREATED:20230830T202131Z
LAST-MODIFIED:20231221T193143Z
UID:10001341-1702492200-1702503000@linkchurch.org
SUMMARY:Youth Bible Study
DESCRIPTION:Bible study/games/worship/small groups.  Youth is for grades 7-12\, For more info contact Pastor Josh at josh@linkchurch.org.  Make sure you are following the youth social media pages for more info and for any last-minute changes
URL:https://linkchurch.org/event/youth-bible-study-23/2023-12-13/
LOCATION:The Link Church\, 1714 Saamis Dr NW\, Medicine Hat\, Alberta\, T1C1W7\, Canada
CATEGORIES:Link Youth
ATTACH;FMTTYPE=image/png:https://linkchurch.org/wordpress/wp-content/uploads/2022/06/youth.png
END:VEVENT
BEGIN:VEVENT
DTSTART;TZID=America/Edmonton:20231206T183000
DTEND;TZID=America/Edmonton:20231206T213000
DTSTAMP:20260422T124726
CREATED:20230830T202131Z
LAST-MODIFIED:20231221T193143Z
UID:10001340-1701887400-1701898200@linkchurch.org
SUMMARY:Youth Bible Study
DESCRIPTION:Bible study/games/worship/small groups.  Youth is for grades 7-12\, For more info contact Pastor Josh at josh@linkchurch.org.  Make sure you are following the youth social media pages for more info and for any last-minute changes
URL:https://linkchurch.org/event/youth-bible-study-23/2023-12-06/
LOCATION:The Link Church\, 1714 Saamis Dr NW\, Medicine Hat\, Alberta\, T1C1W7\, Canada
CATEGORIES:Link Youth
ATTACH;FMTTYPE=image/png:https://linkchurch.org/wordpress/wp-content/uploads/2022/06/youth.png
END:VEVENT
BEGIN:VEVENT
DTSTART;TZID=America/Edmonton:20231129T183000
DTEND;TZID=America/Edmonton:20231129T213000
DTSTAMP:20260422T124726
CREATED:20230830T202131Z
LAST-MODIFIED:20231221T193143Z
UID:10001339-1701282600-1701293400@linkchurch.org
SUMMARY:Youth Bible Study
DESCRIPTION:Bible study/games/worship/small groups.  Youth is for grades 7-12\, For more info contact Pastor Josh at josh@linkchurch.org.  Make sure you are following the youth social media pages for more info and for any last-minute changes
URL:https://linkchurch.org/event/youth-bible-study-23/2023-11-29/
LOCATION:The Link Church\, 1714 Saamis Dr NW\, Medicine Hat\, Alberta\, T1C1W7\, Canada
CATEGORIES:Link Youth
ATTACH;FMTTYPE=image/png:https://linkchurch.org/wordpress/wp-content/uploads/2022/06/youth.png
END:VEVENT
BEGIN:VEVENT
DTSTART;TZID=America/Edmonton:20231125T190000
DTEND;TZID=America/Edmonton:20231125T220000
DTSTAMP:20260422T124726
CREATED:20231026T180737Z
LAST-MODIFIED:20231026T180738Z
UID:10001529-1700938800-1700949600@linkchurch.org
SUMMARY:City Wide Youth Night
DESCRIPTION:Tonight the youth are meeting for City Wide youth night from 7:00-10:00pm here at the Link! \nYouth is for kids in grades 7-12.  Contact Pastor Josh for more info at josh@linkchurch.org
URL:https://linkchurch.org/event/city-wide-youth-night-8/
LOCATION:The Link Church\, 1714 Saamis Dr NW\, Medicine Hat\, Alberta\, T1C1W7\, Canada
CATEGORIES:Link Youth
ATTACH;FMTTYPE=image/png:https://linkchurch.org/wordpress/wp-content/uploads/2023/10/City-wide-1-1.png
END:VEVENT
BEGIN:VEVENT
DTSTART;TZID=America/Edmonton:20231122T183000
DTEND;TZID=America/Edmonton:20231122T213000
DTSTAMP:20260422T124726
CREATED:20230830T202131Z
LAST-MODIFIED:20231221T193143Z
UID:10001338-1700677800-1700688600@linkchurch.org
SUMMARY:Youth Bible Study
DESCRIPTION:Bible study/games/worship/small groups.  Youth is for grades 7-12\, For more info contact Pastor Josh at josh@linkchurch.org.  Make sure you are following the youth social media pages for more info and for any last-minute changes
URL:https://linkchurch.org/event/youth-bible-study-23/2023-11-22/
LOCATION:The Link Church\, 1714 Saamis Dr NW\, Medicine Hat\, Alberta\, T1C1W7\, Canada
CATEGORIES:Link Youth
ATTACH;FMTTYPE=image/png:https://linkchurch.org/wordpress/wp-content/uploads/2022/06/youth.png
END:VEVENT
BEGIN:VEVENT
DTSTART;TZID=America/Edmonton:20231117T190000
DTEND;TZID=America/Edmonton:20231117T210000
DTSTAMP:20260422T124726
CREATED:20231026T181121Z
LAST-MODIFIED:20231026T181121Z
UID:10001530-1700247600-1700254800@linkchurch.org
SUMMARY:Youth Group
DESCRIPTION:Fun event night at the Link.  Youth is for grade 7-12\, contact Pastor Josh for more info at josh@linkchurch.org and make sure you are following the youth social media pages for more info and for any last-minute changes
URL:https://linkchurch.org/event/youth-group-11/
LOCATION:The Link Church\, 1714 Saamis Dr NW\, Medicine Hat\, Alberta\, T1C1W7\, Canada
CATEGORIES:Link Youth
ATTACH;FMTTYPE=image/png:https://linkchurch.org/wordpress/wp-content/uploads/2022/06/youth.png
END:VEVENT
BEGIN:VEVENT
DTSTART;TZID=America/Edmonton:20231115T183000
DTEND;TZID=America/Edmonton:20231115T213000
DTSTAMP:20260422T124726
CREATED:20230830T202131Z
LAST-MODIFIED:20231221T193143Z
UID:10001337-1700073000-1700083800@linkchurch.org
SUMMARY:Youth Bible Study
DESCRIPTION:Bible study/games/worship/small groups.  Youth is for grades 7-12\, For more info contact Pastor Josh at josh@linkchurch.org.  Make sure you are following the youth social media pages for more info and for any last-minute changes
URL:https://linkchurch.org/event/youth-bible-study-23/2023-11-15/
LOCATION:The Link Church\, 1714 Saamis Dr NW\, Medicine Hat\, Alberta\, T1C1W7\, Canada
CATEGORIES:Link Youth
ATTACH;FMTTYPE=image/png:https://linkchurch.org/wordpress/wp-content/uploads/2022/06/youth.png
END:VEVENT
BEGIN:VEVENT
DTSTART;TZID=America/Edmonton:20231108T183000
DTEND;TZID=America/Edmonton:20231108T213000
DTSTAMP:20260422T124726
CREATED:20230830T202131Z
LAST-MODIFIED:20231221T193143Z
UID:10001336-1699468200-1699479000@linkchurch.org
SUMMARY:Youth Bible Study
DESCRIPTION:Bible study/games/worship/small groups.  Youth is for grades 7-12\, For more info contact Pastor Josh at josh@linkchurch.org.  Make sure you are following the youth social media pages for more info and for any last-minute changes
URL:https://linkchurch.org/event/youth-bible-study-23/2023-11-08/
LOCATION:The Link Church\, 1714 Saamis Dr NW\, Medicine Hat\, Alberta\, T1C1W7\, Canada
CATEGORIES:Link Youth
ATTACH;FMTTYPE=image/png:https://linkchurch.org/wordpress/wp-content/uploads/2022/06/youth.png
END:VEVENT
BEGIN:VEVENT
DTSTART;TZID=America/Edmonton:20231101T190000
DTEND;TZID=America/Edmonton:20231101T210000
DTSTAMP:20260422T124726
CREATED:20231026T175647Z
LAST-MODIFIED:20231026T175647Z
UID:10001524-1698865200-1698872400@linkchurch.org
SUMMARY:Youth Home Groups
DESCRIPTION:Youth are meeting in their home groups tonight\, do not come to the Link-go straight to your home group!  The list of home group locations can be found in the foyer or contact Pastor Josh at josh@linkchurch.org
URL:https://linkchurch.org/event/youth-home-groups-8/
LOCATION:Alberta
CATEGORIES:Link Youth
ATTACH;FMTTYPE=image/jpeg:https://linkchurch.org/wordpress/wp-content/uploads/2022/09/Home-groups.jpg
END:VEVENT
BEGIN:VEVENT
DTSTART;TZID=America/Edmonton:20231101T183000
DTEND;TZID=America/Edmonton:20231101T213000
DTSTAMP:20260422T124726
CREATED:20230830T202131Z
LAST-MODIFIED:20231221T193143Z
UID:10001335-1698863400-1698874200@linkchurch.org
SUMMARY:Youth Bible Study
DESCRIPTION:Bible study/games/worship/small groups.  Youth is for grades 7-12\, For more info contact Pastor Josh at josh@linkchurch.org.  Make sure you are following the youth social media pages for more info and for any last-minute changes
URL:https://linkchurch.org/event/youth-bible-study-23/2023-11-01/
LOCATION:The Link Church\, 1714 Saamis Dr NW\, Medicine Hat\, Alberta\, T1C1W7\, Canada
CATEGORIES:Link Youth
ATTACH;FMTTYPE=image/png:https://linkchurch.org/wordpress/wp-content/uploads/2022/06/youth.png
END:VEVENT
BEGIN:VEVENT
DTSTART;TZID=America/Edmonton:20231025T183000
DTEND;TZID=America/Edmonton:20231025T213000
DTSTAMP:20260422T124726
CREATED:20230830T202131Z
LAST-MODIFIED:20231221T193143Z
UID:10001334-1698258600-1698269400@linkchurch.org
SUMMARY:Youth Bible Study
DESCRIPTION:Bible study/games/worship/small groups.  Youth is for grades 7-12\, For more info contact Pastor Josh at josh@linkchurch.org.  Make sure you are following the youth social media pages for more info and for any last-minute changes
URL:https://linkchurch.org/event/youth-bible-study-23/2023-10-25/
LOCATION:The Link Church\, 1714 Saamis Dr NW\, Medicine Hat\, Alberta\, T1C1W7\, Canada
CATEGORIES:Link Youth
ATTACH;FMTTYPE=image/png:https://linkchurch.org/wordpress/wp-content/uploads/2022/06/youth.png
END:VEVENT
BEGIN:VEVENT
DTSTART;TZID=America/Edmonton:20231018T183000
DTEND;TZID=America/Edmonton:20231018T213000
DTSTAMP:20260422T124726
CREATED:20230830T202131Z
LAST-MODIFIED:20231221T193143Z
UID:10001333-1697653800-1697664600@linkchurch.org
SUMMARY:Youth Bible Study
DESCRIPTION:Bible study/games/worship/small groups.  Youth is for grades 7-12\, For more info contact Pastor Josh at josh@linkchurch.org.  Make sure you are following the youth social media pages for more info and for any last-minute changes
URL:https://linkchurch.org/event/youth-bible-study-23/2023-10-18/
LOCATION:The Link Church\, 1714 Saamis Dr NW\, Medicine Hat\, Alberta\, T1C1W7\, Canada
CATEGORIES:Link Youth
ATTACH;FMTTYPE=image/png:https://linkchurch.org/wordpress/wp-content/uploads/2022/06/youth.png
END:VEVENT
BEGIN:VEVENT
DTSTART;TZID=America/Edmonton:20231013T180000
DTEND;TZID=America/Edmonton:20231015T140000
DTSTAMP:20260422T124726
CREATED:20230926T174803Z
LAST-MODIFIED:20230926T174838Z
UID:10001443-1697220000-1697378400@linkchurch.org
SUMMARY:Fall Youth Retreat
DESCRIPTION:All youth in grades 7-12 are welcome to come out to the Fall Youth Retreat at Whispering Pines camp.  Details on how to register are found in the foyer on the Link Youth info cards. \nFor more info contact Pastor Josh at josh@linkchurch.org
URL:https://linkchurch.org/event/fall-youth-retreat/
LOCATION:Whispering Pines Camp\, Range Rd 25\, Elkwater\, Alberta\, T0J 1C0
CATEGORIES:Link Youth
ATTACH;FMTTYPE=image/png:https://linkchurch.org/wordpress/wp-content/uploads/2023/09/YOUTH-1.png
END:VEVENT
BEGIN:VEVENT
DTSTART;TZID=America/Edmonton:20231011T183000
DTEND;TZID=America/Edmonton:20231011T213000
DTSTAMP:20260422T124726
CREATED:20230830T202131Z
LAST-MODIFIED:20231221T193143Z
UID:10001332-1697049000-1697059800@linkchurch.org
SUMMARY:Youth Bible Study
DESCRIPTION:Bible study/games/worship/small groups.  Youth is for grades 7-12\, For more info contact Pastor Josh at josh@linkchurch.org.  Make sure you are following the youth social media pages for more info and for any last-minute changes
URL:https://linkchurch.org/event/youth-bible-study-23/2023-10-11/
LOCATION:The Link Church\, 1714 Saamis Dr NW\, Medicine Hat\, Alberta\, T1C1W7\, Canada
CATEGORIES:Link Youth
ATTACH;FMTTYPE=image/png:https://linkchurch.org/wordpress/wp-content/uploads/2022/06/youth.png
END:VEVENT
BEGIN:VEVENT
DTSTART;TZID=America/Edmonton:20231004T190000
DTEND;TZID=America/Edmonton:20231004T210000
DTSTAMP:20260422T124726
CREATED:20230830T202344Z
LAST-MODIFIED:20230830T202345Z
UID:10001388-1696446000-1696453200@linkchurch.org
SUMMARY:Youth Home Groups
DESCRIPTION:Youth are meeting in their home groups tonight\, do not come to the Link-go straight to your home group!  The list of home group locations can be found in the foyer or contact Pastor Josh at josh@linkchurch.org
URL:https://linkchurch.org/event/youth-home-groups-7/
LOCATION:The Link Church\, 1714 Saamis Dr NW\, Medicine Hat\, Alberta\, T1C1W7\, Canada
CATEGORIES:Link Youth
ATTACH;FMTTYPE=image/jpeg:https://linkchurch.org/wordpress/wp-content/uploads/2022/09/Home-groups.jpg
END:VEVENT
END:VCALENDAR