BEGIN:VCALENDAR
VERSION:2.0
PRODID:-//The Link Christian Fellowship - ECPv6.15.20//NONSGML v1.0//EN
CALSCALE:GREGORIAN
METHOD:PUBLISH
X-WR-CALNAME:The Link Christian Fellowship
X-ORIGINAL-URL:https://linkchurch.org
X-WR-CALDESC:Events for The Link Christian Fellowship
REFRESH-INTERVAL;VALUE=DURATION:PT1H
X-Robots-Tag:noindex
X-PUBLISHED-TTL:PT1H
BEGIN:VTIMEZONE
TZID:America/Edmonton
BEGIN:DAYLIGHT
TZOFFSETFROM:-0700
TZOFFSETTO:-0600
TZNAME:MDT
DTSTART:20260308T090000
END:DAYLIGHT
BEGIN:STANDARD
TZOFFSETFROM:-0600
TZOFFSETTO:-0700
TZNAME:MST
DTSTART:20261101T080000
END:STANDARD
BEGIN:DAYLIGHT
TZOFFSETFROM:-0700
TZOFFSETTO:-0600
TZNAME:MDT
DTSTART:20270314T090000
END:DAYLIGHT
BEGIN:STANDARD
TZOFFSETFROM:-0600
TZOFFSETTO:-0700
TZNAME:MST
DTSTART:20271107T080000
END:STANDARD
BEGIN:DAYLIGHT
TZOFFSETFROM:-0700
TZOFFSETTO:-0600
TZNAME:MDT
DTSTART:20280312T090000
END:DAYLIGHT
BEGIN:STANDARD
TZOFFSETFROM:-0600
TZOFFSETTO:-0700
TZNAME:MST
DTSTART:20281105T080000
END:STANDARD
END:VTIMEZONE
BEGIN:VEVENT
DTSTART;TZID=America/Edmonton:20270505T183000
DTEND;TZID=America/Edmonton:20270505T203000
DTSTAMP:20260421T190944
CREATED:20251001T191955Z
LAST-MODIFIED:20251001T191955Z
UID:10003489-1809541800-1809549000@linkchurch.org
SUMMARY:Revelation Study
DESCRIPTION:Revelation is about His heart\, and our heart. It’s about Jesus Christ\, the “man” behind the “plan”. It’s about the deepest of lengths He will go for that one\, last\, lost sheep.He’s Holy\, loving\, righteous\, and tremendously merciful. He’s also the Bridegroom\, Judge and King. Revelation can be understood. \n\nStudy runs every Wednesday evening.  This group is currently not taking any new registrations. \nGroup is lead by Roger and Lynne Sabourin
URL:https://linkchurch.org/event/revelation-study/2027-05-05/
LOCATION:The Link Church\, 1714 Saamis Dr NW\, Medicine Hat\, Alberta\, T1C1W7\, Canada
CATEGORIES:Bible Studies
ATTACH;FMTTYPE=image/jpeg:https://linkchurch.org/wordpress/wp-content/uploads/2024/08/transform.jpeg
END:VEVENT
BEGIN:VEVENT
DTSTART;TZID=America/Edmonton:20270509T090000
DTEND;TZID=America/Edmonton:20270509T103000
DTSTAMP:20260421T190944
CREATED:20251218T170102Z
LAST-MODIFIED:20251218T170102Z
UID:10003601-1809853200-1809858600@linkchurch.org
SUMMARY:Sunday Morning Worship Service - 1st Service
DESCRIPTION:Come and join us for our Sunday Morning worship service at 9:00 AM every Sunday. \nLive stream is also available for the 9:00 AM service: http://www.facebook.com/linkchurchmedhat/live/ \nWe are located at 1714 Saamis Dr. NW. \nPlease contact info@linkchurch.org if you have any questions
URL:https://linkchurch.org/event/sunday-morning-worship-service-1st-service/2027-05-09/
LOCATION:The Link Church\, 1714 Saamis Dr NW\, Medicine Hat\, Alberta\, T1C1W7\, Canada
CATEGORIES:Worship Services
ATTACH;FMTTYPE=image/png:https://linkchurch.org/wordpress/wp-content/uploads/2024/08/this-sunday.png
END:VEVENT
BEGIN:VEVENT
DTSTART;TZID=America/Edmonton:20270509T110000
DTEND;TZID=America/Edmonton:20270509T123000
DTSTAMP:20260421T190944
CREATED:20251218T170349Z
LAST-MODIFIED:20251218T170349Z
UID:10003859-1809860400-1809865800@linkchurch.org
SUMMARY:Sunday Morning Worship Service - 2nd Service
DESCRIPTION:Come and join us for our Sunday Morning worship service at 11:00 AM every Sunday. \nThere is no Livestream for the 11:00 AM service \nWe are located at 1714 Saamis Dr. NW. \nPlease contact info@linkchurch.org if you have any questions
URL:https://linkchurch.org/event/sunday-morning-worship-service-2nd-service/2027-05-09/
LOCATION:The Link Church\, 1714 Saamis Dr NW\, Medicine Hat\, Alberta\, T1C1W7\, Canada
CATEGORIES:Worship Services
ATTACH;FMTTYPE=image/png:https://linkchurch.org/wordpress/wp-content/uploads/2024/08/this-sunday-copy.png
END:VEVENT
BEGIN:VEVENT
DTSTART;TZID=America/Edmonton:20270510T190000
DTEND;TZID=America/Edmonton:20270510T210000
DTSTAMP:20260421T190944
CREATED:20260104T010808Z
LAST-MODIFIED:20260210T180354Z
UID:10004125-1809975600-1809982800@linkchurch.org
SUMMARY:Men's Ministry
DESCRIPTION:
URL:https://linkchurch.org/event/mens-ministry-3/2027-05-10/
LOCATION:The Link Church\, 1714 Saamis Dr NW\, Medicine Hat\, Alberta\, T1C1W7\, Canada
CATEGORIES:Men's Ministry
ATTACH;FMTTYPE=image/jpeg:https://linkchurch.org/wordpress/wp-content/uploads/2026/01/mens-ministry-2.jpg
END:VEVENT
BEGIN:VEVENT
DTSTART;TZID=America/Edmonton:20270511T190000
DTEND;TZID=America/Edmonton:20270511T213000
DTSTAMP:20260421T190944
CREATED:20260106T204751Z
LAST-MODIFIED:20260106T204842Z
UID:10004544-1810062000-1810071000@linkchurch.org
SUMMARY:Young Adults
DESCRIPTION:The Link Young Adults group would like to invite anyone ages 18-30ish to join! \nYoung Adults runs on Tuesday evenings at 7:00pm at the Link Church
URL:https://linkchurch.org/event/young-adults-9/2027-05-11/
LOCATION:The Link Church\, 1714 Saamis Dr NW\, Medicine Hat\, Alberta\, T1C1W7\, Canada
CATEGORIES:Young Adults
ATTACH;FMTTYPE=image/jpeg:https://linkchurch.org/wordpress/wp-content/uploads/2024/12/Young-Adults.jpg
END:VEVENT
BEGIN:VEVENT
DTSTART;TZID=America/Edmonton:20270516T090000
DTEND;TZID=America/Edmonton:20270516T103000
DTSTAMP:20260421T190944
CREATED:20251218T170102Z
LAST-MODIFIED:20251218T170102Z
UID:10003602-1810458000-1810463400@linkchurch.org
SUMMARY:Sunday Morning Worship Service - 1st Service
DESCRIPTION:Come and join us for our Sunday Morning worship service at 9:00 AM every Sunday. \nLive stream is also available for the 9:00 AM service: http://www.facebook.com/linkchurchmedhat/live/ \nWe are located at 1714 Saamis Dr. NW. \nPlease contact info@linkchurch.org if you have any questions
URL:https://linkchurch.org/event/sunday-morning-worship-service-1st-service/2027-05-16/
LOCATION:The Link Church\, 1714 Saamis Dr NW\, Medicine Hat\, Alberta\, T1C1W7\, Canada
CATEGORIES:Worship Services
ATTACH;FMTTYPE=image/png:https://linkchurch.org/wordpress/wp-content/uploads/2024/08/this-sunday.png
END:VEVENT
BEGIN:VEVENT
DTSTART;TZID=America/Edmonton:20270516T110000
DTEND;TZID=America/Edmonton:20270516T123000
DTSTAMP:20260421T190944
CREATED:20251218T170349Z
LAST-MODIFIED:20251218T170349Z
UID:10003860-1810465200-1810470600@linkchurch.org
SUMMARY:Sunday Morning Worship Service - 2nd Service
DESCRIPTION:Come and join us for our Sunday Morning worship service at 11:00 AM every Sunday. \nThere is no Livestream for the 11:00 AM service \nWe are located at 1714 Saamis Dr. NW. \nPlease contact info@linkchurch.org if you have any questions
URL:https://linkchurch.org/event/sunday-morning-worship-service-2nd-service/2027-05-16/
LOCATION:The Link Church\, 1714 Saamis Dr NW\, Medicine Hat\, Alberta\, T1C1W7\, Canada
CATEGORIES:Worship Services
ATTACH;FMTTYPE=image/png:https://linkchurch.org/wordpress/wp-content/uploads/2024/08/this-sunday-copy.png
END:VEVENT
BEGIN:VEVENT
DTSTART;TZID=America/Edmonton:20270517T190000
DTEND;TZID=America/Edmonton:20270517T210000
DTSTAMP:20260421T190944
CREATED:20260104T010808Z
LAST-MODIFIED:20260210T180354Z
UID:10004126-1810580400-1810587600@linkchurch.org
SUMMARY:Men's Ministry
DESCRIPTION:
URL:https://linkchurch.org/event/mens-ministry-3/2027-05-17/
LOCATION:The Link Church\, 1714 Saamis Dr NW\, Medicine Hat\, Alberta\, T1C1W7\, Canada
CATEGORIES:Men's Ministry
ATTACH;FMTTYPE=image/jpeg:https://linkchurch.org/wordpress/wp-content/uploads/2026/01/mens-ministry-2.jpg
END:VEVENT
BEGIN:VEVENT
DTSTART;TZID=America/Edmonton:20270518T190000
DTEND;TZID=America/Edmonton:20270518T213000
DTSTAMP:20260421T190944
CREATED:20260106T204751Z
LAST-MODIFIED:20260106T204842Z
UID:10004545-1810666800-1810675800@linkchurch.org
SUMMARY:Young Adults
DESCRIPTION:The Link Young Adults group would like to invite anyone ages 18-30ish to join! \nYoung Adults runs on Tuesday evenings at 7:00pm at the Link Church
URL:https://linkchurch.org/event/young-adults-9/2027-05-18/
LOCATION:The Link Church\, 1714 Saamis Dr NW\, Medicine Hat\, Alberta\, T1C1W7\, Canada
CATEGORIES:Young Adults
ATTACH;FMTTYPE=image/jpeg:https://linkchurch.org/wordpress/wp-content/uploads/2024/12/Young-Adults.jpg
END:VEVENT
BEGIN:VEVENT
DTSTART;TZID=America/Edmonton:20270523T090000
DTEND;TZID=America/Edmonton:20270523T103000
DTSTAMP:20260421T190944
CREATED:20251218T170102Z
LAST-MODIFIED:20251218T170102Z
UID:10003603-1811062800-1811068200@linkchurch.org
SUMMARY:Sunday Morning Worship Service - 1st Service
DESCRIPTION:Come and join us for our Sunday Morning worship service at 9:00 AM every Sunday. \nLive stream is also available for the 9:00 AM service: http://www.facebook.com/linkchurchmedhat/live/ \nWe are located at 1714 Saamis Dr. NW. \nPlease contact info@linkchurch.org if you have any questions
URL:https://linkchurch.org/event/sunday-morning-worship-service-1st-service/2027-05-23/
LOCATION:The Link Church\, 1714 Saamis Dr NW\, Medicine Hat\, Alberta\, T1C1W7\, Canada
CATEGORIES:Worship Services
ATTACH;FMTTYPE=image/png:https://linkchurch.org/wordpress/wp-content/uploads/2024/08/this-sunday.png
END:VEVENT
BEGIN:VEVENT
DTSTART;TZID=America/Edmonton:20270523T110000
DTEND;TZID=America/Edmonton:20270523T123000
DTSTAMP:20260421T190944
CREATED:20251218T170349Z
LAST-MODIFIED:20251218T170349Z
UID:10003861-1811070000-1811075400@linkchurch.org
SUMMARY:Sunday Morning Worship Service - 2nd Service
DESCRIPTION:Come and join us for our Sunday Morning worship service at 11:00 AM every Sunday. \nThere is no Livestream for the 11:00 AM service \nWe are located at 1714 Saamis Dr. NW. \nPlease contact info@linkchurch.org if you have any questions
URL:https://linkchurch.org/event/sunday-morning-worship-service-2nd-service/2027-05-23/
LOCATION:The Link Church\, 1714 Saamis Dr NW\, Medicine Hat\, Alberta\, T1C1W7\, Canada
CATEGORIES:Worship Services
ATTACH;FMTTYPE=image/png:https://linkchurch.org/wordpress/wp-content/uploads/2024/08/this-sunday-copy.png
END:VEVENT
BEGIN:VEVENT
DTSTART;TZID=America/Edmonton:20270524T190000
DTEND;TZID=America/Edmonton:20270524T210000
DTSTAMP:20260421T190944
CREATED:20260104T010808Z
LAST-MODIFIED:20260210T180354Z
UID:10004127-1811185200-1811192400@linkchurch.org
SUMMARY:Men's Ministry
DESCRIPTION:
URL:https://linkchurch.org/event/mens-ministry-3/2027-05-24/
LOCATION:The Link Church\, 1714 Saamis Dr NW\, Medicine Hat\, Alberta\, T1C1W7\, Canada
CATEGORIES:Men's Ministry
ATTACH;FMTTYPE=image/jpeg:https://linkchurch.org/wordpress/wp-content/uploads/2026/01/mens-ministry-2.jpg
END:VEVENT
BEGIN:VEVENT
DTSTART;TZID=America/Edmonton:20270525T190000
DTEND;TZID=America/Edmonton:20270525T213000
DTSTAMP:20260421T190944
CREATED:20260106T204751Z
LAST-MODIFIED:20260106T204842Z
UID:10004546-1811271600-1811280600@linkchurch.org
SUMMARY:Young Adults
DESCRIPTION:The Link Young Adults group would like to invite anyone ages 18-30ish to join! \nYoung Adults runs on Tuesday evenings at 7:00pm at the Link Church
URL:https://linkchurch.org/event/young-adults-9/2027-05-25/
LOCATION:The Link Church\, 1714 Saamis Dr NW\, Medicine Hat\, Alberta\, T1C1W7\, Canada
CATEGORIES:Young Adults
ATTACH;FMTTYPE=image/jpeg:https://linkchurch.org/wordpress/wp-content/uploads/2024/12/Young-Adults.jpg
END:VEVENT
BEGIN:VEVENT
DTSTART;TZID=America/Edmonton:20270530T090000
DTEND;TZID=America/Edmonton:20270530T103000
DTSTAMP:20260421T190944
CREATED:20251218T170102Z
LAST-MODIFIED:20251218T170102Z
UID:10003604-1811667600-1811673000@linkchurch.org
SUMMARY:Sunday Morning Worship Service - 1st Service
DESCRIPTION:Come and join us for our Sunday Morning worship service at 9:00 AM every Sunday. \nLive stream is also available for the 9:00 AM service: http://www.facebook.com/linkchurchmedhat/live/ \nWe are located at 1714 Saamis Dr. NW. \nPlease contact info@linkchurch.org if you have any questions
URL:https://linkchurch.org/event/sunday-morning-worship-service-1st-service/2027-05-30/
LOCATION:The Link Church\, 1714 Saamis Dr NW\, Medicine Hat\, Alberta\, T1C1W7\, Canada
CATEGORIES:Worship Services
ATTACH;FMTTYPE=image/png:https://linkchurch.org/wordpress/wp-content/uploads/2024/08/this-sunday.png
END:VEVENT
BEGIN:VEVENT
DTSTART;TZID=America/Edmonton:20270530T110000
DTEND;TZID=America/Edmonton:20270530T123000
DTSTAMP:20260421T190944
CREATED:20251218T170349Z
LAST-MODIFIED:20251218T170349Z
UID:10003862-1811674800-1811680200@linkchurch.org
SUMMARY:Sunday Morning Worship Service - 2nd Service
DESCRIPTION:Come and join us for our Sunday Morning worship service at 11:00 AM every Sunday. \nThere is no Livestream for the 11:00 AM service \nWe are located at 1714 Saamis Dr. NW. \nPlease contact info@linkchurch.org if you have any questions
URL:https://linkchurch.org/event/sunday-morning-worship-service-2nd-service/2027-05-30/
LOCATION:The Link Church\, 1714 Saamis Dr NW\, Medicine Hat\, Alberta\, T1C1W7\, Canada
CATEGORIES:Worship Services
ATTACH;FMTTYPE=image/png:https://linkchurch.org/wordpress/wp-content/uploads/2024/08/this-sunday-copy.png
END:VEVENT
BEGIN:VEVENT
DTSTART;TZID=America/Edmonton:20270531T190000
DTEND;TZID=America/Edmonton:20270531T210000
DTSTAMP:20260421T190944
CREATED:20260104T010808Z
LAST-MODIFIED:20260210T180354Z
UID:10004128-1811790000-1811797200@linkchurch.org
SUMMARY:Men's Ministry
DESCRIPTION:
URL:https://linkchurch.org/event/mens-ministry-3/2027-05-31/
LOCATION:The Link Church\, 1714 Saamis Dr NW\, Medicine Hat\, Alberta\, T1C1W7\, Canada
CATEGORIES:Men's Ministry
ATTACH;FMTTYPE=image/jpeg:https://linkchurch.org/wordpress/wp-content/uploads/2026/01/mens-ministry-2.jpg
END:VEVENT
BEGIN:VEVENT
DTSTART;TZID=America/Edmonton:20270601T190000
DTEND;TZID=America/Edmonton:20270601T213000
DTSTAMP:20260421T190944
CREATED:20260106T204751Z
LAST-MODIFIED:20260106T204842Z
UID:10004547-1811876400-1811885400@linkchurch.org
SUMMARY:Young Adults
DESCRIPTION:The Link Young Adults group would like to invite anyone ages 18-30ish to join! \nYoung Adults runs on Tuesday evenings at 7:00pm at the Link Church
URL:https://linkchurch.org/event/young-adults-9/2027-06-01/
LOCATION:The Link Church\, 1714 Saamis Dr NW\, Medicine Hat\, Alberta\, T1C1W7\, Canada
CATEGORIES:Young Adults
ATTACH;FMTTYPE=image/jpeg:https://linkchurch.org/wordpress/wp-content/uploads/2024/12/Young-Adults.jpg
END:VEVENT
BEGIN:VEVENT
DTSTART;TZID=America/Edmonton:20270606T090000
DTEND;TZID=America/Edmonton:20270606T103000
DTSTAMP:20260421T190944
CREATED:20251218T170102Z
LAST-MODIFIED:20251218T170102Z
UID:10003605-1812272400-1812277800@linkchurch.org
SUMMARY:Sunday Morning Worship Service - 1st Service
DESCRIPTION:Come and join us for our Sunday Morning worship service at 9:00 AM every Sunday. \nLive stream is also available for the 9:00 AM service: http://www.facebook.com/linkchurchmedhat/live/ \nWe are located at 1714 Saamis Dr. NW. \nPlease contact info@linkchurch.org if you have any questions
URL:https://linkchurch.org/event/sunday-morning-worship-service-1st-service/2027-06-06/
LOCATION:The Link Church\, 1714 Saamis Dr NW\, Medicine Hat\, Alberta\, T1C1W7\, Canada
CATEGORIES:Worship Services
ATTACH;FMTTYPE=image/png:https://linkchurch.org/wordpress/wp-content/uploads/2024/08/this-sunday.png
END:VEVENT
BEGIN:VEVENT
DTSTART;TZID=America/Edmonton:20270606T110000
DTEND;TZID=America/Edmonton:20270606T123000
DTSTAMP:20260421T190944
CREATED:20251218T170349Z
LAST-MODIFIED:20251218T170349Z
UID:10003863-1812279600-1812285000@linkchurch.org
SUMMARY:Sunday Morning Worship Service - 2nd Service
DESCRIPTION:Come and join us for our Sunday Morning worship service at 11:00 AM every Sunday. \nThere is no Livestream for the 11:00 AM service \nWe are located at 1714 Saamis Dr. NW. \nPlease contact info@linkchurch.org if you have any questions
URL:https://linkchurch.org/event/sunday-morning-worship-service-2nd-service/2027-06-06/
LOCATION:The Link Church\, 1714 Saamis Dr NW\, Medicine Hat\, Alberta\, T1C1W7\, Canada
CATEGORIES:Worship Services
ATTACH;FMTTYPE=image/png:https://linkchurch.org/wordpress/wp-content/uploads/2024/08/this-sunday-copy.png
END:VEVENT
BEGIN:VEVENT
DTSTART;TZID=America/Edmonton:20270607T190000
DTEND;TZID=America/Edmonton:20270607T210000
DTSTAMP:20260421T190944
CREATED:20260104T010808Z
LAST-MODIFIED:20260210T180354Z
UID:10004129-1812394800-1812402000@linkchurch.org
SUMMARY:Men's Ministry
DESCRIPTION:
URL:https://linkchurch.org/event/mens-ministry-3/2027-06-07/
LOCATION:The Link Church\, 1714 Saamis Dr NW\, Medicine Hat\, Alberta\, T1C1W7\, Canada
CATEGORIES:Men's Ministry
ATTACH;FMTTYPE=image/jpeg:https://linkchurch.org/wordpress/wp-content/uploads/2026/01/mens-ministry-2.jpg
END:VEVENT
BEGIN:VEVENT
DTSTART;TZID=America/Edmonton:20270608T190000
DTEND;TZID=America/Edmonton:20270608T213000
DTSTAMP:20260421T190944
CREATED:20260106T204751Z
LAST-MODIFIED:20260106T204842Z
UID:10004548-1812481200-1812490200@linkchurch.org
SUMMARY:Young Adults
DESCRIPTION:The Link Young Adults group would like to invite anyone ages 18-30ish to join! \nYoung Adults runs on Tuesday evenings at 7:00pm at the Link Church
URL:https://linkchurch.org/event/young-adults-9/2027-06-08/
LOCATION:The Link Church\, 1714 Saamis Dr NW\, Medicine Hat\, Alberta\, T1C1W7\, Canada
CATEGORIES:Young Adults
ATTACH;FMTTYPE=image/jpeg:https://linkchurch.org/wordpress/wp-content/uploads/2024/12/Young-Adults.jpg
END:VEVENT
BEGIN:VEVENT
DTSTART;TZID=America/Edmonton:20270613T090000
DTEND;TZID=America/Edmonton:20270613T103000
DTSTAMP:20260421T190944
CREATED:20251218T170102Z
LAST-MODIFIED:20251218T170102Z
UID:10003606-1812877200-1812882600@linkchurch.org
SUMMARY:Sunday Morning Worship Service - 1st Service
DESCRIPTION:Come and join us for our Sunday Morning worship service at 9:00 AM every Sunday. \nLive stream is also available for the 9:00 AM service: http://www.facebook.com/linkchurchmedhat/live/ \nWe are located at 1714 Saamis Dr. NW. \nPlease contact info@linkchurch.org if you have any questions
URL:https://linkchurch.org/event/sunday-morning-worship-service-1st-service/2027-06-13/
LOCATION:The Link Church\, 1714 Saamis Dr NW\, Medicine Hat\, Alberta\, T1C1W7\, Canada
CATEGORIES:Worship Services
ATTACH;FMTTYPE=image/png:https://linkchurch.org/wordpress/wp-content/uploads/2024/08/this-sunday.png
END:VEVENT
BEGIN:VEVENT
DTSTART;TZID=America/Edmonton:20270613T110000
DTEND;TZID=America/Edmonton:20270613T123000
DTSTAMP:20260421T190944
CREATED:20251218T170349Z
LAST-MODIFIED:20251218T170349Z
UID:10003864-1812884400-1812889800@linkchurch.org
SUMMARY:Sunday Morning Worship Service - 2nd Service
DESCRIPTION:Come and join us for our Sunday Morning worship service at 11:00 AM every Sunday. \nThere is no Livestream for the 11:00 AM service \nWe are located at 1714 Saamis Dr. NW. \nPlease contact info@linkchurch.org if you have any questions
URL:https://linkchurch.org/event/sunday-morning-worship-service-2nd-service/2027-06-13/
LOCATION:The Link Church\, 1714 Saamis Dr NW\, Medicine Hat\, Alberta\, T1C1W7\, Canada
CATEGORIES:Worship Services
ATTACH;FMTTYPE=image/png:https://linkchurch.org/wordpress/wp-content/uploads/2024/08/this-sunday-copy.png
END:VEVENT
BEGIN:VEVENT
DTSTART;TZID=America/Edmonton:20270614T190000
DTEND;TZID=America/Edmonton:20270614T210000
DTSTAMP:20260421T190944
CREATED:20260104T010808Z
LAST-MODIFIED:20260210T180354Z
UID:10004130-1812999600-1813006800@linkchurch.org
SUMMARY:Men's Ministry
DESCRIPTION:
URL:https://linkchurch.org/event/mens-ministry-3/2027-06-14/
LOCATION:The Link Church\, 1714 Saamis Dr NW\, Medicine Hat\, Alberta\, T1C1W7\, Canada
CATEGORIES:Men's Ministry
ATTACH;FMTTYPE=image/jpeg:https://linkchurch.org/wordpress/wp-content/uploads/2026/01/mens-ministry-2.jpg
END:VEVENT
BEGIN:VEVENT
DTSTART;TZID=America/Edmonton:20270615T190000
DTEND;TZID=America/Edmonton:20270615T213000
DTSTAMP:20260421T190944
CREATED:20260106T204751Z
LAST-MODIFIED:20260106T204842Z
UID:10004549-1813086000-1813095000@linkchurch.org
SUMMARY:Young Adults
DESCRIPTION:The Link Young Adults group would like to invite anyone ages 18-30ish to join! \nYoung Adults runs on Tuesday evenings at 7:00pm at the Link Church
URL:https://linkchurch.org/event/young-adults-9/2027-06-15/
LOCATION:The Link Church\, 1714 Saamis Dr NW\, Medicine Hat\, Alberta\, T1C1W7\, Canada
CATEGORIES:Young Adults
ATTACH;FMTTYPE=image/jpeg:https://linkchurch.org/wordpress/wp-content/uploads/2024/12/Young-Adults.jpg
END:VEVENT
BEGIN:VEVENT
DTSTART;TZID=America/Edmonton:20270620T090000
DTEND;TZID=America/Edmonton:20270620T103000
DTSTAMP:20260421T190944
CREATED:20251218T170102Z
LAST-MODIFIED:20251218T170102Z
UID:10003607-1813482000-1813487400@linkchurch.org
SUMMARY:Sunday Morning Worship Service - 1st Service
DESCRIPTION:Come and join us for our Sunday Morning worship service at 9:00 AM every Sunday. \nLive stream is also available for the 9:00 AM service: http://www.facebook.com/linkchurchmedhat/live/ \nWe are located at 1714 Saamis Dr. NW. \nPlease contact info@linkchurch.org if you have any questions
URL:https://linkchurch.org/event/sunday-morning-worship-service-1st-service/2027-06-20/
LOCATION:The Link Church\, 1714 Saamis Dr NW\, Medicine Hat\, Alberta\, T1C1W7\, Canada
CATEGORIES:Worship Services
ATTACH;FMTTYPE=image/png:https://linkchurch.org/wordpress/wp-content/uploads/2024/08/this-sunday.png
END:VEVENT
BEGIN:VEVENT
DTSTART;TZID=America/Edmonton:20270620T110000
DTEND;TZID=America/Edmonton:20270620T123000
DTSTAMP:20260421T190944
CREATED:20251218T170349Z
LAST-MODIFIED:20251218T170349Z
UID:10003865-1813489200-1813494600@linkchurch.org
SUMMARY:Sunday Morning Worship Service - 2nd Service
DESCRIPTION:Come and join us for our Sunday Morning worship service at 11:00 AM every Sunday. \nThere is no Livestream for the 11:00 AM service \nWe are located at 1714 Saamis Dr. NW. \nPlease contact info@linkchurch.org if you have any questions
URL:https://linkchurch.org/event/sunday-morning-worship-service-2nd-service/2027-06-20/
LOCATION:The Link Church\, 1714 Saamis Dr NW\, Medicine Hat\, Alberta\, T1C1W7\, Canada
CATEGORIES:Worship Services
ATTACH;FMTTYPE=image/png:https://linkchurch.org/wordpress/wp-content/uploads/2024/08/this-sunday-copy.png
END:VEVENT
BEGIN:VEVENT
DTSTART;TZID=America/Edmonton:20270621T190000
DTEND;TZID=America/Edmonton:20270621T210000
DTSTAMP:20260421T190944
CREATED:20260104T010808Z
LAST-MODIFIED:20260210T180354Z
UID:10004131-1813604400-1813611600@linkchurch.org
SUMMARY:Men's Ministry
DESCRIPTION:
URL:https://linkchurch.org/event/mens-ministry-3/2027-06-21/
LOCATION:The Link Church\, 1714 Saamis Dr NW\, Medicine Hat\, Alberta\, T1C1W7\, Canada
CATEGORIES:Men's Ministry
ATTACH;FMTTYPE=image/jpeg:https://linkchurch.org/wordpress/wp-content/uploads/2026/01/mens-ministry-2.jpg
END:VEVENT
BEGIN:VEVENT
DTSTART;TZID=America/Edmonton:20270622T190000
DTEND;TZID=America/Edmonton:20270622T213000
DTSTAMP:20260421T190944
CREATED:20260106T204751Z
LAST-MODIFIED:20260106T204842Z
UID:10004550-1813690800-1813699800@linkchurch.org
SUMMARY:Young Adults
DESCRIPTION:The Link Young Adults group would like to invite anyone ages 18-30ish to join! \nYoung Adults runs on Tuesday evenings at 7:00pm at the Link Church
URL:https://linkchurch.org/event/young-adults-9/2027-06-22/
LOCATION:The Link Church\, 1714 Saamis Dr NW\, Medicine Hat\, Alberta\, T1C1W7\, Canada
CATEGORIES:Young Adults
ATTACH;FMTTYPE=image/jpeg:https://linkchurch.org/wordpress/wp-content/uploads/2024/12/Young-Adults.jpg
END:VEVENT
BEGIN:VEVENT
DTSTART;TZID=America/Edmonton:20270627T090000
DTEND;TZID=America/Edmonton:20270627T103000
DTSTAMP:20260421T190944
CREATED:20251218T170102Z
LAST-MODIFIED:20251218T170102Z
UID:10003608-1814086800-1814092200@linkchurch.org
SUMMARY:Sunday Morning Worship Service - 1st Service
DESCRIPTION:Come and join us for our Sunday Morning worship service at 9:00 AM every Sunday. \nLive stream is also available for the 9:00 AM service: http://www.facebook.com/linkchurchmedhat/live/ \nWe are located at 1714 Saamis Dr. NW. \nPlease contact info@linkchurch.org if you have any questions
URL:https://linkchurch.org/event/sunday-morning-worship-service-1st-service/2027-06-27/
LOCATION:The Link Church\, 1714 Saamis Dr NW\, Medicine Hat\, Alberta\, T1C1W7\, Canada
CATEGORIES:Worship Services
ATTACH;FMTTYPE=image/png:https://linkchurch.org/wordpress/wp-content/uploads/2024/08/this-sunday.png
END:VEVENT
END:VCALENDAR