BEGIN:VCALENDAR
VERSION:2.0
PRODID:-//The Link Christian Fellowship - ECPv6.15.20//NONSGML v1.0//EN
CALSCALE:GREGORIAN
METHOD:PUBLISH
X-ORIGINAL-URL:https://linkchurch.org
X-WR-CALDESC:Events for The Link Christian Fellowship
REFRESH-INTERVAL;VALUE=DURATION:PT1H
X-Robots-Tag:noindex
X-PUBLISHED-TTL:PT1H
BEGIN:VTIMEZONE
TZID:America/Edmonton
BEGIN:DAYLIGHT
TZOFFSETFROM:-0700
TZOFFSETTO:-0600
TZNAME:MDT
DTSTART:20270314T090000
END:DAYLIGHT
BEGIN:STANDARD
TZOFFSETFROM:-0600
TZOFFSETTO:-0700
TZNAME:MST
DTSTART:20271107T080000
END:STANDARD
BEGIN:DAYLIGHT
TZOFFSETFROM:-0700
TZOFFSETTO:-0600
TZNAME:MDT
DTSTART:20280312T090000
END:DAYLIGHT
BEGIN:STANDARD
TZOFFSETFROM:-0600
TZOFFSETTO:-0700
TZNAME:MST
DTSTART:20281105T080000
END:STANDARD
BEGIN:DAYLIGHT
TZOFFSETFROM:-0700
TZOFFSETTO:-0600
TZNAME:MDT
DTSTART:20290311T090000
END:DAYLIGHT
BEGIN:STANDARD
TZOFFSETFROM:-0600
TZOFFSETTO:-0700
TZNAME:MST
DTSTART:20291104T080000
END:STANDARD
END:VTIMEZONE
BEGIN:VEVENT
DTSTART;TZID=America/Edmonton:20280227T090000
DTEND;TZID=America/Edmonton:20280227T103000
DTSTAMP:20260424T074842
CREATED:20251218T170102Z
LAST-MODIFIED:20251218T170102Z
UID:10003643-1835254800-1835260200@linkchurch.org
SUMMARY:Sunday Morning Worship Service - 1st Service
DESCRIPTION:Come and join us for our Sunday Morning worship service at 9:00 AM every Sunday. \nLive stream is also available for the 9:00 AM service: http://www.facebook.com/linkchurchmedhat/live/ \nWe are located at 1714 Saamis Dr. NW. \nPlease contact info@linkchurch.org if you have any questions
URL:https://linkchurch.org/event/sunday-morning-worship-service-1st-service/2028-02-27/
LOCATION:The Link Church\, 1714 Saamis Dr NW\, Medicine Hat\, Alberta\, T1C1W7\, Canada
CATEGORIES:Worship Services
ATTACH;FMTTYPE=image/png:https://linkchurch.org/wordpress/wp-content/uploads/2024/08/this-sunday.png
END:VEVENT
BEGIN:VEVENT
DTSTART;TZID=America/Edmonton:20280227T110000
DTEND;TZID=America/Edmonton:20280227T123000
DTSTAMP:20260424T074842
CREATED:20251218T170349Z
LAST-MODIFIED:20251218T170349Z
UID:10003901-1835262000-1835267400@linkchurch.org
SUMMARY:Sunday Morning Worship Service - 2nd Service
DESCRIPTION:Come and join us for our Sunday Morning worship service at 11:00 AM every Sunday. \nThere is no Livestream for the 11:00 AM service \nWe are located at 1714 Saamis Dr. NW. \nPlease contact info@linkchurch.org if you have any questions
URL:https://linkchurch.org/event/sunday-morning-worship-service-2nd-service/2028-02-27/
LOCATION:The Link Church\, 1714 Saamis Dr NW\, Medicine Hat\, Alberta\, T1C1W7\, Canada
CATEGORIES:Worship Services
ATTACH;FMTTYPE=image/png:https://linkchurch.org/wordpress/wp-content/uploads/2024/08/this-sunday-copy.png
END:VEVENT
BEGIN:VEVENT
DTSTART;TZID=America/Edmonton:20280305T090000
DTEND;TZID=America/Edmonton:20280305T103000
DTSTAMP:20260424T074842
CREATED:20251218T170102Z
LAST-MODIFIED:20251218T170102Z
UID:10003644-1835859600-1835865000@linkchurch.org
SUMMARY:Sunday Morning Worship Service - 1st Service
DESCRIPTION:Come and join us for our Sunday Morning worship service at 9:00 AM every Sunday. \nLive stream is also available for the 9:00 AM service: http://www.facebook.com/linkchurchmedhat/live/ \nWe are located at 1714 Saamis Dr. NW. \nPlease contact info@linkchurch.org if you have any questions
URL:https://linkchurch.org/event/sunday-morning-worship-service-1st-service/2028-03-05/
LOCATION:The Link Church\, 1714 Saamis Dr NW\, Medicine Hat\, Alberta\, T1C1W7\, Canada
CATEGORIES:Worship Services
ATTACH;FMTTYPE=image/png:https://linkchurch.org/wordpress/wp-content/uploads/2024/08/this-sunday.png
END:VEVENT
BEGIN:VEVENT
DTSTART;TZID=America/Edmonton:20280305T110000
DTEND;TZID=America/Edmonton:20280305T123000
DTSTAMP:20260424T074842
CREATED:20251218T170349Z
LAST-MODIFIED:20251218T170349Z
UID:10003902-1835866800-1835872200@linkchurch.org
SUMMARY:Sunday Morning Worship Service - 2nd Service
DESCRIPTION:Come and join us for our Sunday Morning worship service at 11:00 AM every Sunday. \nThere is no Livestream for the 11:00 AM service \nWe are located at 1714 Saamis Dr. NW. \nPlease contact info@linkchurch.org if you have any questions
URL:https://linkchurch.org/event/sunday-morning-worship-service-2nd-service/2028-03-05/
LOCATION:The Link Church\, 1714 Saamis Dr NW\, Medicine Hat\, Alberta\, T1C1W7\, Canada
CATEGORIES:Worship Services
ATTACH;FMTTYPE=image/png:https://linkchurch.org/wordpress/wp-content/uploads/2024/08/this-sunday-copy.png
END:VEVENT
BEGIN:VEVENT
DTSTART;TZID=America/Edmonton:20280312T090000
DTEND;TZID=America/Edmonton:20280312T103000
DTSTAMP:20260424T074842
CREATED:20251218T170102Z
LAST-MODIFIED:20251218T170102Z
UID:10003645-1836464400-1836469800@linkchurch.org
SUMMARY:Sunday Morning Worship Service - 1st Service
DESCRIPTION:Come and join us for our Sunday Morning worship service at 9:00 AM every Sunday. \nLive stream is also available for the 9:00 AM service: http://www.facebook.com/linkchurchmedhat/live/ \nWe are located at 1714 Saamis Dr. NW. \nPlease contact info@linkchurch.org if you have any questions
URL:https://linkchurch.org/event/sunday-morning-worship-service-1st-service/2028-03-12/
LOCATION:The Link Church\, 1714 Saamis Dr NW\, Medicine Hat\, Alberta\, T1C1W7\, Canada
CATEGORIES:Worship Services
ATTACH;FMTTYPE=image/png:https://linkchurch.org/wordpress/wp-content/uploads/2024/08/this-sunday.png
END:VEVENT
BEGIN:VEVENT
DTSTART;TZID=America/Edmonton:20280312T110000
DTEND;TZID=America/Edmonton:20280312T123000
DTSTAMP:20260424T074842
CREATED:20251218T170349Z
LAST-MODIFIED:20251218T170349Z
UID:10003903-1836471600-1836477000@linkchurch.org
SUMMARY:Sunday Morning Worship Service - 2nd Service
DESCRIPTION:Come and join us for our Sunday Morning worship service at 11:00 AM every Sunday. \nThere is no Livestream for the 11:00 AM service \nWe are located at 1714 Saamis Dr. NW. \nPlease contact info@linkchurch.org if you have any questions
URL:https://linkchurch.org/event/sunday-morning-worship-service-2nd-service/2028-03-12/
LOCATION:The Link Church\, 1714 Saamis Dr NW\, Medicine Hat\, Alberta\, T1C1W7\, Canada
CATEGORIES:Worship Services
ATTACH;FMTTYPE=image/png:https://linkchurch.org/wordpress/wp-content/uploads/2024/08/this-sunday-copy.png
END:VEVENT
BEGIN:VEVENT
DTSTART;TZID=America/Edmonton:20280319T090000
DTEND;TZID=America/Edmonton:20280319T103000
DTSTAMP:20260424T074842
CREATED:20251218T170102Z
LAST-MODIFIED:20251218T170102Z
UID:10003646-1837069200-1837074600@linkchurch.org
SUMMARY:Sunday Morning Worship Service - 1st Service
DESCRIPTION:Come and join us for our Sunday Morning worship service at 9:00 AM every Sunday. \nLive stream is also available for the 9:00 AM service: http://www.facebook.com/linkchurchmedhat/live/ \nWe are located at 1714 Saamis Dr. NW. \nPlease contact info@linkchurch.org if you have any questions
URL:https://linkchurch.org/event/sunday-morning-worship-service-1st-service/2028-03-19/
LOCATION:The Link Church\, 1714 Saamis Dr NW\, Medicine Hat\, Alberta\, T1C1W7\, Canada
CATEGORIES:Worship Services
ATTACH;FMTTYPE=image/png:https://linkchurch.org/wordpress/wp-content/uploads/2024/08/this-sunday.png
END:VEVENT
BEGIN:VEVENT
DTSTART;TZID=America/Edmonton:20280319T110000
DTEND;TZID=America/Edmonton:20280319T123000
DTSTAMP:20260424T074842
CREATED:20251218T170349Z
LAST-MODIFIED:20251218T170349Z
UID:10003904-1837076400-1837081800@linkchurch.org
SUMMARY:Sunday Morning Worship Service - 2nd Service
DESCRIPTION:Come and join us for our Sunday Morning worship service at 11:00 AM every Sunday. \nThere is no Livestream for the 11:00 AM service \nWe are located at 1714 Saamis Dr. NW. \nPlease contact info@linkchurch.org if you have any questions
URL:https://linkchurch.org/event/sunday-morning-worship-service-2nd-service/2028-03-19/
LOCATION:The Link Church\, 1714 Saamis Dr NW\, Medicine Hat\, Alberta\, T1C1W7\, Canada
CATEGORIES:Worship Services
ATTACH;FMTTYPE=image/png:https://linkchurch.org/wordpress/wp-content/uploads/2024/08/this-sunday-copy.png
END:VEVENT
BEGIN:VEVENT
DTSTART;TZID=America/Edmonton:20280326T090000
DTEND;TZID=America/Edmonton:20280326T103000
DTSTAMP:20260424T074842
CREATED:20251218T170102Z
LAST-MODIFIED:20251218T170102Z
UID:10003647-1837674000-1837679400@linkchurch.org
SUMMARY:Sunday Morning Worship Service - 1st Service
DESCRIPTION:Come and join us for our Sunday Morning worship service at 9:00 AM every Sunday. \nLive stream is also available for the 9:00 AM service: http://www.facebook.com/linkchurchmedhat/live/ \nWe are located at 1714 Saamis Dr. NW. \nPlease contact info@linkchurch.org if you have any questions
URL:https://linkchurch.org/event/sunday-morning-worship-service-1st-service/2028-03-26/
LOCATION:The Link Church\, 1714 Saamis Dr NW\, Medicine Hat\, Alberta\, T1C1W7\, Canada
CATEGORIES:Worship Services
ATTACH;FMTTYPE=image/png:https://linkchurch.org/wordpress/wp-content/uploads/2024/08/this-sunday.png
END:VEVENT
BEGIN:VEVENT
DTSTART;TZID=America/Edmonton:20280326T110000
DTEND;TZID=America/Edmonton:20280326T123000
DTSTAMP:20260424T074842
CREATED:20251218T170349Z
LAST-MODIFIED:20251218T170349Z
UID:10003905-1837681200-1837686600@linkchurch.org
SUMMARY:Sunday Morning Worship Service - 2nd Service
DESCRIPTION:Come and join us for our Sunday Morning worship service at 11:00 AM every Sunday. \nThere is no Livestream for the 11:00 AM service \nWe are located at 1714 Saamis Dr. NW. \nPlease contact info@linkchurch.org if you have any questions
URL:https://linkchurch.org/event/sunday-morning-worship-service-2nd-service/2028-03-26/
LOCATION:The Link Church\, 1714 Saamis Dr NW\, Medicine Hat\, Alberta\, T1C1W7\, Canada
CATEGORIES:Worship Services
ATTACH;FMTTYPE=image/png:https://linkchurch.org/wordpress/wp-content/uploads/2024/08/this-sunday-copy.png
END:VEVENT
BEGIN:VEVENT
DTSTART;TZID=America/Edmonton:20280402T090000
DTEND;TZID=America/Edmonton:20280402T103000
DTSTAMP:20260424T074842
CREATED:20251218T170102Z
LAST-MODIFIED:20251218T170102Z
UID:10003648-1838278800-1838284200@linkchurch.org
SUMMARY:Sunday Morning Worship Service - 1st Service
DESCRIPTION:Come and join us for our Sunday Morning worship service at 9:00 AM every Sunday. \nLive stream is also available for the 9:00 AM service: http://www.facebook.com/linkchurchmedhat/live/ \nWe are located at 1714 Saamis Dr. NW. \nPlease contact info@linkchurch.org if you have any questions
URL:https://linkchurch.org/event/sunday-morning-worship-service-1st-service/2028-04-02/
LOCATION:The Link Church\, 1714 Saamis Dr NW\, Medicine Hat\, Alberta\, T1C1W7\, Canada
CATEGORIES:Worship Services
ATTACH;FMTTYPE=image/png:https://linkchurch.org/wordpress/wp-content/uploads/2024/08/this-sunday.png
END:VEVENT
BEGIN:VEVENT
DTSTART;TZID=America/Edmonton:20280402T110000
DTEND;TZID=America/Edmonton:20280402T123000
DTSTAMP:20260424T074842
CREATED:20251218T170349Z
LAST-MODIFIED:20251218T170349Z
UID:10003906-1838286000-1838291400@linkchurch.org
SUMMARY:Sunday Morning Worship Service - 2nd Service
DESCRIPTION:Come and join us for our Sunday Morning worship service at 11:00 AM every Sunday. \nThere is no Livestream for the 11:00 AM service \nWe are located at 1714 Saamis Dr. NW. \nPlease contact info@linkchurch.org if you have any questions
URL:https://linkchurch.org/event/sunday-morning-worship-service-2nd-service/2028-04-02/
LOCATION:The Link Church\, 1714 Saamis Dr NW\, Medicine Hat\, Alberta\, T1C1W7\, Canada
CATEGORIES:Worship Services
ATTACH;FMTTYPE=image/png:https://linkchurch.org/wordpress/wp-content/uploads/2024/08/this-sunday-copy.png
END:VEVENT
BEGIN:VEVENT
DTSTART;TZID=America/Edmonton:20280409T090000
DTEND;TZID=America/Edmonton:20280409T103000
DTSTAMP:20260424T074842
CREATED:20251218T170102Z
LAST-MODIFIED:20251218T170102Z
UID:10003649-1838883600-1838889000@linkchurch.org
SUMMARY:Sunday Morning Worship Service - 1st Service
DESCRIPTION:Come and join us for our Sunday Morning worship service at 9:00 AM every Sunday. \nLive stream is also available for the 9:00 AM service: http://www.facebook.com/linkchurchmedhat/live/ \nWe are located at 1714 Saamis Dr. NW. \nPlease contact info@linkchurch.org if you have any questions
URL:https://linkchurch.org/event/sunday-morning-worship-service-1st-service/2028-04-09/
LOCATION:The Link Church\, 1714 Saamis Dr NW\, Medicine Hat\, Alberta\, T1C1W7\, Canada
CATEGORIES:Worship Services
ATTACH;FMTTYPE=image/png:https://linkchurch.org/wordpress/wp-content/uploads/2024/08/this-sunday.png
END:VEVENT
BEGIN:VEVENT
DTSTART;TZID=America/Edmonton:20280409T110000
DTEND;TZID=America/Edmonton:20280409T123000
DTSTAMP:20260424T074842
CREATED:20251218T170349Z
LAST-MODIFIED:20251218T170349Z
UID:10003907-1838890800-1838896200@linkchurch.org
SUMMARY:Sunday Morning Worship Service - 2nd Service
DESCRIPTION:Come and join us for our Sunday Morning worship service at 11:00 AM every Sunday. \nThere is no Livestream for the 11:00 AM service \nWe are located at 1714 Saamis Dr. NW. \nPlease contact info@linkchurch.org if you have any questions
URL:https://linkchurch.org/event/sunday-morning-worship-service-2nd-service/2028-04-09/
LOCATION:The Link Church\, 1714 Saamis Dr NW\, Medicine Hat\, Alberta\, T1C1W7\, Canada
CATEGORIES:Worship Services
ATTACH;FMTTYPE=image/png:https://linkchurch.org/wordpress/wp-content/uploads/2024/08/this-sunday-copy.png
END:VEVENT
BEGIN:VEVENT
DTSTART;TZID=America/Edmonton:20280416T090000
DTEND;TZID=America/Edmonton:20280416T103000
DTSTAMP:20260424T074842
CREATED:20251218T170102Z
LAST-MODIFIED:20251218T170102Z
UID:10003650-1839488400-1839493800@linkchurch.org
SUMMARY:Sunday Morning Worship Service - 1st Service
DESCRIPTION:Come and join us for our Sunday Morning worship service at 9:00 AM every Sunday. \nLive stream is also available for the 9:00 AM service: http://www.facebook.com/linkchurchmedhat/live/ \nWe are located at 1714 Saamis Dr. NW. \nPlease contact info@linkchurch.org if you have any questions
URL:https://linkchurch.org/event/sunday-morning-worship-service-1st-service/2028-04-16/
LOCATION:The Link Church\, 1714 Saamis Dr NW\, Medicine Hat\, Alberta\, T1C1W7\, Canada
CATEGORIES:Worship Services
ATTACH;FMTTYPE=image/png:https://linkchurch.org/wordpress/wp-content/uploads/2024/08/this-sunday.png
END:VEVENT
BEGIN:VEVENT
DTSTART;TZID=America/Edmonton:20280416T110000
DTEND;TZID=America/Edmonton:20280416T123000
DTSTAMP:20260424T074842
CREATED:20251218T170349Z
LAST-MODIFIED:20251218T170349Z
UID:10003908-1839495600-1839501000@linkchurch.org
SUMMARY:Sunday Morning Worship Service - 2nd Service
DESCRIPTION:Come and join us for our Sunday Morning worship service at 11:00 AM every Sunday. \nThere is no Livestream for the 11:00 AM service \nWe are located at 1714 Saamis Dr. NW. \nPlease contact info@linkchurch.org if you have any questions
URL:https://linkchurch.org/event/sunday-morning-worship-service-2nd-service/2028-04-16/
LOCATION:The Link Church\, 1714 Saamis Dr NW\, Medicine Hat\, Alberta\, T1C1W7\, Canada
CATEGORIES:Worship Services
ATTACH;FMTTYPE=image/png:https://linkchurch.org/wordpress/wp-content/uploads/2024/08/this-sunday-copy.png
END:VEVENT
BEGIN:VEVENT
DTSTART;TZID=America/Edmonton:20280423T090000
DTEND;TZID=America/Edmonton:20280423T103000
DTSTAMP:20260424T074842
CREATED:20251218T170102Z
LAST-MODIFIED:20251218T170102Z
UID:10003651-1840093200-1840098600@linkchurch.org
SUMMARY:Sunday Morning Worship Service - 1st Service
DESCRIPTION:Come and join us for our Sunday Morning worship service at 9:00 AM every Sunday. \nLive stream is also available for the 9:00 AM service: http://www.facebook.com/linkchurchmedhat/live/ \nWe are located at 1714 Saamis Dr. NW. \nPlease contact info@linkchurch.org if you have any questions
URL:https://linkchurch.org/event/sunday-morning-worship-service-1st-service/2028-04-23/
LOCATION:The Link Church\, 1714 Saamis Dr NW\, Medicine Hat\, Alberta\, T1C1W7\, Canada
CATEGORIES:Worship Services
ATTACH;FMTTYPE=image/png:https://linkchurch.org/wordpress/wp-content/uploads/2024/08/this-sunday.png
END:VEVENT
BEGIN:VEVENT
DTSTART;TZID=America/Edmonton:20280423T110000
DTEND;TZID=America/Edmonton:20280423T123000
DTSTAMP:20260424T074842
CREATED:20251218T170349Z
LAST-MODIFIED:20251218T170349Z
UID:10003909-1840100400-1840105800@linkchurch.org
SUMMARY:Sunday Morning Worship Service - 2nd Service
DESCRIPTION:Come and join us for our Sunday Morning worship service at 11:00 AM every Sunday. \nThere is no Livestream for the 11:00 AM service \nWe are located at 1714 Saamis Dr. NW. \nPlease contact info@linkchurch.org if you have any questions
URL:https://linkchurch.org/event/sunday-morning-worship-service-2nd-service/2028-04-23/
LOCATION:The Link Church\, 1714 Saamis Dr NW\, Medicine Hat\, Alberta\, T1C1W7\, Canada
CATEGORIES:Worship Services
ATTACH;FMTTYPE=image/png:https://linkchurch.org/wordpress/wp-content/uploads/2024/08/this-sunday-copy.png
END:VEVENT
BEGIN:VEVENT
DTSTART;TZID=America/Edmonton:20280430T090000
DTEND;TZID=America/Edmonton:20280430T103000
DTSTAMP:20260424T074842
CREATED:20251218T170102Z
LAST-MODIFIED:20251218T170102Z
UID:10003652-1840698000-1840703400@linkchurch.org
SUMMARY:Sunday Morning Worship Service - 1st Service
DESCRIPTION:Come and join us for our Sunday Morning worship service at 9:00 AM every Sunday. \nLive stream is also available for the 9:00 AM service: http://www.facebook.com/linkchurchmedhat/live/ \nWe are located at 1714 Saamis Dr. NW. \nPlease contact info@linkchurch.org if you have any questions
URL:https://linkchurch.org/event/sunday-morning-worship-service-1st-service/2028-04-30/
LOCATION:The Link Church\, 1714 Saamis Dr NW\, Medicine Hat\, Alberta\, T1C1W7\, Canada
CATEGORIES:Worship Services
ATTACH;FMTTYPE=image/png:https://linkchurch.org/wordpress/wp-content/uploads/2024/08/this-sunday.png
END:VEVENT
BEGIN:VEVENT
DTSTART;TZID=America/Edmonton:20280430T110000
DTEND;TZID=America/Edmonton:20280430T123000
DTSTAMP:20260424T074842
CREATED:20251218T170349Z
LAST-MODIFIED:20251218T170349Z
UID:10003910-1840705200-1840710600@linkchurch.org
SUMMARY:Sunday Morning Worship Service - 2nd Service
DESCRIPTION:Come and join us for our Sunday Morning worship service at 11:00 AM every Sunday. \nThere is no Livestream for the 11:00 AM service \nWe are located at 1714 Saamis Dr. NW. \nPlease contact info@linkchurch.org if you have any questions
URL:https://linkchurch.org/event/sunday-morning-worship-service-2nd-service/2028-04-30/
LOCATION:The Link Church\, 1714 Saamis Dr NW\, Medicine Hat\, Alberta\, T1C1W7\, Canada
CATEGORIES:Worship Services
ATTACH;FMTTYPE=image/png:https://linkchurch.org/wordpress/wp-content/uploads/2024/08/this-sunday-copy.png
END:VEVENT
BEGIN:VEVENT
DTSTART;TZID=America/Edmonton:20280507T090000
DTEND;TZID=America/Edmonton:20280507T103000
DTSTAMP:20260424T074842
CREATED:20251218T170102Z
LAST-MODIFIED:20251218T170102Z
UID:10003653-1841302800-1841308200@linkchurch.org
SUMMARY:Sunday Morning Worship Service - 1st Service
DESCRIPTION:Come and join us for our Sunday Morning worship service at 9:00 AM every Sunday. \nLive stream is also available for the 9:00 AM service: http://www.facebook.com/linkchurchmedhat/live/ \nWe are located at 1714 Saamis Dr. NW. \nPlease contact info@linkchurch.org if you have any questions
URL:https://linkchurch.org/event/sunday-morning-worship-service-1st-service/2028-05-07/
LOCATION:The Link Church\, 1714 Saamis Dr NW\, Medicine Hat\, Alberta\, T1C1W7\, Canada
CATEGORIES:Worship Services
ATTACH;FMTTYPE=image/png:https://linkchurch.org/wordpress/wp-content/uploads/2024/08/this-sunday.png
END:VEVENT
BEGIN:VEVENT
DTSTART;TZID=America/Edmonton:20280507T110000
DTEND;TZID=America/Edmonton:20280507T123000
DTSTAMP:20260424T074842
CREATED:20251218T170349Z
LAST-MODIFIED:20251218T170349Z
UID:10003911-1841310000-1841315400@linkchurch.org
SUMMARY:Sunday Morning Worship Service - 2nd Service
DESCRIPTION:Come and join us for our Sunday Morning worship service at 11:00 AM every Sunday. \nThere is no Livestream for the 11:00 AM service \nWe are located at 1714 Saamis Dr. NW. \nPlease contact info@linkchurch.org if you have any questions
URL:https://linkchurch.org/event/sunday-morning-worship-service-2nd-service/2028-05-07/
LOCATION:The Link Church\, 1714 Saamis Dr NW\, Medicine Hat\, Alberta\, T1C1W7\, Canada
CATEGORIES:Worship Services
ATTACH;FMTTYPE=image/png:https://linkchurch.org/wordpress/wp-content/uploads/2024/08/this-sunday-copy.png
END:VEVENT
BEGIN:VEVENT
DTSTART;TZID=America/Edmonton:20280514T090000
DTEND;TZID=America/Edmonton:20280514T103000
DTSTAMP:20260424T074842
CREATED:20251218T170102Z
LAST-MODIFIED:20251218T170102Z
UID:10003654-1841907600-1841913000@linkchurch.org
SUMMARY:Sunday Morning Worship Service - 1st Service
DESCRIPTION:Come and join us for our Sunday Morning worship service at 9:00 AM every Sunday. \nLive stream is also available for the 9:00 AM service: http://www.facebook.com/linkchurchmedhat/live/ \nWe are located at 1714 Saamis Dr. NW. \nPlease contact info@linkchurch.org if you have any questions
URL:https://linkchurch.org/event/sunday-morning-worship-service-1st-service/2028-05-14/
LOCATION:The Link Church\, 1714 Saamis Dr NW\, Medicine Hat\, Alberta\, T1C1W7\, Canada
CATEGORIES:Worship Services
ATTACH;FMTTYPE=image/png:https://linkchurch.org/wordpress/wp-content/uploads/2024/08/this-sunday.png
END:VEVENT
BEGIN:VEVENT
DTSTART;TZID=America/Edmonton:20280514T110000
DTEND;TZID=America/Edmonton:20280514T123000
DTSTAMP:20260424T074842
CREATED:20251218T170349Z
LAST-MODIFIED:20251218T170349Z
UID:10003912-1841914800-1841920200@linkchurch.org
SUMMARY:Sunday Morning Worship Service - 2nd Service
DESCRIPTION:Come and join us for our Sunday Morning worship service at 11:00 AM every Sunday. \nThere is no Livestream for the 11:00 AM service \nWe are located at 1714 Saamis Dr. NW. \nPlease contact info@linkchurch.org if you have any questions
URL:https://linkchurch.org/event/sunday-morning-worship-service-2nd-service/2028-05-14/
LOCATION:The Link Church\, 1714 Saamis Dr NW\, Medicine Hat\, Alberta\, T1C1W7\, Canada
CATEGORIES:Worship Services
ATTACH;FMTTYPE=image/png:https://linkchurch.org/wordpress/wp-content/uploads/2024/08/this-sunday-copy.png
END:VEVENT
BEGIN:VEVENT
DTSTART;TZID=America/Edmonton:20280521T090000
DTEND;TZID=America/Edmonton:20280521T103000
DTSTAMP:20260424T074842
CREATED:20251218T170102Z
LAST-MODIFIED:20251218T170102Z
UID:10003655-1842512400-1842517800@linkchurch.org
SUMMARY:Sunday Morning Worship Service - 1st Service
DESCRIPTION:Come and join us for our Sunday Morning worship service at 9:00 AM every Sunday. \nLive stream is also available for the 9:00 AM service: http://www.facebook.com/linkchurchmedhat/live/ \nWe are located at 1714 Saamis Dr. NW. \nPlease contact info@linkchurch.org if you have any questions
URL:https://linkchurch.org/event/sunday-morning-worship-service-1st-service/2028-05-21/
LOCATION:The Link Church\, 1714 Saamis Dr NW\, Medicine Hat\, Alberta\, T1C1W7\, Canada
CATEGORIES:Worship Services
ATTACH;FMTTYPE=image/png:https://linkchurch.org/wordpress/wp-content/uploads/2024/08/this-sunday.png
END:VEVENT
BEGIN:VEVENT
DTSTART;TZID=America/Edmonton:20280521T110000
DTEND;TZID=America/Edmonton:20280521T123000
DTSTAMP:20260424T074842
CREATED:20251218T170349Z
LAST-MODIFIED:20251218T170349Z
UID:10003913-1842519600-1842525000@linkchurch.org
SUMMARY:Sunday Morning Worship Service - 2nd Service
DESCRIPTION:Come and join us for our Sunday Morning worship service at 11:00 AM every Sunday. \nThere is no Livestream for the 11:00 AM service \nWe are located at 1714 Saamis Dr. NW. \nPlease contact info@linkchurch.org if you have any questions
URL:https://linkchurch.org/event/sunday-morning-worship-service-2nd-service/2028-05-21/
LOCATION:The Link Church\, 1714 Saamis Dr NW\, Medicine Hat\, Alberta\, T1C1W7\, Canada
CATEGORIES:Worship Services
ATTACH;FMTTYPE=image/png:https://linkchurch.org/wordpress/wp-content/uploads/2024/08/this-sunday-copy.png
END:VEVENT
BEGIN:VEVENT
DTSTART;TZID=America/Edmonton:20280528T090000
DTEND;TZID=America/Edmonton:20280528T103000
DTSTAMP:20260424T074842
CREATED:20251218T170102Z
LAST-MODIFIED:20251218T170102Z
UID:10003656-1843117200-1843122600@linkchurch.org
SUMMARY:Sunday Morning Worship Service - 1st Service
DESCRIPTION:Come and join us for our Sunday Morning worship service at 9:00 AM every Sunday. \nLive stream is also available for the 9:00 AM service: http://www.facebook.com/linkchurchmedhat/live/ \nWe are located at 1714 Saamis Dr. NW. \nPlease contact info@linkchurch.org if you have any questions
URL:https://linkchurch.org/event/sunday-morning-worship-service-1st-service/2028-05-28/
LOCATION:The Link Church\, 1714 Saamis Dr NW\, Medicine Hat\, Alberta\, T1C1W7\, Canada
CATEGORIES:Worship Services
ATTACH;FMTTYPE=image/png:https://linkchurch.org/wordpress/wp-content/uploads/2024/08/this-sunday.png
END:VEVENT
BEGIN:VEVENT
DTSTART;TZID=America/Edmonton:20280528T110000
DTEND;TZID=America/Edmonton:20280528T123000
DTSTAMP:20260424T074842
CREATED:20251218T170349Z
LAST-MODIFIED:20251218T170349Z
UID:10003914-1843124400-1843129800@linkchurch.org
SUMMARY:Sunday Morning Worship Service - 2nd Service
DESCRIPTION:Come and join us for our Sunday Morning worship service at 11:00 AM every Sunday. \nThere is no Livestream for the 11:00 AM service \nWe are located at 1714 Saamis Dr. NW. \nPlease contact info@linkchurch.org if you have any questions
URL:https://linkchurch.org/event/sunday-morning-worship-service-2nd-service/2028-05-28/
LOCATION:The Link Church\, 1714 Saamis Dr NW\, Medicine Hat\, Alberta\, T1C1W7\, Canada
CATEGORIES:Worship Services
ATTACH;FMTTYPE=image/png:https://linkchurch.org/wordpress/wp-content/uploads/2024/08/this-sunday-copy.png
END:VEVENT
BEGIN:VEVENT
DTSTART;TZID=America/Edmonton:20280604T090000
DTEND;TZID=America/Edmonton:20280604T103000
DTSTAMP:20260424T074842
CREATED:20251218T170102Z
LAST-MODIFIED:20251218T170102Z
UID:10003657-1843722000-1843727400@linkchurch.org
SUMMARY:Sunday Morning Worship Service - 1st Service
DESCRIPTION:Come and join us for our Sunday Morning worship service at 9:00 AM every Sunday. \nLive stream is also available for the 9:00 AM service: http://www.facebook.com/linkchurchmedhat/live/ \nWe are located at 1714 Saamis Dr. NW. \nPlease contact info@linkchurch.org if you have any questions
URL:https://linkchurch.org/event/sunday-morning-worship-service-1st-service/2028-06-04/
LOCATION:The Link Church\, 1714 Saamis Dr NW\, Medicine Hat\, Alberta\, T1C1W7\, Canada
CATEGORIES:Worship Services
ATTACH;FMTTYPE=image/png:https://linkchurch.org/wordpress/wp-content/uploads/2024/08/this-sunday.png
END:VEVENT
BEGIN:VEVENT
DTSTART;TZID=America/Edmonton:20280604T110000
DTEND;TZID=America/Edmonton:20280604T123000
DTSTAMP:20260424T074842
CREATED:20251218T170349Z
LAST-MODIFIED:20251218T170349Z
UID:10003915-1843729200-1843734600@linkchurch.org
SUMMARY:Sunday Morning Worship Service - 2nd Service
DESCRIPTION:Come and join us for our Sunday Morning worship service at 11:00 AM every Sunday. \nThere is no Livestream for the 11:00 AM service \nWe are located at 1714 Saamis Dr. NW. \nPlease contact info@linkchurch.org if you have any questions
URL:https://linkchurch.org/event/sunday-morning-worship-service-2nd-service/2028-06-04/
LOCATION:The Link Church\, 1714 Saamis Dr NW\, Medicine Hat\, Alberta\, T1C1W7\, Canada
CATEGORIES:Worship Services
ATTACH;FMTTYPE=image/png:https://linkchurch.org/wordpress/wp-content/uploads/2024/08/this-sunday-copy.png
END:VEVENT
END:VCALENDAR