BEGIN:VCALENDAR
VERSION:2.0
PRODID:-//The Link Christian Fellowship - ECPv6.15.20//NONSGML v1.0//EN
CALSCALE:GREGORIAN
METHOD:PUBLISH
X-ORIGINAL-URL:https://linkchurch.org
X-WR-CALDESC:Events for The Link Christian Fellowship
REFRESH-INTERVAL;VALUE=DURATION:PT1H
X-Robots-Tag:noindex
X-PUBLISHED-TTL:PT1H
BEGIN:VTIMEZONE
TZID:America/Edmonton
BEGIN:DAYLIGHT
TZOFFSETFROM:-0700
TZOFFSETTO:-0600
TZNAME:MDT
DTSTART:20270314T090000
END:DAYLIGHT
BEGIN:STANDARD
TZOFFSETFROM:-0600
TZOFFSETTO:-0700
TZNAME:MST
DTSTART:20271107T080000
END:STANDARD
BEGIN:DAYLIGHT
TZOFFSETFROM:-0700
TZOFFSETTO:-0600
TZNAME:MDT
DTSTART:20280312T090000
END:DAYLIGHT
BEGIN:STANDARD
TZOFFSETFROM:-0600
TZOFFSETTO:-0700
TZNAME:MST
DTSTART:20281105T080000
END:STANDARD
BEGIN:DAYLIGHT
TZOFFSETFROM:-0700
TZOFFSETTO:-0600
TZNAME:MDT
DTSTART:20290311T090000
END:DAYLIGHT
BEGIN:STANDARD
TZOFFSETFROM:-0600
TZOFFSETTO:-0700
TZNAME:MST
DTSTART:20291104T080000
END:STANDARD
END:VTIMEZONE
BEGIN:VEVENT
DTSTART;TZID=America/Edmonton:20280702T090000
DTEND;TZID=America/Edmonton:20280702T103000
DTSTAMP:20260424T131334
CREATED:20251218T170102Z
LAST-MODIFIED:20251218T170102Z
UID:10003661-1846141200-1846146600@linkchurch.org
SUMMARY:Sunday Morning Worship Service - 1st Service
DESCRIPTION:Come and join us for our Sunday Morning worship service at 9:00 AM every Sunday. \nLive stream is also available for the 9:00 AM service: http://www.facebook.com/linkchurchmedhat/live/ \nWe are located at 1714 Saamis Dr. NW. \nPlease contact info@linkchurch.org if you have any questions
URL:https://linkchurch.org/event/sunday-morning-worship-service-1st-service/2028-07-02/
LOCATION:The Link Church\, 1714 Saamis Dr NW\, Medicine Hat\, Alberta\, T1C1W7\, Canada
CATEGORIES:Worship Services
ATTACH;FMTTYPE=image/png:https://linkchurch.org/wordpress/wp-content/uploads/2024/08/this-sunday.png
END:VEVENT
BEGIN:VEVENT
DTSTART;TZID=America/Edmonton:20280702T110000
DTEND;TZID=America/Edmonton:20280702T123000
DTSTAMP:20260424T131334
CREATED:20251218T170349Z
LAST-MODIFIED:20251218T170349Z
UID:10003919-1846148400-1846153800@linkchurch.org
SUMMARY:Sunday Morning Worship Service - 2nd Service
DESCRIPTION:Come and join us for our Sunday Morning worship service at 11:00 AM every Sunday. \nThere is no Livestream for the 11:00 AM service \nWe are located at 1714 Saamis Dr. NW. \nPlease contact info@linkchurch.org if you have any questions
URL:https://linkchurch.org/event/sunday-morning-worship-service-2nd-service/2028-07-02/
LOCATION:The Link Church\, 1714 Saamis Dr NW\, Medicine Hat\, Alberta\, T1C1W7\, Canada
CATEGORIES:Worship Services
ATTACH;FMTTYPE=image/png:https://linkchurch.org/wordpress/wp-content/uploads/2024/08/this-sunday-copy.png
END:VEVENT
BEGIN:VEVENT
DTSTART;TZID=America/Edmonton:20280709T090000
DTEND;TZID=America/Edmonton:20280709T103000
DTSTAMP:20260424T131334
CREATED:20251218T170102Z
LAST-MODIFIED:20251218T170102Z
UID:10003662-1846746000-1846751400@linkchurch.org
SUMMARY:Sunday Morning Worship Service - 1st Service
DESCRIPTION:Come and join us for our Sunday Morning worship service at 9:00 AM every Sunday. \nLive stream is also available for the 9:00 AM service: http://www.facebook.com/linkchurchmedhat/live/ \nWe are located at 1714 Saamis Dr. NW. \nPlease contact info@linkchurch.org if you have any questions
URL:https://linkchurch.org/event/sunday-morning-worship-service-1st-service/2028-07-09/
LOCATION:The Link Church\, 1714 Saamis Dr NW\, Medicine Hat\, Alberta\, T1C1W7\, Canada
CATEGORIES:Worship Services
ATTACH;FMTTYPE=image/png:https://linkchurch.org/wordpress/wp-content/uploads/2024/08/this-sunday.png
END:VEVENT
BEGIN:VEVENT
DTSTART;TZID=America/Edmonton:20280709T110000
DTEND;TZID=America/Edmonton:20280709T123000
DTSTAMP:20260424T131334
CREATED:20251218T170349Z
LAST-MODIFIED:20251218T170349Z
UID:10003920-1846753200-1846758600@linkchurch.org
SUMMARY:Sunday Morning Worship Service - 2nd Service
DESCRIPTION:Come and join us for our Sunday Morning worship service at 11:00 AM every Sunday. \nThere is no Livestream for the 11:00 AM service \nWe are located at 1714 Saamis Dr. NW. \nPlease contact info@linkchurch.org if you have any questions
URL:https://linkchurch.org/event/sunday-morning-worship-service-2nd-service/2028-07-09/
LOCATION:The Link Church\, 1714 Saamis Dr NW\, Medicine Hat\, Alberta\, T1C1W7\, Canada
CATEGORIES:Worship Services
ATTACH;FMTTYPE=image/png:https://linkchurch.org/wordpress/wp-content/uploads/2024/08/this-sunday-copy.png
END:VEVENT
BEGIN:VEVENT
DTSTART;TZID=America/Edmonton:20280716T090000
DTEND;TZID=America/Edmonton:20280716T103000
DTSTAMP:20260424T131334
CREATED:20251218T170102Z
LAST-MODIFIED:20251218T170102Z
UID:10003663-1847350800-1847356200@linkchurch.org
SUMMARY:Sunday Morning Worship Service - 1st Service
DESCRIPTION:Come and join us for our Sunday Morning worship service at 9:00 AM every Sunday. \nLive stream is also available for the 9:00 AM service: http://www.facebook.com/linkchurchmedhat/live/ \nWe are located at 1714 Saamis Dr. NW. \nPlease contact info@linkchurch.org if you have any questions
URL:https://linkchurch.org/event/sunday-morning-worship-service-1st-service/2028-07-16/
LOCATION:The Link Church\, 1714 Saamis Dr NW\, Medicine Hat\, Alberta\, T1C1W7\, Canada
CATEGORIES:Worship Services
ATTACH;FMTTYPE=image/png:https://linkchurch.org/wordpress/wp-content/uploads/2024/08/this-sunday.png
END:VEVENT
BEGIN:VEVENT
DTSTART;TZID=America/Edmonton:20280716T110000
DTEND;TZID=America/Edmonton:20280716T123000
DTSTAMP:20260424T131334
CREATED:20251218T170349Z
LAST-MODIFIED:20251218T170349Z
UID:10003921-1847358000-1847363400@linkchurch.org
SUMMARY:Sunday Morning Worship Service - 2nd Service
DESCRIPTION:Come and join us for our Sunday Morning worship service at 11:00 AM every Sunday. \nThere is no Livestream for the 11:00 AM service \nWe are located at 1714 Saamis Dr. NW. \nPlease contact info@linkchurch.org if you have any questions
URL:https://linkchurch.org/event/sunday-morning-worship-service-2nd-service/2028-07-16/
LOCATION:The Link Church\, 1714 Saamis Dr NW\, Medicine Hat\, Alberta\, T1C1W7\, Canada
CATEGORIES:Worship Services
ATTACH;FMTTYPE=image/png:https://linkchurch.org/wordpress/wp-content/uploads/2024/08/this-sunday-copy.png
END:VEVENT
BEGIN:VEVENT
DTSTART;TZID=America/Edmonton:20280723T090000
DTEND;TZID=America/Edmonton:20280723T103000
DTSTAMP:20260424T131334
CREATED:20251218T170102Z
LAST-MODIFIED:20251218T170102Z
UID:10003664-1847955600-1847961000@linkchurch.org
SUMMARY:Sunday Morning Worship Service - 1st Service
DESCRIPTION:Come and join us for our Sunday Morning worship service at 9:00 AM every Sunday. \nLive stream is also available for the 9:00 AM service: http://www.facebook.com/linkchurchmedhat/live/ \nWe are located at 1714 Saamis Dr. NW. \nPlease contact info@linkchurch.org if you have any questions
URL:https://linkchurch.org/event/sunday-morning-worship-service-1st-service/2028-07-23/
LOCATION:The Link Church\, 1714 Saamis Dr NW\, Medicine Hat\, Alberta\, T1C1W7\, Canada
CATEGORIES:Worship Services
ATTACH;FMTTYPE=image/png:https://linkchurch.org/wordpress/wp-content/uploads/2024/08/this-sunday.png
END:VEVENT
BEGIN:VEVENT
DTSTART;TZID=America/Edmonton:20280723T110000
DTEND;TZID=America/Edmonton:20280723T123000
DTSTAMP:20260424T131334
CREATED:20251218T170349Z
LAST-MODIFIED:20251218T170349Z
UID:10003922-1847962800-1847968200@linkchurch.org
SUMMARY:Sunday Morning Worship Service - 2nd Service
DESCRIPTION:Come and join us for our Sunday Morning worship service at 11:00 AM every Sunday. \nThere is no Livestream for the 11:00 AM service \nWe are located at 1714 Saamis Dr. NW. \nPlease contact info@linkchurch.org if you have any questions
URL:https://linkchurch.org/event/sunday-morning-worship-service-2nd-service/2028-07-23/
LOCATION:The Link Church\, 1714 Saamis Dr NW\, Medicine Hat\, Alberta\, T1C1W7\, Canada
CATEGORIES:Worship Services
ATTACH;FMTTYPE=image/png:https://linkchurch.org/wordpress/wp-content/uploads/2024/08/this-sunday-copy.png
END:VEVENT
BEGIN:VEVENT
DTSTART;TZID=America/Edmonton:20280730T090000
DTEND;TZID=America/Edmonton:20280730T103000
DTSTAMP:20260424T131334
CREATED:20251218T170102Z
LAST-MODIFIED:20251218T170102Z
UID:10003665-1848560400-1848565800@linkchurch.org
SUMMARY:Sunday Morning Worship Service - 1st Service
DESCRIPTION:Come and join us for our Sunday Morning worship service at 9:00 AM every Sunday. \nLive stream is also available for the 9:00 AM service: http://www.facebook.com/linkchurchmedhat/live/ \nWe are located at 1714 Saamis Dr. NW. \nPlease contact info@linkchurch.org if you have any questions
URL:https://linkchurch.org/event/sunday-morning-worship-service-1st-service/2028-07-30/
LOCATION:The Link Church\, 1714 Saamis Dr NW\, Medicine Hat\, Alberta\, T1C1W7\, Canada
CATEGORIES:Worship Services
ATTACH;FMTTYPE=image/png:https://linkchurch.org/wordpress/wp-content/uploads/2024/08/this-sunday.png
END:VEVENT
BEGIN:VEVENT
DTSTART;TZID=America/Edmonton:20280730T110000
DTEND;TZID=America/Edmonton:20280730T123000
DTSTAMP:20260424T131334
CREATED:20251218T170349Z
LAST-MODIFIED:20251218T170349Z
UID:10003923-1848567600-1848573000@linkchurch.org
SUMMARY:Sunday Morning Worship Service - 2nd Service
DESCRIPTION:Come and join us for our Sunday Morning worship service at 11:00 AM every Sunday. \nThere is no Livestream for the 11:00 AM service \nWe are located at 1714 Saamis Dr. NW. \nPlease contact info@linkchurch.org if you have any questions
URL:https://linkchurch.org/event/sunday-morning-worship-service-2nd-service/2028-07-30/
LOCATION:The Link Church\, 1714 Saamis Dr NW\, Medicine Hat\, Alberta\, T1C1W7\, Canada
CATEGORIES:Worship Services
ATTACH;FMTTYPE=image/png:https://linkchurch.org/wordpress/wp-content/uploads/2024/08/this-sunday-copy.png
END:VEVENT
BEGIN:VEVENT
DTSTART;TZID=America/Edmonton:20280806T090000
DTEND;TZID=America/Edmonton:20280806T103000
DTSTAMP:20260424T131334
CREATED:20251218T170102Z
LAST-MODIFIED:20251218T170102Z
UID:10003666-1849165200-1849170600@linkchurch.org
SUMMARY:Sunday Morning Worship Service - 1st Service
DESCRIPTION:Come and join us for our Sunday Morning worship service at 9:00 AM every Sunday. \nLive stream is also available for the 9:00 AM service: http://www.facebook.com/linkchurchmedhat/live/ \nWe are located at 1714 Saamis Dr. NW. \nPlease contact info@linkchurch.org if you have any questions
URL:https://linkchurch.org/event/sunday-morning-worship-service-1st-service/2028-08-06/
LOCATION:The Link Church\, 1714 Saamis Dr NW\, Medicine Hat\, Alberta\, T1C1W7\, Canada
CATEGORIES:Worship Services
ATTACH;FMTTYPE=image/png:https://linkchurch.org/wordpress/wp-content/uploads/2024/08/this-sunday.png
END:VEVENT
BEGIN:VEVENT
DTSTART;TZID=America/Edmonton:20280806T110000
DTEND;TZID=America/Edmonton:20280806T123000
DTSTAMP:20260424T131334
CREATED:20251218T170349Z
LAST-MODIFIED:20251218T170349Z
UID:10003924-1849172400-1849177800@linkchurch.org
SUMMARY:Sunday Morning Worship Service - 2nd Service
DESCRIPTION:Come and join us for our Sunday Morning worship service at 11:00 AM every Sunday. \nThere is no Livestream for the 11:00 AM service \nWe are located at 1714 Saamis Dr. NW. \nPlease contact info@linkchurch.org if you have any questions
URL:https://linkchurch.org/event/sunday-morning-worship-service-2nd-service/2028-08-06/
LOCATION:The Link Church\, 1714 Saamis Dr NW\, Medicine Hat\, Alberta\, T1C1W7\, Canada
CATEGORIES:Worship Services
ATTACH;FMTTYPE=image/png:https://linkchurch.org/wordpress/wp-content/uploads/2024/08/this-sunday-copy.png
END:VEVENT
BEGIN:VEVENT
DTSTART;TZID=America/Edmonton:20280813T090000
DTEND;TZID=America/Edmonton:20280813T103000
DTSTAMP:20260424T131334
CREATED:20251218T170102Z
LAST-MODIFIED:20251218T170102Z
UID:10003667-1849770000-1849775400@linkchurch.org
SUMMARY:Sunday Morning Worship Service - 1st Service
DESCRIPTION:Come and join us for our Sunday Morning worship service at 9:00 AM every Sunday. \nLive stream is also available for the 9:00 AM service: http://www.facebook.com/linkchurchmedhat/live/ \nWe are located at 1714 Saamis Dr. NW. \nPlease contact info@linkchurch.org if you have any questions
URL:https://linkchurch.org/event/sunday-morning-worship-service-1st-service/2028-08-13/
LOCATION:The Link Church\, 1714 Saamis Dr NW\, Medicine Hat\, Alberta\, T1C1W7\, Canada
CATEGORIES:Worship Services
ATTACH;FMTTYPE=image/png:https://linkchurch.org/wordpress/wp-content/uploads/2024/08/this-sunday.png
END:VEVENT
BEGIN:VEVENT
DTSTART;TZID=America/Edmonton:20280813T110000
DTEND;TZID=America/Edmonton:20280813T123000
DTSTAMP:20260424T131334
CREATED:20251218T170349Z
LAST-MODIFIED:20251218T170349Z
UID:10003925-1849777200-1849782600@linkchurch.org
SUMMARY:Sunday Morning Worship Service - 2nd Service
DESCRIPTION:Come and join us for our Sunday Morning worship service at 11:00 AM every Sunday. \nThere is no Livestream for the 11:00 AM service \nWe are located at 1714 Saamis Dr. NW. \nPlease contact info@linkchurch.org if you have any questions
URL:https://linkchurch.org/event/sunday-morning-worship-service-2nd-service/2028-08-13/
LOCATION:The Link Church\, 1714 Saamis Dr NW\, Medicine Hat\, Alberta\, T1C1W7\, Canada
CATEGORIES:Worship Services
ATTACH;FMTTYPE=image/png:https://linkchurch.org/wordpress/wp-content/uploads/2024/08/this-sunday-copy.png
END:VEVENT
BEGIN:VEVENT
DTSTART;TZID=America/Edmonton:20280820T090000
DTEND;TZID=America/Edmonton:20280820T103000
DTSTAMP:20260424T131334
CREATED:20251218T170102Z
LAST-MODIFIED:20251218T170102Z
UID:10003668-1850374800-1850380200@linkchurch.org
SUMMARY:Sunday Morning Worship Service - 1st Service
DESCRIPTION:Come and join us for our Sunday Morning worship service at 9:00 AM every Sunday. \nLive stream is also available for the 9:00 AM service: http://www.facebook.com/linkchurchmedhat/live/ \nWe are located at 1714 Saamis Dr. NW. \nPlease contact info@linkchurch.org if you have any questions
URL:https://linkchurch.org/event/sunday-morning-worship-service-1st-service/2028-08-20/
LOCATION:The Link Church\, 1714 Saamis Dr NW\, Medicine Hat\, Alberta\, T1C1W7\, Canada
CATEGORIES:Worship Services
ATTACH;FMTTYPE=image/png:https://linkchurch.org/wordpress/wp-content/uploads/2024/08/this-sunday.png
END:VEVENT
BEGIN:VEVENT
DTSTART;TZID=America/Edmonton:20280820T110000
DTEND;TZID=America/Edmonton:20280820T123000
DTSTAMP:20260424T131334
CREATED:20251218T170349Z
LAST-MODIFIED:20251218T170349Z
UID:10003926-1850382000-1850387400@linkchurch.org
SUMMARY:Sunday Morning Worship Service - 2nd Service
DESCRIPTION:Come and join us for our Sunday Morning worship service at 11:00 AM every Sunday. \nThere is no Livestream for the 11:00 AM service \nWe are located at 1714 Saamis Dr. NW. \nPlease contact info@linkchurch.org if you have any questions
URL:https://linkchurch.org/event/sunday-morning-worship-service-2nd-service/2028-08-20/
LOCATION:The Link Church\, 1714 Saamis Dr NW\, Medicine Hat\, Alberta\, T1C1W7\, Canada
CATEGORIES:Worship Services
ATTACH;FMTTYPE=image/png:https://linkchurch.org/wordpress/wp-content/uploads/2024/08/this-sunday-copy.png
END:VEVENT
BEGIN:VEVENT
DTSTART;TZID=America/Edmonton:20280827T090000
DTEND;TZID=America/Edmonton:20280827T103000
DTSTAMP:20260424T131334
CREATED:20251218T170102Z
LAST-MODIFIED:20251218T170102Z
UID:10003669-1850979600-1850985000@linkchurch.org
SUMMARY:Sunday Morning Worship Service - 1st Service
DESCRIPTION:Come and join us for our Sunday Morning worship service at 9:00 AM every Sunday. \nLive stream is also available for the 9:00 AM service: http://www.facebook.com/linkchurchmedhat/live/ \nWe are located at 1714 Saamis Dr. NW. \nPlease contact info@linkchurch.org if you have any questions
URL:https://linkchurch.org/event/sunday-morning-worship-service-1st-service/2028-08-27/
LOCATION:The Link Church\, 1714 Saamis Dr NW\, Medicine Hat\, Alberta\, T1C1W7\, Canada
CATEGORIES:Worship Services
ATTACH;FMTTYPE=image/png:https://linkchurch.org/wordpress/wp-content/uploads/2024/08/this-sunday.png
END:VEVENT
BEGIN:VEVENT
DTSTART;TZID=America/Edmonton:20280827T110000
DTEND;TZID=America/Edmonton:20280827T123000
DTSTAMP:20260424T131334
CREATED:20251218T170349Z
LAST-MODIFIED:20251218T170349Z
UID:10003927-1850986800-1850992200@linkchurch.org
SUMMARY:Sunday Morning Worship Service - 2nd Service
DESCRIPTION:Come and join us for our Sunday Morning worship service at 11:00 AM every Sunday. \nThere is no Livestream for the 11:00 AM service \nWe are located at 1714 Saamis Dr. NW. \nPlease contact info@linkchurch.org if you have any questions
URL:https://linkchurch.org/event/sunday-morning-worship-service-2nd-service/2028-08-27/
LOCATION:The Link Church\, 1714 Saamis Dr NW\, Medicine Hat\, Alberta\, T1C1W7\, Canada
CATEGORIES:Worship Services
ATTACH;FMTTYPE=image/png:https://linkchurch.org/wordpress/wp-content/uploads/2024/08/this-sunday-copy.png
END:VEVENT
BEGIN:VEVENT
DTSTART;TZID=America/Edmonton:20280903T090000
DTEND;TZID=America/Edmonton:20280903T103000
DTSTAMP:20260424T131334
CREATED:20251218T170102Z
LAST-MODIFIED:20251218T170102Z
UID:10003670-1851584400-1851589800@linkchurch.org
SUMMARY:Sunday Morning Worship Service - 1st Service
DESCRIPTION:Come and join us for our Sunday Morning worship service at 9:00 AM every Sunday. \nLive stream is also available for the 9:00 AM service: http://www.facebook.com/linkchurchmedhat/live/ \nWe are located at 1714 Saamis Dr. NW. \nPlease contact info@linkchurch.org if you have any questions
URL:https://linkchurch.org/event/sunday-morning-worship-service-1st-service/2028-09-03/
LOCATION:The Link Church\, 1714 Saamis Dr NW\, Medicine Hat\, Alberta\, T1C1W7\, Canada
CATEGORIES:Worship Services
ATTACH;FMTTYPE=image/png:https://linkchurch.org/wordpress/wp-content/uploads/2024/08/this-sunday.png
END:VEVENT
BEGIN:VEVENT
DTSTART;TZID=America/Edmonton:20280903T110000
DTEND;TZID=America/Edmonton:20280903T123000
DTSTAMP:20260424T131334
CREATED:20251218T170349Z
LAST-MODIFIED:20251218T170349Z
UID:10003928-1851591600-1851597000@linkchurch.org
SUMMARY:Sunday Morning Worship Service - 2nd Service
DESCRIPTION:Come and join us for our Sunday Morning worship service at 11:00 AM every Sunday. \nThere is no Livestream for the 11:00 AM service \nWe are located at 1714 Saamis Dr. NW. \nPlease contact info@linkchurch.org if you have any questions
URL:https://linkchurch.org/event/sunday-morning-worship-service-2nd-service/2028-09-03/
LOCATION:The Link Church\, 1714 Saamis Dr NW\, Medicine Hat\, Alberta\, T1C1W7\, Canada
CATEGORIES:Worship Services
ATTACH;FMTTYPE=image/png:https://linkchurch.org/wordpress/wp-content/uploads/2024/08/this-sunday-copy.png
END:VEVENT
BEGIN:VEVENT
DTSTART;TZID=America/Edmonton:20280910T090000
DTEND;TZID=America/Edmonton:20280910T103000
DTSTAMP:20260424T131334
CREATED:20251218T170102Z
LAST-MODIFIED:20251218T170102Z
UID:10003671-1852189200-1852194600@linkchurch.org
SUMMARY:Sunday Morning Worship Service - 1st Service
DESCRIPTION:Come and join us for our Sunday Morning worship service at 9:00 AM every Sunday. \nLive stream is also available for the 9:00 AM service: http://www.facebook.com/linkchurchmedhat/live/ \nWe are located at 1714 Saamis Dr. NW. \nPlease contact info@linkchurch.org if you have any questions
URL:https://linkchurch.org/event/sunday-morning-worship-service-1st-service/2028-09-10/
LOCATION:The Link Church\, 1714 Saamis Dr NW\, Medicine Hat\, Alberta\, T1C1W7\, Canada
CATEGORIES:Worship Services
ATTACH;FMTTYPE=image/png:https://linkchurch.org/wordpress/wp-content/uploads/2024/08/this-sunday.png
END:VEVENT
BEGIN:VEVENT
DTSTART;TZID=America/Edmonton:20280910T110000
DTEND;TZID=America/Edmonton:20280910T123000
DTSTAMP:20260424T131334
CREATED:20251218T170349Z
LAST-MODIFIED:20251218T170349Z
UID:10003929-1852196400-1852201800@linkchurch.org
SUMMARY:Sunday Morning Worship Service - 2nd Service
DESCRIPTION:Come and join us for our Sunday Morning worship service at 11:00 AM every Sunday. \nThere is no Livestream for the 11:00 AM service \nWe are located at 1714 Saamis Dr. NW. \nPlease contact info@linkchurch.org if you have any questions
URL:https://linkchurch.org/event/sunday-morning-worship-service-2nd-service/2028-09-10/
LOCATION:The Link Church\, 1714 Saamis Dr NW\, Medicine Hat\, Alberta\, T1C1W7\, Canada
CATEGORIES:Worship Services
ATTACH;FMTTYPE=image/png:https://linkchurch.org/wordpress/wp-content/uploads/2024/08/this-sunday-copy.png
END:VEVENT
BEGIN:VEVENT
DTSTART;TZID=America/Edmonton:20280917T090000
DTEND;TZID=America/Edmonton:20280917T103000
DTSTAMP:20260424T131334
CREATED:20251218T170102Z
LAST-MODIFIED:20251218T170102Z
UID:10003672-1852794000-1852799400@linkchurch.org
SUMMARY:Sunday Morning Worship Service - 1st Service
DESCRIPTION:Come and join us for our Sunday Morning worship service at 9:00 AM every Sunday. \nLive stream is also available for the 9:00 AM service: http://www.facebook.com/linkchurchmedhat/live/ \nWe are located at 1714 Saamis Dr. NW. \nPlease contact info@linkchurch.org if you have any questions
URL:https://linkchurch.org/event/sunday-morning-worship-service-1st-service/2028-09-17/
LOCATION:The Link Church\, 1714 Saamis Dr NW\, Medicine Hat\, Alberta\, T1C1W7\, Canada
CATEGORIES:Worship Services
ATTACH;FMTTYPE=image/png:https://linkchurch.org/wordpress/wp-content/uploads/2024/08/this-sunday.png
END:VEVENT
BEGIN:VEVENT
DTSTART;TZID=America/Edmonton:20280917T110000
DTEND;TZID=America/Edmonton:20280917T123000
DTSTAMP:20260424T131334
CREATED:20251218T170349Z
LAST-MODIFIED:20251218T170349Z
UID:10003930-1852801200-1852806600@linkchurch.org
SUMMARY:Sunday Morning Worship Service - 2nd Service
DESCRIPTION:Come and join us for our Sunday Morning worship service at 11:00 AM every Sunday. \nThere is no Livestream for the 11:00 AM service \nWe are located at 1714 Saamis Dr. NW. \nPlease contact info@linkchurch.org if you have any questions
URL:https://linkchurch.org/event/sunday-morning-worship-service-2nd-service/2028-09-17/
LOCATION:The Link Church\, 1714 Saamis Dr NW\, Medicine Hat\, Alberta\, T1C1W7\, Canada
CATEGORIES:Worship Services
ATTACH;FMTTYPE=image/png:https://linkchurch.org/wordpress/wp-content/uploads/2024/08/this-sunday-copy.png
END:VEVENT
BEGIN:VEVENT
DTSTART;TZID=America/Edmonton:20280924T090000
DTEND;TZID=America/Edmonton:20280924T103000
DTSTAMP:20260424T131334
CREATED:20251218T170102Z
LAST-MODIFIED:20251218T170102Z
UID:10003673-1853398800-1853404200@linkchurch.org
SUMMARY:Sunday Morning Worship Service - 1st Service
DESCRIPTION:Come and join us for our Sunday Morning worship service at 9:00 AM every Sunday. \nLive stream is also available for the 9:00 AM service: http://www.facebook.com/linkchurchmedhat/live/ \nWe are located at 1714 Saamis Dr. NW. \nPlease contact info@linkchurch.org if you have any questions
URL:https://linkchurch.org/event/sunday-morning-worship-service-1st-service/2028-09-24/
LOCATION:The Link Church\, 1714 Saamis Dr NW\, Medicine Hat\, Alberta\, T1C1W7\, Canada
CATEGORIES:Worship Services
ATTACH;FMTTYPE=image/png:https://linkchurch.org/wordpress/wp-content/uploads/2024/08/this-sunday.png
END:VEVENT
BEGIN:VEVENT
DTSTART;TZID=America/Edmonton:20280924T110000
DTEND;TZID=America/Edmonton:20280924T123000
DTSTAMP:20260424T131334
CREATED:20251218T170349Z
LAST-MODIFIED:20251218T170349Z
UID:10003931-1853406000-1853411400@linkchurch.org
SUMMARY:Sunday Morning Worship Service - 2nd Service
DESCRIPTION:Come and join us for our Sunday Morning worship service at 11:00 AM every Sunday. \nThere is no Livestream for the 11:00 AM service \nWe are located at 1714 Saamis Dr. NW. \nPlease contact info@linkchurch.org if you have any questions
URL:https://linkchurch.org/event/sunday-morning-worship-service-2nd-service/2028-09-24/
LOCATION:The Link Church\, 1714 Saamis Dr NW\, Medicine Hat\, Alberta\, T1C1W7\, Canada
CATEGORIES:Worship Services
ATTACH;FMTTYPE=image/png:https://linkchurch.org/wordpress/wp-content/uploads/2024/08/this-sunday-copy.png
END:VEVENT
BEGIN:VEVENT
DTSTART;TZID=America/Edmonton:20281001T090000
DTEND;TZID=America/Edmonton:20281001T103000
DTSTAMP:20260424T131334
CREATED:20251218T170102Z
LAST-MODIFIED:20251218T170102Z
UID:10003674-1854003600-1854009000@linkchurch.org
SUMMARY:Sunday Morning Worship Service - 1st Service
DESCRIPTION:Come and join us for our Sunday Morning worship service at 9:00 AM every Sunday. \nLive stream is also available for the 9:00 AM service: http://www.facebook.com/linkchurchmedhat/live/ \nWe are located at 1714 Saamis Dr. NW. \nPlease contact info@linkchurch.org if you have any questions
URL:https://linkchurch.org/event/sunday-morning-worship-service-1st-service/2028-10-01/
LOCATION:The Link Church\, 1714 Saamis Dr NW\, Medicine Hat\, Alberta\, T1C1W7\, Canada
CATEGORIES:Worship Services
ATTACH;FMTTYPE=image/png:https://linkchurch.org/wordpress/wp-content/uploads/2024/08/this-sunday.png
END:VEVENT
BEGIN:VEVENT
DTSTART;TZID=America/Edmonton:20281001T110000
DTEND;TZID=America/Edmonton:20281001T123000
DTSTAMP:20260424T131334
CREATED:20251218T170349Z
LAST-MODIFIED:20251218T170349Z
UID:10003932-1854010800-1854016200@linkchurch.org
SUMMARY:Sunday Morning Worship Service - 2nd Service
DESCRIPTION:Come and join us for our Sunday Morning worship service at 11:00 AM every Sunday. \nThere is no Livestream for the 11:00 AM service \nWe are located at 1714 Saamis Dr. NW. \nPlease contact info@linkchurch.org if you have any questions
URL:https://linkchurch.org/event/sunday-morning-worship-service-2nd-service/2028-10-01/
LOCATION:The Link Church\, 1714 Saamis Dr NW\, Medicine Hat\, Alberta\, T1C1W7\, Canada
CATEGORIES:Worship Services
ATTACH;FMTTYPE=image/png:https://linkchurch.org/wordpress/wp-content/uploads/2024/08/this-sunday-copy.png
END:VEVENT
BEGIN:VEVENT
DTSTART;TZID=America/Edmonton:20281008T090000
DTEND;TZID=America/Edmonton:20281008T103000
DTSTAMP:20260424T131334
CREATED:20251218T170102Z
LAST-MODIFIED:20251218T170102Z
UID:10003675-1854608400-1854613800@linkchurch.org
SUMMARY:Sunday Morning Worship Service - 1st Service
DESCRIPTION:Come and join us for our Sunday Morning worship service at 9:00 AM every Sunday. \nLive stream is also available for the 9:00 AM service: http://www.facebook.com/linkchurchmedhat/live/ \nWe are located at 1714 Saamis Dr. NW. \nPlease contact info@linkchurch.org if you have any questions
URL:https://linkchurch.org/event/sunday-morning-worship-service-1st-service/2028-10-08/
LOCATION:The Link Church\, 1714 Saamis Dr NW\, Medicine Hat\, Alberta\, T1C1W7\, Canada
CATEGORIES:Worship Services
ATTACH;FMTTYPE=image/png:https://linkchurch.org/wordpress/wp-content/uploads/2024/08/this-sunday.png
END:VEVENT
BEGIN:VEVENT
DTSTART;TZID=America/Edmonton:20281008T110000
DTEND;TZID=America/Edmonton:20281008T123000
DTSTAMP:20260424T131334
CREATED:20251218T170349Z
LAST-MODIFIED:20251218T170349Z
UID:10003933-1854615600-1854621000@linkchurch.org
SUMMARY:Sunday Morning Worship Service - 2nd Service
DESCRIPTION:Come and join us for our Sunday Morning worship service at 11:00 AM every Sunday. \nThere is no Livestream for the 11:00 AM service \nWe are located at 1714 Saamis Dr. NW. \nPlease contact info@linkchurch.org if you have any questions
URL:https://linkchurch.org/event/sunday-morning-worship-service-2nd-service/2028-10-08/
LOCATION:The Link Church\, 1714 Saamis Dr NW\, Medicine Hat\, Alberta\, T1C1W7\, Canada
CATEGORIES:Worship Services
ATTACH;FMTTYPE=image/png:https://linkchurch.org/wordpress/wp-content/uploads/2024/08/this-sunday-copy.png
END:VEVENT
END:VCALENDAR