BEGIN:VCALENDAR
VERSION:2.0
PRODID:-//The Link Christian Fellowship - ECPv6.15.20//NONSGML v1.0//EN
CALSCALE:GREGORIAN
METHOD:PUBLISH
X-ORIGINAL-URL:https://linkchurch.org
X-WR-CALDESC:Events for The Link Christian Fellowship
REFRESH-INTERVAL;VALUE=DURATION:PT1H
X-Robots-Tag:noindex
X-PUBLISHED-TTL:PT1H
BEGIN:VTIMEZONE
TZID:America/Edmonton
BEGIN:DAYLIGHT
TZOFFSETFROM:-0700
TZOFFSETTO:-0600
TZNAME:MDT
DTSTART:20270314T090000
END:DAYLIGHT
BEGIN:STANDARD
TZOFFSETFROM:-0600
TZOFFSETTO:-0700
TZNAME:MST
DTSTART:20271107T080000
END:STANDARD
BEGIN:DAYLIGHT
TZOFFSETFROM:-0700
TZOFFSETTO:-0600
TZNAME:MDT
DTSTART:20280312T090000
END:DAYLIGHT
BEGIN:STANDARD
TZOFFSETFROM:-0600
TZOFFSETTO:-0700
TZNAME:MST
DTSTART:20281105T080000
END:STANDARD
BEGIN:DAYLIGHT
TZOFFSETFROM:-0700
TZOFFSETTO:-0600
TZNAME:MDT
DTSTART:20290311T090000
END:DAYLIGHT
BEGIN:STANDARD
TZOFFSETFROM:-0600
TZOFFSETTO:-0700
TZNAME:MST
DTSTART:20291104T080000
END:STANDARD
BEGIN:DAYLIGHT
TZOFFSETFROM:-0700
TZOFFSETTO:-0600
TZNAME:MDT
DTSTART:20300310T090000
END:DAYLIGHT
BEGIN:STANDARD
TZOFFSETFROM:-0600
TZOFFSETTO:-0700
TZNAME:MST
DTSTART:20301103T080000
END:STANDARD
END:VTIMEZONE
BEGIN:VEVENT
DTSTART;TZID=America/Edmonton:20281217T090000
DTEND;TZID=America/Edmonton:20281217T103000
DTSTAMP:20260424T201717
CREATED:20251218T170102Z
LAST-MODIFIED:20251218T170102Z
UID:10003685-1860656400-1860661800@linkchurch.org
SUMMARY:Sunday Morning Worship Service - 1st Service
DESCRIPTION:Come and join us for our Sunday Morning worship service at 9:00 AM every Sunday. \nLive stream is also available for the 9:00 AM service: http://www.facebook.com/linkchurchmedhat/live/ \nWe are located at 1714 Saamis Dr. NW. \nPlease contact info@linkchurch.org if you have any questions
URL:https://linkchurch.org/event/sunday-morning-worship-service-1st-service/2028-12-17/
LOCATION:The Link Church\, 1714 Saamis Dr NW\, Medicine Hat\, Alberta\, T1C1W7\, Canada
CATEGORIES:Worship Services
ATTACH;FMTTYPE=image/png:https://linkchurch.org/wordpress/wp-content/uploads/2024/08/this-sunday.png
END:VEVENT
BEGIN:VEVENT
DTSTART;TZID=America/Edmonton:20281217T110000
DTEND;TZID=America/Edmonton:20281217T123000
DTSTAMP:20260424T201717
CREATED:20251218T170349Z
LAST-MODIFIED:20251218T170349Z
UID:10003943-1860663600-1860669000@linkchurch.org
SUMMARY:Sunday Morning Worship Service - 2nd Service
DESCRIPTION:Come and join us for our Sunday Morning worship service at 11:00 AM every Sunday. \nThere is no Livestream for the 11:00 AM service \nWe are located at 1714 Saamis Dr. NW. \nPlease contact info@linkchurch.org if you have any questions
URL:https://linkchurch.org/event/sunday-morning-worship-service-2nd-service/2028-12-17/
LOCATION:The Link Church\, 1714 Saamis Dr NW\, Medicine Hat\, Alberta\, T1C1W7\, Canada
CATEGORIES:Worship Services
ATTACH;FMTTYPE=image/png:https://linkchurch.org/wordpress/wp-content/uploads/2024/08/this-sunday-copy.png
END:VEVENT
BEGIN:VEVENT
DTSTART;TZID=America/Edmonton:20281224T090000
DTEND;TZID=America/Edmonton:20281224T103000
DTSTAMP:20260424T201717
CREATED:20251218T170102Z
LAST-MODIFIED:20251218T170102Z
UID:10003686-1861261200-1861266600@linkchurch.org
SUMMARY:Sunday Morning Worship Service - 1st Service
DESCRIPTION:Come and join us for our Sunday Morning worship service at 9:00 AM every Sunday. \nLive stream is also available for the 9:00 AM service: http://www.facebook.com/linkchurchmedhat/live/ \nWe are located at 1714 Saamis Dr. NW. \nPlease contact info@linkchurch.org if you have any questions
URL:https://linkchurch.org/event/sunday-morning-worship-service-1st-service/2028-12-24/
LOCATION:The Link Church\, 1714 Saamis Dr NW\, Medicine Hat\, Alberta\, T1C1W7\, Canada
CATEGORIES:Worship Services
ATTACH;FMTTYPE=image/png:https://linkchurch.org/wordpress/wp-content/uploads/2024/08/this-sunday.png
END:VEVENT
BEGIN:VEVENT
DTSTART;TZID=America/Edmonton:20281224T110000
DTEND;TZID=America/Edmonton:20281224T123000
DTSTAMP:20260424T201717
CREATED:20251218T170349Z
LAST-MODIFIED:20251218T170349Z
UID:10003944-1861268400-1861273800@linkchurch.org
SUMMARY:Sunday Morning Worship Service - 2nd Service
DESCRIPTION:Come and join us for our Sunday Morning worship service at 11:00 AM every Sunday. \nThere is no Livestream for the 11:00 AM service \nWe are located at 1714 Saamis Dr. NW. \nPlease contact info@linkchurch.org if you have any questions
URL:https://linkchurch.org/event/sunday-morning-worship-service-2nd-service/2028-12-24/
LOCATION:The Link Church\, 1714 Saamis Dr NW\, Medicine Hat\, Alberta\, T1C1W7\, Canada
CATEGORIES:Worship Services
ATTACH;FMTTYPE=image/png:https://linkchurch.org/wordpress/wp-content/uploads/2024/08/this-sunday-copy.png
END:VEVENT
BEGIN:VEVENT
DTSTART;TZID=America/Edmonton:20281231T090000
DTEND;TZID=America/Edmonton:20281231T103000
DTSTAMP:20260424T201717
CREATED:20251218T170102Z
LAST-MODIFIED:20251218T170102Z
UID:10003687-1861866000-1861871400@linkchurch.org
SUMMARY:Sunday Morning Worship Service - 1st Service
DESCRIPTION:Come and join us for our Sunday Morning worship service at 9:00 AM every Sunday. \nLive stream is also available for the 9:00 AM service: http://www.facebook.com/linkchurchmedhat/live/ \nWe are located at 1714 Saamis Dr. NW. \nPlease contact info@linkchurch.org if you have any questions
URL:https://linkchurch.org/event/sunday-morning-worship-service-1st-service/2028-12-31/
LOCATION:The Link Church\, 1714 Saamis Dr NW\, Medicine Hat\, Alberta\, T1C1W7\, Canada
CATEGORIES:Worship Services
ATTACH;FMTTYPE=image/png:https://linkchurch.org/wordpress/wp-content/uploads/2024/08/this-sunday.png
END:VEVENT
BEGIN:VEVENT
DTSTART;TZID=America/Edmonton:20281231T110000
DTEND;TZID=America/Edmonton:20281231T123000
DTSTAMP:20260424T201717
CREATED:20251218T170349Z
LAST-MODIFIED:20251218T170349Z
UID:10003945-1861873200-1861878600@linkchurch.org
SUMMARY:Sunday Morning Worship Service - 2nd Service
DESCRIPTION:Come and join us for our Sunday Morning worship service at 11:00 AM every Sunday. \nThere is no Livestream for the 11:00 AM service \nWe are located at 1714 Saamis Dr. NW. \nPlease contact info@linkchurch.org if you have any questions
URL:https://linkchurch.org/event/sunday-morning-worship-service-2nd-service/2028-12-31/
LOCATION:The Link Church\, 1714 Saamis Dr NW\, Medicine Hat\, Alberta\, T1C1W7\, Canada
CATEGORIES:Worship Services
ATTACH;FMTTYPE=image/png:https://linkchurch.org/wordpress/wp-content/uploads/2024/08/this-sunday-copy.png
END:VEVENT
BEGIN:VEVENT
DTSTART;TZID=America/Edmonton:20290107T090000
DTEND;TZID=America/Edmonton:20290107T103000
DTSTAMP:20260424T201717
CREATED:20251218T170102Z
LAST-MODIFIED:20251218T170102Z
UID:10003688-1862470800-1862476200@linkchurch.org
SUMMARY:Sunday Morning Worship Service - 1st Service
DESCRIPTION:Come and join us for our Sunday Morning worship service at 9:00 AM every Sunday. \nLive stream is also available for the 9:00 AM service: http://www.facebook.com/linkchurchmedhat/live/ \nWe are located at 1714 Saamis Dr. NW. \nPlease contact info@linkchurch.org if you have any questions
URL:https://linkchurch.org/event/sunday-morning-worship-service-1st-service/2029-01-07/
LOCATION:The Link Church\, 1714 Saamis Dr NW\, Medicine Hat\, Alberta\, T1C1W7\, Canada
CATEGORIES:Worship Services
ATTACH;FMTTYPE=image/png:https://linkchurch.org/wordpress/wp-content/uploads/2024/08/this-sunday.png
END:VEVENT
BEGIN:VEVENT
DTSTART;TZID=America/Edmonton:20290107T110000
DTEND;TZID=America/Edmonton:20290107T123000
DTSTAMP:20260424T201717
CREATED:20251218T170349Z
LAST-MODIFIED:20251218T170349Z
UID:10003946-1862478000-1862483400@linkchurch.org
SUMMARY:Sunday Morning Worship Service - 2nd Service
DESCRIPTION:Come and join us for our Sunday Morning worship service at 11:00 AM every Sunday. \nThere is no Livestream for the 11:00 AM service \nWe are located at 1714 Saamis Dr. NW. \nPlease contact info@linkchurch.org if you have any questions
URL:https://linkchurch.org/event/sunday-morning-worship-service-2nd-service/2029-01-07/
LOCATION:The Link Church\, 1714 Saamis Dr NW\, Medicine Hat\, Alberta\, T1C1W7\, Canada
CATEGORIES:Worship Services
ATTACH;FMTTYPE=image/png:https://linkchurch.org/wordpress/wp-content/uploads/2024/08/this-sunday-copy.png
END:VEVENT
BEGIN:VEVENT
DTSTART;TZID=America/Edmonton:20290114T090000
DTEND;TZID=America/Edmonton:20290114T103000
DTSTAMP:20260424T201717
CREATED:20251218T170102Z
LAST-MODIFIED:20251218T170102Z
UID:10003689-1863075600-1863081000@linkchurch.org
SUMMARY:Sunday Morning Worship Service - 1st Service
DESCRIPTION:Come and join us for our Sunday Morning worship service at 9:00 AM every Sunday. \nLive stream is also available for the 9:00 AM service: http://www.facebook.com/linkchurchmedhat/live/ \nWe are located at 1714 Saamis Dr. NW. \nPlease contact info@linkchurch.org if you have any questions
URL:https://linkchurch.org/event/sunday-morning-worship-service-1st-service/2029-01-14/
LOCATION:The Link Church\, 1714 Saamis Dr NW\, Medicine Hat\, Alberta\, T1C1W7\, Canada
CATEGORIES:Worship Services
ATTACH;FMTTYPE=image/png:https://linkchurch.org/wordpress/wp-content/uploads/2024/08/this-sunday.png
END:VEVENT
BEGIN:VEVENT
DTSTART;TZID=America/Edmonton:20290114T110000
DTEND;TZID=America/Edmonton:20290114T123000
DTSTAMP:20260424T201717
CREATED:20251218T170349Z
LAST-MODIFIED:20251218T170349Z
UID:10003947-1863082800-1863088200@linkchurch.org
SUMMARY:Sunday Morning Worship Service - 2nd Service
DESCRIPTION:Come and join us for our Sunday Morning worship service at 11:00 AM every Sunday. \nThere is no Livestream for the 11:00 AM service \nWe are located at 1714 Saamis Dr. NW. \nPlease contact info@linkchurch.org if you have any questions
URL:https://linkchurch.org/event/sunday-morning-worship-service-2nd-service/2029-01-14/
LOCATION:The Link Church\, 1714 Saamis Dr NW\, Medicine Hat\, Alberta\, T1C1W7\, Canada
CATEGORIES:Worship Services
ATTACH;FMTTYPE=image/png:https://linkchurch.org/wordpress/wp-content/uploads/2024/08/this-sunday-copy.png
END:VEVENT
BEGIN:VEVENT
DTSTART;TZID=America/Edmonton:20290121T090000
DTEND;TZID=America/Edmonton:20290121T103000
DTSTAMP:20260424T201717
CREATED:20251218T170102Z
LAST-MODIFIED:20251218T170102Z
UID:10003690-1863680400-1863685800@linkchurch.org
SUMMARY:Sunday Morning Worship Service - 1st Service
DESCRIPTION:Come and join us for our Sunday Morning worship service at 9:00 AM every Sunday. \nLive stream is also available for the 9:00 AM service: http://www.facebook.com/linkchurchmedhat/live/ \nWe are located at 1714 Saamis Dr. NW. \nPlease contact info@linkchurch.org if you have any questions
URL:https://linkchurch.org/event/sunday-morning-worship-service-1st-service/2029-01-21/
LOCATION:The Link Church\, 1714 Saamis Dr NW\, Medicine Hat\, Alberta\, T1C1W7\, Canada
CATEGORIES:Worship Services
ATTACH;FMTTYPE=image/png:https://linkchurch.org/wordpress/wp-content/uploads/2024/08/this-sunday.png
END:VEVENT
BEGIN:VEVENT
DTSTART;TZID=America/Edmonton:20290121T110000
DTEND;TZID=America/Edmonton:20290121T123000
DTSTAMP:20260424T201717
CREATED:20251218T170349Z
LAST-MODIFIED:20251218T170349Z
UID:10003948-1863687600-1863693000@linkchurch.org
SUMMARY:Sunday Morning Worship Service - 2nd Service
DESCRIPTION:Come and join us for our Sunday Morning worship service at 11:00 AM every Sunday. \nThere is no Livestream for the 11:00 AM service \nWe are located at 1714 Saamis Dr. NW. \nPlease contact info@linkchurch.org if you have any questions
URL:https://linkchurch.org/event/sunday-morning-worship-service-2nd-service/2029-01-21/
LOCATION:The Link Church\, 1714 Saamis Dr NW\, Medicine Hat\, Alberta\, T1C1W7\, Canada
CATEGORIES:Worship Services
ATTACH;FMTTYPE=image/png:https://linkchurch.org/wordpress/wp-content/uploads/2024/08/this-sunday-copy.png
END:VEVENT
BEGIN:VEVENT
DTSTART;TZID=America/Edmonton:20290128T090000
DTEND;TZID=America/Edmonton:20290128T103000
DTSTAMP:20260424T201717
CREATED:20251218T170102Z
LAST-MODIFIED:20251218T170102Z
UID:10003691-1864285200-1864290600@linkchurch.org
SUMMARY:Sunday Morning Worship Service - 1st Service
DESCRIPTION:Come and join us for our Sunday Morning worship service at 9:00 AM every Sunday. \nLive stream is also available for the 9:00 AM service: http://www.facebook.com/linkchurchmedhat/live/ \nWe are located at 1714 Saamis Dr. NW. \nPlease contact info@linkchurch.org if you have any questions
URL:https://linkchurch.org/event/sunday-morning-worship-service-1st-service/2029-01-28/
LOCATION:The Link Church\, 1714 Saamis Dr NW\, Medicine Hat\, Alberta\, T1C1W7\, Canada
CATEGORIES:Worship Services
ATTACH;FMTTYPE=image/png:https://linkchurch.org/wordpress/wp-content/uploads/2024/08/this-sunday.png
END:VEVENT
BEGIN:VEVENT
DTSTART;TZID=America/Edmonton:20290128T110000
DTEND;TZID=America/Edmonton:20290128T123000
DTSTAMP:20260424T201717
CREATED:20251218T170349Z
LAST-MODIFIED:20251218T170349Z
UID:10003949-1864292400-1864297800@linkchurch.org
SUMMARY:Sunday Morning Worship Service - 2nd Service
DESCRIPTION:Come and join us for our Sunday Morning worship service at 11:00 AM every Sunday. \nThere is no Livestream for the 11:00 AM service \nWe are located at 1714 Saamis Dr. NW. \nPlease contact info@linkchurch.org if you have any questions
URL:https://linkchurch.org/event/sunday-morning-worship-service-2nd-service/2029-01-28/
LOCATION:The Link Church\, 1714 Saamis Dr NW\, Medicine Hat\, Alberta\, T1C1W7\, Canada
CATEGORIES:Worship Services
ATTACH;FMTTYPE=image/png:https://linkchurch.org/wordpress/wp-content/uploads/2024/08/this-sunday-copy.png
END:VEVENT
BEGIN:VEVENT
DTSTART;TZID=America/Edmonton:20290204T090000
DTEND;TZID=America/Edmonton:20290204T103000
DTSTAMP:20260424T201717
CREATED:20251218T170102Z
LAST-MODIFIED:20251218T170102Z
UID:10003692-1864890000-1864895400@linkchurch.org
SUMMARY:Sunday Morning Worship Service - 1st Service
DESCRIPTION:Come and join us for our Sunday Morning worship service at 9:00 AM every Sunday. \nLive stream is also available for the 9:00 AM service: http://www.facebook.com/linkchurchmedhat/live/ \nWe are located at 1714 Saamis Dr. NW. \nPlease contact info@linkchurch.org if you have any questions
URL:https://linkchurch.org/event/sunday-morning-worship-service-1st-service/2029-02-04/
LOCATION:The Link Church\, 1714 Saamis Dr NW\, Medicine Hat\, Alberta\, T1C1W7\, Canada
CATEGORIES:Worship Services
ATTACH;FMTTYPE=image/png:https://linkchurch.org/wordpress/wp-content/uploads/2024/08/this-sunday.png
END:VEVENT
BEGIN:VEVENT
DTSTART;TZID=America/Edmonton:20290204T110000
DTEND;TZID=America/Edmonton:20290204T123000
DTSTAMP:20260424T201717
CREATED:20251218T170349Z
LAST-MODIFIED:20251218T170349Z
UID:10003950-1864897200-1864902600@linkchurch.org
SUMMARY:Sunday Morning Worship Service - 2nd Service
DESCRIPTION:Come and join us for our Sunday Morning worship service at 11:00 AM every Sunday. \nThere is no Livestream for the 11:00 AM service \nWe are located at 1714 Saamis Dr. NW. \nPlease contact info@linkchurch.org if you have any questions
URL:https://linkchurch.org/event/sunday-morning-worship-service-2nd-service/2029-02-04/
LOCATION:The Link Church\, 1714 Saamis Dr NW\, Medicine Hat\, Alberta\, T1C1W7\, Canada
CATEGORIES:Worship Services
ATTACH;FMTTYPE=image/png:https://linkchurch.org/wordpress/wp-content/uploads/2024/08/this-sunday-copy.png
END:VEVENT
BEGIN:VEVENT
DTSTART;TZID=America/Edmonton:20290211T090000
DTEND;TZID=America/Edmonton:20290211T103000
DTSTAMP:20260424T201717
CREATED:20251218T170102Z
LAST-MODIFIED:20251218T170102Z
UID:10003693-1865494800-1865500200@linkchurch.org
SUMMARY:Sunday Morning Worship Service - 1st Service
DESCRIPTION:Come and join us for our Sunday Morning worship service at 9:00 AM every Sunday. \nLive stream is also available for the 9:00 AM service: http://www.facebook.com/linkchurchmedhat/live/ \nWe are located at 1714 Saamis Dr. NW. \nPlease contact info@linkchurch.org if you have any questions
URL:https://linkchurch.org/event/sunday-morning-worship-service-1st-service/2029-02-11/
LOCATION:The Link Church\, 1714 Saamis Dr NW\, Medicine Hat\, Alberta\, T1C1W7\, Canada
CATEGORIES:Worship Services
ATTACH;FMTTYPE=image/png:https://linkchurch.org/wordpress/wp-content/uploads/2024/08/this-sunday.png
END:VEVENT
BEGIN:VEVENT
DTSTART;TZID=America/Edmonton:20290211T110000
DTEND;TZID=America/Edmonton:20290211T123000
DTSTAMP:20260424T201717
CREATED:20251218T170349Z
LAST-MODIFIED:20251218T170349Z
UID:10003951-1865502000-1865507400@linkchurch.org
SUMMARY:Sunday Morning Worship Service - 2nd Service
DESCRIPTION:Come and join us for our Sunday Morning worship service at 11:00 AM every Sunday. \nThere is no Livestream for the 11:00 AM service \nWe are located at 1714 Saamis Dr. NW. \nPlease contact info@linkchurch.org if you have any questions
URL:https://linkchurch.org/event/sunday-morning-worship-service-2nd-service/2029-02-11/
LOCATION:The Link Church\, 1714 Saamis Dr NW\, Medicine Hat\, Alberta\, T1C1W7\, Canada
CATEGORIES:Worship Services
ATTACH;FMTTYPE=image/png:https://linkchurch.org/wordpress/wp-content/uploads/2024/08/this-sunday-copy.png
END:VEVENT
BEGIN:VEVENT
DTSTART;TZID=America/Edmonton:20290218T090000
DTEND;TZID=America/Edmonton:20290218T103000
DTSTAMP:20260424T201717
CREATED:20251218T170102Z
LAST-MODIFIED:20251218T170102Z
UID:10003694-1866099600-1866105000@linkchurch.org
SUMMARY:Sunday Morning Worship Service - 1st Service
DESCRIPTION:Come and join us for our Sunday Morning worship service at 9:00 AM every Sunday. \nLive stream is also available for the 9:00 AM service: http://www.facebook.com/linkchurchmedhat/live/ \nWe are located at 1714 Saamis Dr. NW. \nPlease contact info@linkchurch.org if you have any questions
URL:https://linkchurch.org/event/sunday-morning-worship-service-1st-service/2029-02-18/
LOCATION:The Link Church\, 1714 Saamis Dr NW\, Medicine Hat\, Alberta\, T1C1W7\, Canada
CATEGORIES:Worship Services
ATTACH;FMTTYPE=image/png:https://linkchurch.org/wordpress/wp-content/uploads/2024/08/this-sunday.png
END:VEVENT
BEGIN:VEVENT
DTSTART;TZID=America/Edmonton:20290218T110000
DTEND;TZID=America/Edmonton:20290218T123000
DTSTAMP:20260424T201717
CREATED:20251218T170349Z
LAST-MODIFIED:20251218T170349Z
UID:10003952-1866106800-1866112200@linkchurch.org
SUMMARY:Sunday Morning Worship Service - 2nd Service
DESCRIPTION:Come and join us for our Sunday Morning worship service at 11:00 AM every Sunday. \nThere is no Livestream for the 11:00 AM service \nWe are located at 1714 Saamis Dr. NW. \nPlease contact info@linkchurch.org if you have any questions
URL:https://linkchurch.org/event/sunday-morning-worship-service-2nd-service/2029-02-18/
LOCATION:The Link Church\, 1714 Saamis Dr NW\, Medicine Hat\, Alberta\, T1C1W7\, Canada
CATEGORIES:Worship Services
ATTACH;FMTTYPE=image/png:https://linkchurch.org/wordpress/wp-content/uploads/2024/08/this-sunday-copy.png
END:VEVENT
BEGIN:VEVENT
DTSTART;TZID=America/Edmonton:20290225T090000
DTEND;TZID=America/Edmonton:20290225T103000
DTSTAMP:20260424T201717
CREATED:20251218T170102Z
LAST-MODIFIED:20251218T170102Z
UID:10003695-1866704400-1866709800@linkchurch.org
SUMMARY:Sunday Morning Worship Service - 1st Service
DESCRIPTION:Come and join us for our Sunday Morning worship service at 9:00 AM every Sunday. \nLive stream is also available for the 9:00 AM service: http://www.facebook.com/linkchurchmedhat/live/ \nWe are located at 1714 Saamis Dr. NW. \nPlease contact info@linkchurch.org if you have any questions
URL:https://linkchurch.org/event/sunday-morning-worship-service-1st-service/2029-02-25/
LOCATION:The Link Church\, 1714 Saamis Dr NW\, Medicine Hat\, Alberta\, T1C1W7\, Canada
CATEGORIES:Worship Services
ATTACH;FMTTYPE=image/png:https://linkchurch.org/wordpress/wp-content/uploads/2024/08/this-sunday.png
END:VEVENT
BEGIN:VEVENT
DTSTART;TZID=America/Edmonton:20290225T110000
DTEND;TZID=America/Edmonton:20290225T123000
DTSTAMP:20260424T201717
CREATED:20251218T170349Z
LAST-MODIFIED:20251218T170349Z
UID:10003953-1866711600-1866717000@linkchurch.org
SUMMARY:Sunday Morning Worship Service - 2nd Service
DESCRIPTION:Come and join us for our Sunday Morning worship service at 11:00 AM every Sunday. \nThere is no Livestream for the 11:00 AM service \nWe are located at 1714 Saamis Dr. NW. \nPlease contact info@linkchurch.org if you have any questions
URL:https://linkchurch.org/event/sunday-morning-worship-service-2nd-service/2029-02-25/
LOCATION:The Link Church\, 1714 Saamis Dr NW\, Medicine Hat\, Alberta\, T1C1W7\, Canada
CATEGORIES:Worship Services
ATTACH;FMTTYPE=image/png:https://linkchurch.org/wordpress/wp-content/uploads/2024/08/this-sunday-copy.png
END:VEVENT
BEGIN:VEVENT
DTSTART;TZID=America/Edmonton:20290304T090000
DTEND;TZID=America/Edmonton:20290304T103000
DTSTAMP:20260424T201717
CREATED:20251218T170102Z
LAST-MODIFIED:20251218T170102Z
UID:10003696-1867309200-1867314600@linkchurch.org
SUMMARY:Sunday Morning Worship Service - 1st Service
DESCRIPTION:Come and join us for our Sunday Morning worship service at 9:00 AM every Sunday. \nLive stream is also available for the 9:00 AM service: http://www.facebook.com/linkchurchmedhat/live/ \nWe are located at 1714 Saamis Dr. NW. \nPlease contact info@linkchurch.org if you have any questions
URL:https://linkchurch.org/event/sunday-morning-worship-service-1st-service/2029-03-04/
LOCATION:The Link Church\, 1714 Saamis Dr NW\, Medicine Hat\, Alberta\, T1C1W7\, Canada
CATEGORIES:Worship Services
ATTACH;FMTTYPE=image/png:https://linkchurch.org/wordpress/wp-content/uploads/2024/08/this-sunday.png
END:VEVENT
BEGIN:VEVENT
DTSTART;TZID=America/Edmonton:20290304T110000
DTEND;TZID=America/Edmonton:20290304T123000
DTSTAMP:20260424T201717
CREATED:20251218T170349Z
LAST-MODIFIED:20251218T170349Z
UID:10003954-1867316400-1867321800@linkchurch.org
SUMMARY:Sunday Morning Worship Service - 2nd Service
DESCRIPTION:Come and join us for our Sunday Morning worship service at 11:00 AM every Sunday. \nThere is no Livestream for the 11:00 AM service \nWe are located at 1714 Saamis Dr. NW. \nPlease contact info@linkchurch.org if you have any questions
URL:https://linkchurch.org/event/sunday-morning-worship-service-2nd-service/2029-03-04/
LOCATION:The Link Church\, 1714 Saamis Dr NW\, Medicine Hat\, Alberta\, T1C1W7\, Canada
CATEGORIES:Worship Services
ATTACH;FMTTYPE=image/png:https://linkchurch.org/wordpress/wp-content/uploads/2024/08/this-sunday-copy.png
END:VEVENT
BEGIN:VEVENT
DTSTART;TZID=America/Edmonton:20290311T090000
DTEND;TZID=America/Edmonton:20290311T103000
DTSTAMP:20260424T201717
CREATED:20251218T170102Z
LAST-MODIFIED:20251218T170102Z
UID:10003697-1867914000-1867919400@linkchurch.org
SUMMARY:Sunday Morning Worship Service - 1st Service
DESCRIPTION:Come and join us for our Sunday Morning worship service at 9:00 AM every Sunday. \nLive stream is also available for the 9:00 AM service: http://www.facebook.com/linkchurchmedhat/live/ \nWe are located at 1714 Saamis Dr. NW. \nPlease contact info@linkchurch.org if you have any questions
URL:https://linkchurch.org/event/sunday-morning-worship-service-1st-service/2029-03-11/
LOCATION:The Link Church\, 1714 Saamis Dr NW\, Medicine Hat\, Alberta\, T1C1W7\, Canada
CATEGORIES:Worship Services
ATTACH;FMTTYPE=image/png:https://linkchurch.org/wordpress/wp-content/uploads/2024/08/this-sunday.png
END:VEVENT
BEGIN:VEVENT
DTSTART;TZID=America/Edmonton:20290311T110000
DTEND;TZID=America/Edmonton:20290311T123000
DTSTAMP:20260424T201717
CREATED:20251218T170349Z
LAST-MODIFIED:20251218T170349Z
UID:10003955-1867921200-1867926600@linkchurch.org
SUMMARY:Sunday Morning Worship Service - 2nd Service
DESCRIPTION:Come and join us for our Sunday Morning worship service at 11:00 AM every Sunday. \nThere is no Livestream for the 11:00 AM service \nWe are located at 1714 Saamis Dr. NW. \nPlease contact info@linkchurch.org if you have any questions
URL:https://linkchurch.org/event/sunday-morning-worship-service-2nd-service/2029-03-11/
LOCATION:The Link Church\, 1714 Saamis Dr NW\, Medicine Hat\, Alberta\, T1C1W7\, Canada
CATEGORIES:Worship Services
ATTACH;FMTTYPE=image/png:https://linkchurch.org/wordpress/wp-content/uploads/2024/08/this-sunday-copy.png
END:VEVENT
BEGIN:VEVENT
DTSTART;TZID=America/Edmonton:20290318T090000
DTEND;TZID=America/Edmonton:20290318T103000
DTSTAMP:20260424T201717
CREATED:20251218T170102Z
LAST-MODIFIED:20251218T170102Z
UID:10003698-1868518800-1868524200@linkchurch.org
SUMMARY:Sunday Morning Worship Service - 1st Service
DESCRIPTION:Come and join us for our Sunday Morning worship service at 9:00 AM every Sunday. \nLive stream is also available for the 9:00 AM service: http://www.facebook.com/linkchurchmedhat/live/ \nWe are located at 1714 Saamis Dr. NW. \nPlease contact info@linkchurch.org if you have any questions
URL:https://linkchurch.org/event/sunday-morning-worship-service-1st-service/2029-03-18/
LOCATION:The Link Church\, 1714 Saamis Dr NW\, Medicine Hat\, Alberta\, T1C1W7\, Canada
CATEGORIES:Worship Services
ATTACH;FMTTYPE=image/png:https://linkchurch.org/wordpress/wp-content/uploads/2024/08/this-sunday.png
END:VEVENT
BEGIN:VEVENT
DTSTART;TZID=America/Edmonton:20290318T110000
DTEND;TZID=America/Edmonton:20290318T123000
DTSTAMP:20260424T201717
CREATED:20251218T170349Z
LAST-MODIFIED:20251218T170349Z
UID:10003956-1868526000-1868531400@linkchurch.org
SUMMARY:Sunday Morning Worship Service - 2nd Service
DESCRIPTION:Come and join us for our Sunday Morning worship service at 11:00 AM every Sunday. \nThere is no Livestream for the 11:00 AM service \nWe are located at 1714 Saamis Dr. NW. \nPlease contact info@linkchurch.org if you have any questions
URL:https://linkchurch.org/event/sunday-morning-worship-service-2nd-service/2029-03-18/
LOCATION:The Link Church\, 1714 Saamis Dr NW\, Medicine Hat\, Alberta\, T1C1W7\, Canada
CATEGORIES:Worship Services
ATTACH;FMTTYPE=image/png:https://linkchurch.org/wordpress/wp-content/uploads/2024/08/this-sunday-copy.png
END:VEVENT
BEGIN:VEVENT
DTSTART;TZID=America/Edmonton:20290325T090000
DTEND;TZID=America/Edmonton:20290325T103000
DTSTAMP:20260424T201717
CREATED:20251218T170102Z
LAST-MODIFIED:20251218T170102Z
UID:10003699-1869123600-1869129000@linkchurch.org
SUMMARY:Sunday Morning Worship Service - 1st Service
DESCRIPTION:Come and join us for our Sunday Morning worship service at 9:00 AM every Sunday. \nLive stream is also available for the 9:00 AM service: http://www.facebook.com/linkchurchmedhat/live/ \nWe are located at 1714 Saamis Dr. NW. \nPlease contact info@linkchurch.org if you have any questions
URL:https://linkchurch.org/event/sunday-morning-worship-service-1st-service/2029-03-25/
LOCATION:The Link Church\, 1714 Saamis Dr NW\, Medicine Hat\, Alberta\, T1C1W7\, Canada
CATEGORIES:Worship Services
ATTACH;FMTTYPE=image/png:https://linkchurch.org/wordpress/wp-content/uploads/2024/08/this-sunday.png
END:VEVENT
BEGIN:VEVENT
DTSTART;TZID=America/Edmonton:20290325T110000
DTEND;TZID=America/Edmonton:20290325T123000
DTSTAMP:20260424T201717
CREATED:20251218T170349Z
LAST-MODIFIED:20251218T170349Z
UID:10003957-1869130800-1869136200@linkchurch.org
SUMMARY:Sunday Morning Worship Service - 2nd Service
DESCRIPTION:Come and join us for our Sunday Morning worship service at 11:00 AM every Sunday. \nThere is no Livestream for the 11:00 AM service \nWe are located at 1714 Saamis Dr. NW. \nPlease contact info@linkchurch.org if you have any questions
URL:https://linkchurch.org/event/sunday-morning-worship-service-2nd-service/2029-03-25/
LOCATION:The Link Church\, 1714 Saamis Dr NW\, Medicine Hat\, Alberta\, T1C1W7\, Canada
CATEGORIES:Worship Services
ATTACH;FMTTYPE=image/png:https://linkchurch.org/wordpress/wp-content/uploads/2024/08/this-sunday-copy.png
END:VEVENT
END:VCALENDAR