BEGIN:VCALENDAR
VERSION:2.0
PRODID:-//The Link Christian Fellowship - ECPv6.15.20//NONSGML v1.0//EN
CALSCALE:GREGORIAN
METHOD:PUBLISH
X-WR-CALNAME:The Link Christian Fellowship
X-ORIGINAL-URL:https://linkchurch.org
X-WR-CALDESC:Events for The Link Christian Fellowship
REFRESH-INTERVAL;VALUE=DURATION:PT1H
X-Robots-Tag:noindex
X-PUBLISHED-TTL:PT1H
BEGIN:VTIMEZONE
TZID:America/Edmonton
BEGIN:DAYLIGHT
TZOFFSETFROM:-0700
TZOFFSETTO:-0600
TZNAME:MDT
DTSTART:20240310T090000
END:DAYLIGHT
BEGIN:STANDARD
TZOFFSETFROM:-0600
TZOFFSETTO:-0700
TZNAME:MST
DTSTART:20241103T080000
END:STANDARD
BEGIN:DAYLIGHT
TZOFFSETFROM:-0700
TZOFFSETTO:-0600
TZNAME:MDT
DTSTART:20250309T090000
END:DAYLIGHT
BEGIN:STANDARD
TZOFFSETFROM:-0600
TZOFFSETTO:-0700
TZNAME:MST
DTSTART:20251102T080000
END:STANDARD
BEGIN:DAYLIGHT
TZOFFSETFROM:-0700
TZOFFSETTO:-0600
TZNAME:MDT
DTSTART:20260308T090000
END:DAYLIGHT
BEGIN:STANDARD
TZOFFSETFROM:-0600
TZOFFSETTO:-0700
TZNAME:MST
DTSTART:20261101T080000
END:STANDARD
END:VTIMEZONE
BEGIN:VEVENT
DTSTART;TZID=America/Edmonton:20250304T060000
DTEND;TZID=America/Edmonton:20250304T070000
DTSTAMP:20260424T215600
CREATED:20241218T203820Z
LAST-MODIFIED:20250109T172113Z
UID:10002915-1741068000-1741071600@linkchurch.org
SUMMARY:The Way Mentoring Group
DESCRIPTION:
URL:https://linkchurch.org/event/the-way-mentoring-group/2025-03-04/
LOCATION:The Link Church\, 1714 Saamis Dr NW\, Medicine Hat\, Alberta\, T1C1W7\, Canada
CATEGORIES:Bible Studies
ATTACH;FMTTYPE=image/jpeg:https://linkchurch.org/wordpress/wp-content/uploads/2024/12/Together.jpg
END:VEVENT
BEGIN:VEVENT
DTSTART;TZID=America/Edmonton:20250303T190000
DTEND;TZID=America/Edmonton:20250303T210000
DTSTAMP:20260424T215600
CREATED:20241218T193357Z
LAST-MODIFIED:20250109T172140Z
UID:10002750-1741028400-1741035600@linkchurch.org
SUMMARY:Men's Ministry
DESCRIPTION:This group is open to all men wherever you are at with your relationship with the Lord. \nContact Clark Kurpjuweit (403) 581-8972\, clarkrenate@gmail.com \nor Pastor Rick Aupperle (403) 700-7140\, rick@linkchurch.org
URL:https://linkchurch.org/event/mens-ministry/2025-03-03/
LOCATION:The Link Church\, 1714 Saamis Dr NW\, Medicine Hat\, Alberta\, T1C1W7\, Canada
CATEGORIES:Men's Ministry
ATTACH;FMTTYPE=image/jpeg:https://linkchurch.org/wordpress/wp-content/uploads/2024/12/Your-paragraph-text.jpg
END:VEVENT
BEGIN:VEVENT
DTSTART;TZID=America/Edmonton:20250303T183000
DTEND;TZID=America/Edmonton:20250303T200000
DTSTAMP:20260424T215600
CREATED:20241218T204228Z
LAST-MODIFIED:20250514T162645Z
UID:10002939-1741026600-1741032000@linkchurch.org
SUMMARY:Mini Youth
DESCRIPTION:Mini Youth provides a space for kids in grades 4-6 to be discipled by leaders\, mature in their faith\, and share the gospel message with their friends.
URL:https://linkchurch.org/event/mini-youth/2025-03-03/
LOCATION:The Link Church\, 1714 Saamis Dr NW\, Medicine Hat\, Alberta\, T1C1W7\, Canada
CATEGORIES:Link Kids,Link Youth
ATTACH;FMTTYPE=image/jpeg:https://linkchurch.org/wordpress/wp-content/uploads/2024/12/MINI-1.jpg
END:VEVENT
BEGIN:VEVENT
DTSTART;TZID=America/Edmonton:20250302T183000
DTEND;TZID=America/Edmonton:20250302T200000
DTSTAMP:20260424T215600
CREATED:20250213T184225Z
LAST-MODIFIED:20250213T184253Z
UID:10002967-1740940200-1740945600@linkchurch.org
SUMMARY:Prayer & Worship Night
DESCRIPTION:
URL:https://linkchurch.org/event/prayer-worship-night-2/
LOCATION:The Link Church\, 1714 Saamis Dr NW\, Medicine Hat\, Alberta\, T1C1W7\, Canada
CATEGORIES:Special Events
ATTACH;FMTTYPE=image/jpeg:https://linkchurch.org/wordpress/wp-content/uploads/2025/02/Prayer-Worship-night.jpg
END:VEVENT
BEGIN:VEVENT
DTSTART;TZID=America/Edmonton:20250302T110000
DTEND;TZID=America/Edmonton:20250302T123000
DTSTAMP:20260424T215600
CREATED:20241217T193105Z
LAST-MODIFIED:20251127T203018Z
UID:10002724-1740913200-1740918600@linkchurch.org
SUMMARY:Sunday Morning Worship – 2nd Service
DESCRIPTION:Come and join us for our Sunday Morning worship service at 11:00 AM every Sunday. \nThere is no Livestream for the 11:00 AM service \nWe are located at 1714 Saamis Dr. NW. \nPlease contact info@linkchurch.org if you have any questions
URL:https://linkchurch.org/event/sunday-morning-worship-2nd-service/2025-03-02/
LOCATION:The Link Church\, 1714 Saamis Dr NW\, Medicine Hat\, Alberta\, T1C1W7\, Canada
CATEGORIES:Worship Services
ATTACH;FMTTYPE=image/png:https://linkchurch.org/wordpress/wp-content/uploads/2024/08/this-sunday-copy.png
END:VEVENT
BEGIN:VEVENT
DTSTART;TZID=America/Edmonton:20250302T090000
DTEND;TZID=America/Edmonton:20250302T103000
DTSTAMP:20260424T215600
CREATED:20241217T192941Z
LAST-MODIFIED:20251127T203348Z
UID:10002698-1740906000-1740911400@linkchurch.org
SUMMARY:Sunday Morning Worship – 1st Service
DESCRIPTION:Come and join us for our Sunday Morning worship service at 9:00 AM every Sunday. \nLive stream is also available for the 9:00 AM service: http://www.facebook.com/linkchurchmedhat/live/ \nWe are located at 1714 Saamis Dr. NW. \nPlease contact info@linkchurch.org if you have any questions
URL:https://linkchurch.org/event/sunday-morning-worship-1st-service/2025-03-02/
LOCATION:The Link Church\, 1714 Saamis Dr NW\, Medicine Hat\, Alberta\, T1C1W7\, Canada
CATEGORIES:Worship Services
ATTACH;FMTTYPE=image/png:https://linkchurch.org/wordpress/wp-content/uploads/2024/08/this-sunday.png
END:VEVENT
BEGIN:VEVENT
DTSTART;TZID=America/Edmonton:20250227T121500
DTEND;TZID=America/Edmonton:20250227T130000
DTSTAMP:20260424T215600
CREATED:20241218T202146Z
LAST-MODIFIED:20250109T172212Z
UID:10002873-1740658500-1740661200@linkchurch.org
SUMMARY:Prayer
DESCRIPTION:Prayer is the key that unlocks the riches of God’s power\, his wisdom and his presence. \nThere are ways for you to connect\, whether you are in need of prayer for yourself or a loved one\, or whether you feel called to pray for others. \nJoin us on Thursday’s from 12:15pm – 1:00pm to pray.
URL:https://linkchurch.org/event/prayer/2025-02-27/
LOCATION:The Link Church\, 1714 Saamis Dr NW\, Medicine Hat\, Alberta\, T1C1W7\, Canada
CATEGORIES:Prayer
ATTACH;FMTTYPE=image/jpeg:https://linkchurch.org/wordpress/wp-content/uploads/2024/12/prayer-3.jpg
END:VEVENT
BEGIN:VEVENT
DTSTART;TZID=America/Edmonton:20250226T190000
DTEND;TZID=America/Edmonton:20250226T213000
DTSTAMP:20260424T215600
CREATED:20241218T195216Z
LAST-MODIFIED:20250109T172059Z
UID:10002846-1740596400-1740605400@linkchurch.org
SUMMARY:Youth
DESCRIPTION:Link Youth is a year round ministry for youth in Grades 7-12. These years are pivotal in the life of every person. It’s when they make some of the biggest decisions of their life\, none bigger than whether or not to follow Jesus as their Lord and Saviour. \n(No home groups in January 2025)
URL:https://linkchurch.org/event/youth-3/2025-02-26/
LOCATION:The Link Church\, 1714 Saamis Dr NW\, Medicine Hat\, Alberta\, T1C1W7\, Canada
CATEGORIES:Link Youth
ATTACH;FMTTYPE=image/jpeg:https://linkchurch.org/wordpress/wp-content/uploads/2024/12/Stay-Hip-1.jpg
END:VEVENT
BEGIN:VEVENT
DTSTART;TZID=America/Edmonton:20250225T190000
DTEND;TZID=America/Edmonton:20250225T210000
DTSTAMP:20260424T215600
CREATED:20241218T194633Z
LAST-MODIFIED:20250313T164012Z
UID:10002821-1740510000-1740517200@linkchurch.org
SUMMARY:Young Adults
DESCRIPTION:6 Rossview Court SE \nContact – Lysa Penney – (403) 594-1431
URL:https://linkchurch.org/event/young-adults-7/2025-02-25/
LOCATION:The Link Church\, 1714 Saamis Dr NW\, Medicine Hat\, Alberta\, T1C1W7\, Canada
CATEGORIES:Young Adults
ATTACH;FMTTYPE=image/jpeg:https://linkchurch.org/wordpress/wp-content/uploads/2024/12/Young-Adults.jpg
END:VEVENT
BEGIN:VEVENT
DTSTART;TZID=America/Edmonton:20250225T183000
DTEND;TZID=America/Edmonton:20250225T203000
DTSTAMP:20260424T215600
CREATED:20241218T194211Z
LAST-MODIFIED:20250514T162352Z
UID:10002797-1740508200-1740515400@linkchurch.org
SUMMARY:Women's Ministry Evening Study
DESCRIPTION:Creating community with each other while growing in our understanding of the Bible and our faith
URL:https://linkchurch.org/event/womens-ministry-evening-study-19/2025-02-25/
LOCATION:The Link Church\, 1714 Saamis Dr NW\, Medicine Hat\, Alberta\, T1C1W7\, Canada
CATEGORIES:Womens Ministry
ATTACH;FMTTYPE=image/jpeg:https://linkchurch.org/wordpress/wp-content/uploads/2024/12/womenS-copy.jpg
END:VEVENT
BEGIN:VEVENT
DTSTART;TZID=America/Edmonton:20250225T093000
DTEND;TZID=America/Edmonton:20250225T113000
DTSTAMP:20260424T215600
CREATED:20241218T194037Z
LAST-MODIFIED:20250514T162453Z
UID:10002773-1740475800-1740483000@linkchurch.org
SUMMARY:Women's Ministry Morning Study
DESCRIPTION:Creating community with each other while growing in our understanding of the Bible and our faith
URL:https://linkchurch.org/event/womens-ministry-morning-study/2025-02-25/
LOCATION:The Link Church\, 1714 Saamis Dr NW\, Medicine Hat\, Alberta\, T1C1W7\, Canada
CATEGORIES:Womens Ministry
ATTACH;FMTTYPE=image/jpeg:https://linkchurch.org/wordpress/wp-content/uploads/2024/12/womenS.jpg
END:VEVENT
BEGIN:VEVENT
DTSTART;TZID=America/Edmonton:20250225T060000
DTEND;TZID=America/Edmonton:20250225T070000
DTSTAMP:20260424T215600
CREATED:20241218T203820Z
LAST-MODIFIED:20250109T172113Z
UID:10002914-1740463200-1740466800@linkchurch.org
SUMMARY:The Way Mentoring Group
DESCRIPTION:
URL:https://linkchurch.org/event/the-way-mentoring-group/2025-02-25/
LOCATION:The Link Church\, 1714 Saamis Dr NW\, Medicine Hat\, Alberta\, T1C1W7\, Canada
CATEGORIES:Bible Studies
ATTACH;FMTTYPE=image/jpeg:https://linkchurch.org/wordpress/wp-content/uploads/2024/12/Together.jpg
END:VEVENT
BEGIN:VEVENT
DTSTART;TZID=America/Edmonton:20250224T190000
DTEND;TZID=America/Edmonton:20250224T210000
DTSTAMP:20260424T215600
CREATED:20241218T193357Z
LAST-MODIFIED:20250109T172140Z
UID:10002749-1740423600-1740430800@linkchurch.org
SUMMARY:Men's Ministry
DESCRIPTION:This group is open to all men wherever you are at with your relationship with the Lord. \nContact Clark Kurpjuweit (403) 581-8972\, clarkrenate@gmail.com \nor Pastor Rick Aupperle (403) 700-7140\, rick@linkchurch.org
URL:https://linkchurch.org/event/mens-ministry/2025-02-24/
LOCATION:The Link Church\, 1714 Saamis Dr NW\, Medicine Hat\, Alberta\, T1C1W7\, Canada
CATEGORIES:Men's Ministry
ATTACH;FMTTYPE=image/jpeg:https://linkchurch.org/wordpress/wp-content/uploads/2024/12/Your-paragraph-text.jpg
END:VEVENT
BEGIN:VEVENT
DTSTART;TZID=America/Edmonton:20250224T183000
DTEND;TZID=America/Edmonton:20250224T200000
DTSTAMP:20260424T215600
CREATED:20241218T204228Z
LAST-MODIFIED:20250514T162645Z
UID:10002938-1740421800-1740427200@linkchurch.org
SUMMARY:Mini Youth
DESCRIPTION:Mini Youth provides a space for kids in grades 4-6 to be discipled by leaders\, mature in their faith\, and share the gospel message with their friends.
URL:https://linkchurch.org/event/mini-youth/2025-02-24/
LOCATION:The Link Church\, 1714 Saamis Dr NW\, Medicine Hat\, Alberta\, T1C1W7\, Canada
CATEGORIES:Link Kids,Link Youth
ATTACH;FMTTYPE=image/jpeg:https://linkchurch.org/wordpress/wp-content/uploads/2024/12/MINI-1.jpg
END:VEVENT
BEGIN:VEVENT
DTSTART;TZID=America/Edmonton:20250223T110000
DTEND;TZID=America/Edmonton:20250223T123000
DTSTAMP:20260424T215600
CREATED:20241217T193105Z
LAST-MODIFIED:20251127T203018Z
UID:10002723-1740308400-1740313800@linkchurch.org
SUMMARY:Sunday Morning Worship – 2nd Service
DESCRIPTION:Come and join us for our Sunday Morning worship service at 11:00 AM every Sunday. \nThere is no Livestream for the 11:00 AM service \nWe are located at 1714 Saamis Dr. NW. \nPlease contact info@linkchurch.org if you have any questions
URL:https://linkchurch.org/event/sunday-morning-worship-2nd-service/2025-02-23/
LOCATION:The Link Church\, 1714 Saamis Dr NW\, Medicine Hat\, Alberta\, T1C1W7\, Canada
CATEGORIES:Worship Services
ATTACH;FMTTYPE=image/png:https://linkchurch.org/wordpress/wp-content/uploads/2024/08/this-sunday-copy.png
END:VEVENT
BEGIN:VEVENT
DTSTART;TZID=America/Edmonton:20250223T090000
DTEND;TZID=America/Edmonton:20250223T103000
DTSTAMP:20260424T215600
CREATED:20241217T192941Z
LAST-MODIFIED:20251127T203348Z
UID:10002697-1740301200-1740306600@linkchurch.org
SUMMARY:Sunday Morning Worship – 1st Service
DESCRIPTION:Come and join us for our Sunday Morning worship service at 9:00 AM every Sunday. \nLive stream is also available for the 9:00 AM service: http://www.facebook.com/linkchurchmedhat/live/ \nWe are located at 1714 Saamis Dr. NW. \nPlease contact info@linkchurch.org if you have any questions
URL:https://linkchurch.org/event/sunday-morning-worship-1st-service/2025-02-23/
LOCATION:The Link Church\, 1714 Saamis Dr NW\, Medicine Hat\, Alberta\, T1C1W7\, Canada
CATEGORIES:Worship Services
ATTACH;FMTTYPE=image/png:https://linkchurch.org/wordpress/wp-content/uploads/2024/08/this-sunday.png
END:VEVENT
BEGIN:VEVENT
DTSTART;TZID=America/Edmonton:20250220T121500
DTEND;TZID=America/Edmonton:20250220T130000
DTSTAMP:20260424T215600
CREATED:20241218T202146Z
LAST-MODIFIED:20250109T172212Z
UID:10002872-1740053700-1740056400@linkchurch.org
SUMMARY:Prayer
DESCRIPTION:Prayer is the key that unlocks the riches of God’s power\, his wisdom and his presence. \nThere are ways for you to connect\, whether you are in need of prayer for yourself or a loved one\, or whether you feel called to pray for others. \nJoin us on Thursday’s from 12:15pm – 1:00pm to pray.
URL:https://linkchurch.org/event/prayer/2025-02-20/
LOCATION:The Link Church\, 1714 Saamis Dr NW\, Medicine Hat\, Alberta\, T1C1W7\, Canada
CATEGORIES:Prayer
ATTACH;FMTTYPE=image/jpeg:https://linkchurch.org/wordpress/wp-content/uploads/2024/12/prayer-3.jpg
END:VEVENT
BEGIN:VEVENT
DTSTART;TZID=America/Edmonton:20250219T190000
DTEND;TZID=America/Edmonton:20250219T213000
DTSTAMP:20260424T215600
CREATED:20241218T195216Z
LAST-MODIFIED:20250109T172059Z
UID:10002845-1739991600-1740000600@linkchurch.org
SUMMARY:Youth
DESCRIPTION:Link Youth is a year round ministry for youth in Grades 7-12. These years are pivotal in the life of every person. It’s when they make some of the biggest decisions of their life\, none bigger than whether or not to follow Jesus as their Lord and Saviour. \n(No home groups in January 2025)
URL:https://linkchurch.org/event/youth-3/2025-02-19/
LOCATION:The Link Church\, 1714 Saamis Dr NW\, Medicine Hat\, Alberta\, T1C1W7\, Canada
CATEGORIES:Link Youth
ATTACH;FMTTYPE=image/jpeg:https://linkchurch.org/wordpress/wp-content/uploads/2024/12/Stay-Hip-1.jpg
END:VEVENT
BEGIN:VEVENT
DTSTART;TZID=America/Edmonton:20250218T190000
DTEND;TZID=America/Edmonton:20250218T210000
DTSTAMP:20260424T215600
CREATED:20241218T194633Z
LAST-MODIFIED:20250313T164012Z
UID:10002820-1739905200-1739912400@linkchurch.org
SUMMARY:Young Adults
DESCRIPTION:6 Rossview Court SE \nContact – Lysa Penney – (403) 594-1431
URL:https://linkchurch.org/event/young-adults-7/2025-02-18/
LOCATION:The Link Church\, 1714 Saamis Dr NW\, Medicine Hat\, Alberta\, T1C1W7\, Canada
CATEGORIES:Young Adults
ATTACH;FMTTYPE=image/jpeg:https://linkchurch.org/wordpress/wp-content/uploads/2024/12/Young-Adults.jpg
END:VEVENT
BEGIN:VEVENT
DTSTART;TZID=America/Edmonton:20250218T183000
DTEND;TZID=America/Edmonton:20250218T203000
DTSTAMP:20260424T215600
CREATED:20241218T194211Z
LAST-MODIFIED:20250514T162352Z
UID:10002796-1739903400-1739910600@linkchurch.org
SUMMARY:Women's Ministry Evening Study
DESCRIPTION:Creating community with each other while growing in our understanding of the Bible and our faith
URL:https://linkchurch.org/event/womens-ministry-evening-study-19/2025-02-18/
LOCATION:The Link Church\, 1714 Saamis Dr NW\, Medicine Hat\, Alberta\, T1C1W7\, Canada
CATEGORIES:Womens Ministry
ATTACH;FMTTYPE=image/jpeg:https://linkchurch.org/wordpress/wp-content/uploads/2024/12/womenS-copy.jpg
END:VEVENT
BEGIN:VEVENT
DTSTART;TZID=America/Edmonton:20250218T093000
DTEND;TZID=America/Edmonton:20250218T113000
DTSTAMP:20260424T215600
CREATED:20241218T194037Z
LAST-MODIFIED:20250514T162453Z
UID:10002772-1739871000-1739878200@linkchurch.org
SUMMARY:Women's Ministry Morning Study
DESCRIPTION:Creating community with each other while growing in our understanding of the Bible and our faith
URL:https://linkchurch.org/event/womens-ministry-morning-study/2025-02-18/
LOCATION:The Link Church\, 1714 Saamis Dr NW\, Medicine Hat\, Alberta\, T1C1W7\, Canada
CATEGORIES:Womens Ministry
ATTACH;FMTTYPE=image/jpeg:https://linkchurch.org/wordpress/wp-content/uploads/2024/12/womenS.jpg
END:VEVENT
BEGIN:VEVENT
DTSTART;TZID=America/Edmonton:20250218T060000
DTEND;TZID=America/Edmonton:20250218T070000
DTSTAMP:20260424T215600
CREATED:20241218T203820Z
LAST-MODIFIED:20250109T172113Z
UID:10002913-1739858400-1739862000@linkchurch.org
SUMMARY:The Way Mentoring Group
DESCRIPTION:
URL:https://linkchurch.org/event/the-way-mentoring-group/2025-02-18/
LOCATION:The Link Church\, 1714 Saamis Dr NW\, Medicine Hat\, Alberta\, T1C1W7\, Canada
CATEGORIES:Bible Studies
ATTACH;FMTTYPE=image/jpeg:https://linkchurch.org/wordpress/wp-content/uploads/2024/12/Together.jpg
END:VEVENT
BEGIN:VEVENT
DTSTART;TZID=America/Edmonton:20250217T190000
DTEND;TZID=America/Edmonton:20250217T210000
DTSTAMP:20260424T215600
CREATED:20241218T193357Z
LAST-MODIFIED:20250109T172140Z
UID:10002748-1739818800-1739826000@linkchurch.org
SUMMARY:Men's Ministry
DESCRIPTION:This group is open to all men wherever you are at with your relationship with the Lord. \nContact Clark Kurpjuweit (403) 581-8972\, clarkrenate@gmail.com \nor Pastor Rick Aupperle (403) 700-7140\, rick@linkchurch.org
URL:https://linkchurch.org/event/mens-ministry/2025-02-17/
LOCATION:The Link Church\, 1714 Saamis Dr NW\, Medicine Hat\, Alberta\, T1C1W7\, Canada
CATEGORIES:Men's Ministry
ATTACH;FMTTYPE=image/jpeg:https://linkchurch.org/wordpress/wp-content/uploads/2024/12/Your-paragraph-text.jpg
END:VEVENT
BEGIN:VEVENT
DTSTART;TZID=America/Edmonton:20250217T183000
DTEND;TZID=America/Edmonton:20250217T200000
DTSTAMP:20260424T215600
CREATED:20241218T204228Z
LAST-MODIFIED:20250514T162645Z
UID:10002937-1739817000-1739822400@linkchurch.org
SUMMARY:Mini Youth
DESCRIPTION:Mini Youth provides a space for kids in grades 4-6 to be discipled by leaders\, mature in their faith\, and share the gospel message with their friends.
URL:https://linkchurch.org/event/mini-youth/2025-02-17/
LOCATION:The Link Church\, 1714 Saamis Dr NW\, Medicine Hat\, Alberta\, T1C1W7\, Canada
CATEGORIES:Link Kids,Link Youth
ATTACH;FMTTYPE=image/jpeg:https://linkchurch.org/wordpress/wp-content/uploads/2024/12/MINI-1.jpg
END:VEVENT
BEGIN:VEVENT
DTSTART;TZID=America/Edmonton:20250216T110000
DTEND;TZID=America/Edmonton:20250216T123000
DTSTAMP:20260424T215600
CREATED:20241217T193105Z
LAST-MODIFIED:20251127T203018Z
UID:10002722-1739703600-1739709000@linkchurch.org
SUMMARY:Sunday Morning Worship – 2nd Service
DESCRIPTION:Come and join us for our Sunday Morning worship service at 11:00 AM every Sunday. \nThere is no Livestream for the 11:00 AM service \nWe are located at 1714 Saamis Dr. NW. \nPlease contact info@linkchurch.org if you have any questions
URL:https://linkchurch.org/event/sunday-morning-worship-2nd-service/2025-02-16/
LOCATION:The Link Church\, 1714 Saamis Dr NW\, Medicine Hat\, Alberta\, T1C1W7\, Canada
CATEGORIES:Worship Services
ATTACH;FMTTYPE=image/png:https://linkchurch.org/wordpress/wp-content/uploads/2024/08/this-sunday-copy.png
END:VEVENT
BEGIN:VEVENT
DTSTART;TZID=America/Edmonton:20250216T090000
DTEND;TZID=America/Edmonton:20250216T103000
DTSTAMP:20260424T215600
CREATED:20241217T192941Z
LAST-MODIFIED:20251127T203348Z
UID:10002696-1739696400-1739701800@linkchurch.org
SUMMARY:Sunday Morning Worship – 1st Service
DESCRIPTION:Come and join us for our Sunday Morning worship service at 9:00 AM every Sunday. \nLive stream is also available for the 9:00 AM service: http://www.facebook.com/linkchurchmedhat/live/ \nWe are located at 1714 Saamis Dr. NW. \nPlease contact info@linkchurch.org if you have any questions
URL:https://linkchurch.org/event/sunday-morning-worship-1st-service/2025-02-16/
LOCATION:The Link Church\, 1714 Saamis Dr NW\, Medicine Hat\, Alberta\, T1C1W7\, Canada
CATEGORIES:Worship Services
ATTACH;FMTTYPE=image/png:https://linkchurch.org/wordpress/wp-content/uploads/2024/08/this-sunday.png
END:VEVENT
BEGIN:VEVENT
DTSTART;TZID=America/Edmonton:20250213T121500
DTEND;TZID=America/Edmonton:20250213T130000
DTSTAMP:20260424T215600
CREATED:20241218T202146Z
LAST-MODIFIED:20250109T172212Z
UID:10002871-1739448900-1739451600@linkchurch.org
SUMMARY:Prayer
DESCRIPTION:Prayer is the key that unlocks the riches of God’s power\, his wisdom and his presence. \nThere are ways for you to connect\, whether you are in need of prayer for yourself or a loved one\, or whether you feel called to pray for others. \nJoin us on Thursday’s from 12:15pm – 1:00pm to pray.
URL:https://linkchurch.org/event/prayer/2025-02-13/
LOCATION:The Link Church\, 1714 Saamis Dr NW\, Medicine Hat\, Alberta\, T1C1W7\, Canada
CATEGORIES:Prayer
ATTACH;FMTTYPE=image/jpeg:https://linkchurch.org/wordpress/wp-content/uploads/2024/12/prayer-3.jpg
END:VEVENT
BEGIN:VEVENT
DTSTART;TZID=America/Edmonton:20250212T190000
DTEND;TZID=America/Edmonton:20250212T213000
DTSTAMP:20260424T215600
CREATED:20241218T195216Z
LAST-MODIFIED:20250109T172059Z
UID:10002844-1739386800-1739395800@linkchurch.org
SUMMARY:Youth
DESCRIPTION:Link Youth is a year round ministry for youth in Grades 7-12. These years are pivotal in the life of every person. It’s when they make some of the biggest decisions of their life\, none bigger than whether or not to follow Jesus as their Lord and Saviour. \n(No home groups in January 2025)
URL:https://linkchurch.org/event/youth-3/2025-02-12/
LOCATION:The Link Church\, 1714 Saamis Dr NW\, Medicine Hat\, Alberta\, T1C1W7\, Canada
CATEGORIES:Link Youth
ATTACH;FMTTYPE=image/jpeg:https://linkchurch.org/wordpress/wp-content/uploads/2024/12/Stay-Hip-1.jpg
END:VEVENT
BEGIN:VEVENT
DTSTART;TZID=America/Edmonton:20250211T190000
DTEND;TZID=America/Edmonton:20250211T210000
DTSTAMP:20260424T215600
CREATED:20241218T194633Z
LAST-MODIFIED:20250313T164012Z
UID:10002819-1739300400-1739307600@linkchurch.org
SUMMARY:Young Adults
DESCRIPTION:6 Rossview Court SE \nContact – Lysa Penney – (403) 594-1431
URL:https://linkchurch.org/event/young-adults-7/2025-02-11/
LOCATION:The Link Church\, 1714 Saamis Dr NW\, Medicine Hat\, Alberta\, T1C1W7\, Canada
CATEGORIES:Young Adults
ATTACH;FMTTYPE=image/jpeg:https://linkchurch.org/wordpress/wp-content/uploads/2024/12/Young-Adults.jpg
END:VEVENT
BEGIN:VEVENT
DTSTART;TZID=America/Edmonton:20250211T183000
DTEND;TZID=America/Edmonton:20250211T203000
DTSTAMP:20260424T215600
CREATED:20241218T194211Z
LAST-MODIFIED:20250514T162352Z
UID:10002795-1739298600-1739305800@linkchurch.org
SUMMARY:Women's Ministry Evening Study
DESCRIPTION:Creating community with each other while growing in our understanding of the Bible and our faith
URL:https://linkchurch.org/event/womens-ministry-evening-study-19/2025-02-11/
LOCATION:The Link Church\, 1714 Saamis Dr NW\, Medicine Hat\, Alberta\, T1C1W7\, Canada
CATEGORIES:Womens Ministry
ATTACH;FMTTYPE=image/jpeg:https://linkchurch.org/wordpress/wp-content/uploads/2024/12/womenS-copy.jpg
END:VEVENT
END:VCALENDAR