BEGIN:VCALENDAR
VERSION:2.0
PRODID:-//The Link Christian Fellowship - ECPv6.15.20//NONSGML v1.0//EN
CALSCALE:GREGORIAN
METHOD:PUBLISH
X-WR-CALNAME:The Link Christian Fellowship
X-ORIGINAL-URL:https://linkchurch.org
X-WR-CALDESC:Events for The Link Christian Fellowship
REFRESH-INTERVAL;VALUE=DURATION:PT1H
X-Robots-Tag:noindex
X-PUBLISHED-TTL:PT1H
BEGIN:VTIMEZONE
TZID:America/Edmonton
BEGIN:DAYLIGHT
TZOFFSETFROM:-0700
TZOFFSETTO:-0600
TZNAME:MDT
DTSTART:20240310T090000
END:DAYLIGHT
BEGIN:STANDARD
TZOFFSETFROM:-0600
TZOFFSETTO:-0700
TZNAME:MST
DTSTART:20241103T080000
END:STANDARD
BEGIN:DAYLIGHT
TZOFFSETFROM:-0700
TZOFFSETTO:-0600
TZNAME:MDT
DTSTART:20250309T090000
END:DAYLIGHT
BEGIN:STANDARD
TZOFFSETFROM:-0600
TZOFFSETTO:-0700
TZNAME:MST
DTSTART:20251102T080000
END:STANDARD
BEGIN:DAYLIGHT
TZOFFSETFROM:-0700
TZOFFSETTO:-0600
TZNAME:MDT
DTSTART:20260308T090000
END:DAYLIGHT
BEGIN:STANDARD
TZOFFSETFROM:-0600
TZOFFSETTO:-0700
TZNAME:MST
DTSTART:20261101T080000
END:STANDARD
END:VTIMEZONE
BEGIN:VEVENT
DTSTART;TZID=America/Edmonton:20250131T080000
DTEND;TZID=America/Edmonton:20250131T170000
DTSTAMP:20260425T094740
CREATED:20250103T210433Z
LAST-MODIFIED:20250103T210521Z
UID:10002958-1738310400-1738342800@linkchurch.org
SUMMARY:The Awaken Conference
DESCRIPTION:The Awaken Conference will be a practicum of experiencing the life that the Holy Spirit makes possible.\nCost is $25 for the weekend.\nFriday evening at 7 PM\nSaturday 8:30 AM to 4:30 PM\nFriday evening session is open to all for free!! \nRegister here
URL:https://linkchurch.org/event/the-awaken-conference/2025-01-31/1/
LOCATION:The Link Church\, 1714 Saamis Dr NW\, Medicine Hat\, Alberta\, T1C1W7\, Canada
ATTACH;FMTTYPE=image/jpeg:https://linkchurch.org/wordpress/wp-content/uploads/2025/01/Awaken-SC.jpg
END:VEVENT
BEGIN:VEVENT
DTSTART;TZID=America/Edmonton:20250130T121500
DTEND;TZID=America/Edmonton:20250130T130000
DTSTAMP:20260425T094740
CREATED:20241218T202146Z
LAST-MODIFIED:20250109T172212Z
UID:10002869-1738239300-1738242000@linkchurch.org
SUMMARY:Prayer
DESCRIPTION:Prayer is the key that unlocks the riches of God’s power\, his wisdom and his presence. \nThere are ways for you to connect\, whether you are in need of prayer for yourself or a loved one\, or whether you feel called to pray for others. \nJoin us on Thursday’s from 12:15pm – 1:00pm to pray.
URL:https://linkchurch.org/event/prayer/2025-01-30/
LOCATION:The Link Church\, 1714 Saamis Dr NW\, Medicine Hat\, Alberta\, T1C1W7\, Canada
CATEGORIES:Prayer
ATTACH;FMTTYPE=image/jpeg:https://linkchurch.org/wordpress/wp-content/uploads/2024/12/prayer-3.jpg
END:VEVENT
BEGIN:VEVENT
DTSTART;TZID=America/Edmonton:20250129T190000
DTEND;TZID=America/Edmonton:20250129T213000
DTSTAMP:20260425T094740
CREATED:20241218T195216Z
LAST-MODIFIED:20250109T172059Z
UID:10002842-1738177200-1738186200@linkchurch.org
SUMMARY:Youth
DESCRIPTION:Link Youth is a year round ministry for youth in Grades 7-12. These years are pivotal in the life of every person. It’s when they make some of the biggest decisions of their life\, none bigger than whether or not to follow Jesus as their Lord and Saviour. \n(No home groups in January 2025)
URL:https://linkchurch.org/event/youth-3/2025-01-29/
LOCATION:The Link Church\, 1714 Saamis Dr NW\, Medicine Hat\, Alberta\, T1C1W7\, Canada
CATEGORIES:Link Youth
ATTACH;FMTTYPE=image/jpeg:https://linkchurch.org/wordpress/wp-content/uploads/2024/12/Stay-Hip-1.jpg
END:VEVENT
BEGIN:VEVENT
DTSTART;TZID=America/Edmonton:20250128T190000
DTEND;TZID=America/Edmonton:20250128T210000
DTSTAMP:20260425T094740
CREATED:20241218T194633Z
LAST-MODIFIED:20250313T164012Z
UID:10002817-1738090800-1738098000@linkchurch.org
SUMMARY:Young Adults
DESCRIPTION:6 Rossview Court SE \nContact – Lysa Penney – (403) 594-1431
URL:https://linkchurch.org/event/young-adults-7/2025-01-28/
LOCATION:The Link Church\, 1714 Saamis Dr NW\, Medicine Hat\, Alberta\, T1C1W7\, Canada
CATEGORIES:Young Adults
ATTACH;FMTTYPE=image/jpeg:https://linkchurch.org/wordpress/wp-content/uploads/2024/12/Young-Adults.jpg
END:VEVENT
BEGIN:VEVENT
DTSTART;TZID=America/Edmonton:20250128T183000
DTEND;TZID=America/Edmonton:20250128T203000
DTSTAMP:20260425T094740
CREATED:20241218T194211Z
LAST-MODIFIED:20250514T162352Z
UID:10002793-1738089000-1738096200@linkchurch.org
SUMMARY:Women's Ministry Evening Study
DESCRIPTION:Creating community with each other while growing in our understanding of the Bible and our faith
URL:https://linkchurch.org/event/womens-ministry-evening-study-19/2025-01-28/
LOCATION:The Link Church\, 1714 Saamis Dr NW\, Medicine Hat\, Alberta\, T1C1W7\, Canada
CATEGORIES:Womens Ministry
ATTACH;FMTTYPE=image/jpeg:https://linkchurch.org/wordpress/wp-content/uploads/2024/12/womenS-copy.jpg
END:VEVENT
BEGIN:VEVENT
DTSTART;TZID=America/Edmonton:20250128T093000
DTEND;TZID=America/Edmonton:20250128T113000
DTSTAMP:20260425T094740
CREATED:20241218T194037Z
LAST-MODIFIED:20250514T162453Z
UID:10002769-1738056600-1738063800@linkchurch.org
SUMMARY:Women's Ministry Morning Study
DESCRIPTION:Creating community with each other while growing in our understanding of the Bible and our faith
URL:https://linkchurch.org/event/womens-ministry-morning-study/2025-01-28/
LOCATION:The Link Church\, 1714 Saamis Dr NW\, Medicine Hat\, Alberta\, T1C1W7\, Canada
CATEGORIES:Womens Ministry
ATTACH;FMTTYPE=image/jpeg:https://linkchurch.org/wordpress/wp-content/uploads/2024/12/womenS.jpg
END:VEVENT
BEGIN:VEVENT
DTSTART;TZID=America/Edmonton:20250128T060000
DTEND;TZID=America/Edmonton:20250128T070000
DTSTAMP:20260425T094740
CREATED:20241218T203820Z
LAST-MODIFIED:20250109T172113Z
UID:10002910-1738044000-1738047600@linkchurch.org
SUMMARY:The Way Mentoring Group
DESCRIPTION:
URL:https://linkchurch.org/event/the-way-mentoring-group/2025-01-28/
LOCATION:The Link Church\, 1714 Saamis Dr NW\, Medicine Hat\, Alberta\, T1C1W7\, Canada
CATEGORIES:Bible Studies
ATTACH;FMTTYPE=image/jpeg:https://linkchurch.org/wordpress/wp-content/uploads/2024/12/Together.jpg
END:VEVENT
BEGIN:VEVENT
DTSTART;TZID=America/Edmonton:20250127T190000
DTEND;TZID=America/Edmonton:20250127T210000
DTSTAMP:20260425T094740
CREATED:20241218T200228Z
LAST-MODIFIED:20241218T200228Z
UID:10002864-1738004400-1738011600@linkchurch.org
SUMMARY:YXH Young Adults
DESCRIPTION:On January 27th we will be meeting at the Link Church. Young Adults will gather from across the city to lift high the name of Jesus. Mark it on your calendars! This is not something that you want to miss. Bring your friends and spread the word.
URL:https://linkchurch.org/event/yxh-young-adults/
LOCATION:The Link Church\, 1714 Saamis Dr NW\, Medicine Hat\, Alberta\, T1C1W7\, Canada
CATEGORIES:Young Adults
ATTACH;FMTTYPE=image/jpeg:https://linkchurch.org/wordpress/wp-content/uploads/2024/12/YXH.jpg
END:VEVENT
BEGIN:VEVENT
DTSTART;TZID=America/Edmonton:20250127T190000
DTEND;TZID=America/Edmonton:20250127T210000
DTSTAMP:20260425T094740
CREATED:20241218T193357Z
LAST-MODIFIED:20250109T172140Z
UID:10002745-1738004400-1738011600@linkchurch.org
SUMMARY:Men's Ministry
DESCRIPTION:This group is open to all men wherever you are at with your relationship with the Lord. \nContact Clark Kurpjuweit (403) 581-8972\, clarkrenate@gmail.com \nor Pastor Rick Aupperle (403) 700-7140\, rick@linkchurch.org
URL:https://linkchurch.org/event/mens-ministry/2025-01-27/
LOCATION:The Link Church\, 1714 Saamis Dr NW\, Medicine Hat\, Alberta\, T1C1W7\, Canada
CATEGORIES:Men's Ministry
ATTACH;FMTTYPE=image/jpeg:https://linkchurch.org/wordpress/wp-content/uploads/2024/12/Your-paragraph-text.jpg
END:VEVENT
BEGIN:VEVENT
DTSTART;TZID=America/Edmonton:20250127T183000
DTEND;TZID=America/Edmonton:20250127T200000
DTSTAMP:20260425T094740
CREATED:20241218T204228Z
LAST-MODIFIED:20250514T162645Z
UID:10002934-1738002600-1738008000@linkchurch.org
SUMMARY:Mini Youth
DESCRIPTION:Mini Youth provides a space for kids in grades 4-6 to be discipled by leaders\, mature in their faith\, and share the gospel message with their friends.
URL:https://linkchurch.org/event/mini-youth/2025-01-27/
LOCATION:The Link Church\, 1714 Saamis Dr NW\, Medicine Hat\, Alberta\, T1C1W7\, Canada
CATEGORIES:Link Kids,Link Youth
ATTACH;FMTTYPE=image/jpeg:https://linkchurch.org/wordpress/wp-content/uploads/2024/12/MINI-1.jpg
END:VEVENT
BEGIN:VEVENT
DTSTART;TZID=America/Edmonton:20250126T110000
DTEND;TZID=America/Edmonton:20250126T123000
DTSTAMP:20260425T094740
CREATED:20241217T193105Z
LAST-MODIFIED:20251127T203018Z
UID:10002719-1737889200-1737894600@linkchurch.org
SUMMARY:Sunday Morning Worship – 2nd Service
DESCRIPTION:Come and join us for our Sunday Morning worship service at 11:00 AM every Sunday. \nThere is no Livestream for the 11:00 AM service \nWe are located at 1714 Saamis Dr. NW. \nPlease contact info@linkchurch.org if you have any questions
URL:https://linkchurch.org/event/sunday-morning-worship-2nd-service/2025-01-26/
LOCATION:The Link Church\, 1714 Saamis Dr NW\, Medicine Hat\, Alberta\, T1C1W7\, Canada
CATEGORIES:Worship Services
ATTACH;FMTTYPE=image/png:https://linkchurch.org/wordpress/wp-content/uploads/2024/08/this-sunday-copy.png
END:VEVENT
BEGIN:VEVENT
DTSTART;TZID=America/Edmonton:20250126T090000
DTEND;TZID=America/Edmonton:20250126T103000
DTSTAMP:20260425T094740
CREATED:20241217T192941Z
LAST-MODIFIED:20251127T203348Z
UID:10002693-1737882000-1737887400@linkchurch.org
SUMMARY:Sunday Morning Worship – 1st Service
DESCRIPTION:Come and join us for our Sunday Morning worship service at 9:00 AM every Sunday. \nLive stream is also available for the 9:00 AM service: http://www.facebook.com/linkchurchmedhat/live/ \nWe are located at 1714 Saamis Dr. NW. \nPlease contact info@linkchurch.org if you have any questions
URL:https://linkchurch.org/event/sunday-morning-worship-1st-service/2025-01-26/
LOCATION:The Link Church\, 1714 Saamis Dr NW\, Medicine Hat\, Alberta\, T1C1W7\, Canada
CATEGORIES:Worship Services
ATTACH;FMTTYPE=image/png:https://linkchurch.org/wordpress/wp-content/uploads/2024/08/this-sunday.png
END:VEVENT
BEGIN:VEVENT
DTSTART;TZID=America/Edmonton:20250123T121500
DTEND;TZID=America/Edmonton:20250123T130000
DTSTAMP:20260425T094740
CREATED:20241218T202146Z
LAST-MODIFIED:20250109T172212Z
UID:10002868-1737634500-1737637200@linkchurch.org
SUMMARY:Prayer
DESCRIPTION:Prayer is the key that unlocks the riches of God’s power\, his wisdom and his presence. \nThere are ways for you to connect\, whether you are in need of prayer for yourself or a loved one\, or whether you feel called to pray for others. \nJoin us on Thursday’s from 12:15pm – 1:00pm to pray.
URL:https://linkchurch.org/event/prayer/2025-01-23/
LOCATION:The Link Church\, 1714 Saamis Dr NW\, Medicine Hat\, Alberta\, T1C1W7\, Canada
CATEGORIES:Prayer
ATTACH;FMTTYPE=image/jpeg:https://linkchurch.org/wordpress/wp-content/uploads/2024/12/prayer-3.jpg
END:VEVENT
BEGIN:VEVENT
DTSTART;TZID=America/Edmonton:20250122T190000
DTEND;TZID=America/Edmonton:20250122T213000
DTSTAMP:20260425T094740
CREATED:20241218T195216Z
LAST-MODIFIED:20250109T172059Z
UID:10002841-1737572400-1737581400@linkchurch.org
SUMMARY:Youth
DESCRIPTION:Link Youth is a year round ministry for youth in Grades 7-12. These years are pivotal in the life of every person. It’s when they make some of the biggest decisions of their life\, none bigger than whether or not to follow Jesus as their Lord and Saviour. \n(No home groups in January 2025)
URL:https://linkchurch.org/event/youth-3/2025-01-22/
LOCATION:The Link Church\, 1714 Saamis Dr NW\, Medicine Hat\, Alberta\, T1C1W7\, Canada
CATEGORIES:Link Youth
ATTACH;FMTTYPE=image/jpeg:https://linkchurch.org/wordpress/wp-content/uploads/2024/12/Stay-Hip-1.jpg
END:VEVENT
BEGIN:VEVENT
DTSTART;TZID=America/Edmonton:20250121T190000
DTEND;TZID=America/Edmonton:20250121T210000
DTSTAMP:20260425T094740
CREATED:20241218T194633Z
LAST-MODIFIED:20250313T164012Z
UID:10002816-1737486000-1737493200@linkchurch.org
SUMMARY:Young Adults
DESCRIPTION:6 Rossview Court SE \nContact – Lysa Penney – (403) 594-1431
URL:https://linkchurch.org/event/young-adults-7/2025-01-21/
LOCATION:The Link Church\, 1714 Saamis Dr NW\, Medicine Hat\, Alberta\, T1C1W7\, Canada
CATEGORIES:Young Adults
ATTACH;FMTTYPE=image/jpeg:https://linkchurch.org/wordpress/wp-content/uploads/2024/12/Young-Adults.jpg
END:VEVENT
BEGIN:VEVENT
DTSTART;TZID=America/Edmonton:20250121T183000
DTEND;TZID=America/Edmonton:20250121T203000
DTSTAMP:20260425T094740
CREATED:20241218T194211Z
LAST-MODIFIED:20250514T162352Z
UID:10002792-1737484200-1737491400@linkchurch.org
SUMMARY:Women's Ministry Evening Study
DESCRIPTION:Creating community with each other while growing in our understanding of the Bible and our faith
URL:https://linkchurch.org/event/womens-ministry-evening-study-19/2025-01-21/
LOCATION:The Link Church\, 1714 Saamis Dr NW\, Medicine Hat\, Alberta\, T1C1W7\, Canada
CATEGORIES:Womens Ministry
ATTACH;FMTTYPE=image/jpeg:https://linkchurch.org/wordpress/wp-content/uploads/2024/12/womenS-copy.jpg
END:VEVENT
BEGIN:VEVENT
DTSTART;TZID=America/Edmonton:20250121T093000
DTEND;TZID=America/Edmonton:20250121T113000
DTSTAMP:20260425T094740
CREATED:20241218T194037Z
LAST-MODIFIED:20250514T162453Z
UID:10002768-1737451800-1737459000@linkchurch.org
SUMMARY:Women's Ministry Morning Study
DESCRIPTION:Creating community with each other while growing in our understanding of the Bible and our faith
URL:https://linkchurch.org/event/womens-ministry-morning-study/2025-01-21/
LOCATION:The Link Church\, 1714 Saamis Dr NW\, Medicine Hat\, Alberta\, T1C1W7\, Canada
CATEGORIES:Womens Ministry
ATTACH;FMTTYPE=image/jpeg:https://linkchurch.org/wordpress/wp-content/uploads/2024/12/womenS.jpg
END:VEVENT
BEGIN:VEVENT
DTSTART;TZID=America/Edmonton:20250121T060000
DTEND;TZID=America/Edmonton:20250121T070000
DTSTAMP:20260425T094740
CREATED:20241218T203820Z
LAST-MODIFIED:20250109T172113Z
UID:10002909-1737439200-1737442800@linkchurch.org
SUMMARY:The Way Mentoring Group
DESCRIPTION:
URL:https://linkchurch.org/event/the-way-mentoring-group/2025-01-21/
LOCATION:The Link Church\, 1714 Saamis Dr NW\, Medicine Hat\, Alberta\, T1C1W7\, Canada
CATEGORIES:Bible Studies
ATTACH;FMTTYPE=image/jpeg:https://linkchurch.org/wordpress/wp-content/uploads/2024/12/Together.jpg
END:VEVENT
BEGIN:VEVENT
DTSTART;TZID=America/Edmonton:20250120T190000
DTEND;TZID=America/Edmonton:20250120T210000
DTSTAMP:20260425T094740
CREATED:20241218T193357Z
LAST-MODIFIED:20250109T172140Z
UID:10002744-1737399600-1737406800@linkchurch.org
SUMMARY:Men's Ministry
DESCRIPTION:This group is open to all men wherever you are at with your relationship with the Lord. \nContact Clark Kurpjuweit (403) 581-8972\, clarkrenate@gmail.com \nor Pastor Rick Aupperle (403) 700-7140\, rick@linkchurch.org
URL:https://linkchurch.org/event/mens-ministry/2025-01-20/
LOCATION:The Link Church\, 1714 Saamis Dr NW\, Medicine Hat\, Alberta\, T1C1W7\, Canada
CATEGORIES:Men's Ministry
ATTACH;FMTTYPE=image/jpeg:https://linkchurch.org/wordpress/wp-content/uploads/2024/12/Your-paragraph-text.jpg
END:VEVENT
BEGIN:VEVENT
DTSTART;TZID=America/Edmonton:20250120T183000
DTEND;TZID=America/Edmonton:20250120T200000
DTSTAMP:20260425T094740
CREATED:20241218T204228Z
LAST-MODIFIED:20250514T162645Z
UID:10002933-1737397800-1737403200@linkchurch.org
SUMMARY:Mini Youth
DESCRIPTION:Mini Youth provides a space for kids in grades 4-6 to be discipled by leaders\, mature in their faith\, and share the gospel message with their friends.
URL:https://linkchurch.org/event/mini-youth/2025-01-20/
LOCATION:The Link Church\, 1714 Saamis Dr NW\, Medicine Hat\, Alberta\, T1C1W7\, Canada
CATEGORIES:Link Kids,Link Youth
ATTACH;FMTTYPE=image/jpeg:https://linkchurch.org/wordpress/wp-content/uploads/2024/12/MINI-1.jpg
END:VEVENT
BEGIN:VEVENT
DTSTART;TZID=America/Edmonton:20250119T110000
DTEND;TZID=America/Edmonton:20250119T123000
DTSTAMP:20260425T094740
CREATED:20241217T193105Z
LAST-MODIFIED:20251127T203018Z
UID:10002718-1737284400-1737289800@linkchurch.org
SUMMARY:Sunday Morning Worship – 2nd Service
DESCRIPTION:Come and join us for our Sunday Morning worship service at 11:00 AM every Sunday. \nThere is no Livestream for the 11:00 AM service \nWe are located at 1714 Saamis Dr. NW. \nPlease contact info@linkchurch.org if you have any questions
URL:https://linkchurch.org/event/sunday-morning-worship-2nd-service/2025-01-19/
LOCATION:The Link Church\, 1714 Saamis Dr NW\, Medicine Hat\, Alberta\, T1C1W7\, Canada
CATEGORIES:Worship Services
ATTACH;FMTTYPE=image/png:https://linkchurch.org/wordpress/wp-content/uploads/2024/08/this-sunday-copy.png
END:VEVENT
BEGIN:VEVENT
DTSTART;TZID=America/Edmonton:20250119T090000
DTEND;TZID=America/Edmonton:20250119T103000
DTSTAMP:20260425T094740
CREATED:20241217T192941Z
LAST-MODIFIED:20251127T203348Z
UID:10002692-1737277200-1737282600@linkchurch.org
SUMMARY:Sunday Morning Worship – 1st Service
DESCRIPTION:Come and join us for our Sunday Morning worship service at 9:00 AM every Sunday. \nLive stream is also available for the 9:00 AM service: http://www.facebook.com/linkchurchmedhat/live/ \nWe are located at 1714 Saamis Dr. NW. \nPlease contact info@linkchurch.org if you have any questions
URL:https://linkchurch.org/event/sunday-morning-worship-1st-service/2025-01-19/
LOCATION:The Link Church\, 1714 Saamis Dr NW\, Medicine Hat\, Alberta\, T1C1W7\, Canada
CATEGORIES:Worship Services
ATTACH;FMTTYPE=image/png:https://linkchurch.org/wordpress/wp-content/uploads/2024/08/this-sunday.png
END:VEVENT
BEGIN:VEVENT
DTSTART;TZID=America/Edmonton:20250116T121500
DTEND;TZID=America/Edmonton:20250116T130000
DTSTAMP:20260425T094740
CREATED:20241218T202146Z
LAST-MODIFIED:20250109T172212Z
UID:10002867-1737029700-1737032400@linkchurch.org
SUMMARY:Prayer
DESCRIPTION:Prayer is the key that unlocks the riches of God’s power\, his wisdom and his presence. \nThere are ways for you to connect\, whether you are in need of prayer for yourself or a loved one\, or whether you feel called to pray for others. \nJoin us on Thursday’s from 12:15pm – 1:00pm to pray.
URL:https://linkchurch.org/event/prayer/2025-01-16/
LOCATION:The Link Church\, 1714 Saamis Dr NW\, Medicine Hat\, Alberta\, T1C1W7\, Canada
CATEGORIES:Prayer
ATTACH;FMTTYPE=image/jpeg:https://linkchurch.org/wordpress/wp-content/uploads/2024/12/prayer-3.jpg
END:VEVENT
BEGIN:VEVENT
DTSTART;TZID=America/Edmonton:20250115T190000
DTEND;TZID=America/Edmonton:20250115T213000
DTSTAMP:20260425T094740
CREATED:20241218T195216Z
LAST-MODIFIED:20250109T172059Z
UID:10002840-1736967600-1736976600@linkchurch.org
SUMMARY:Youth
DESCRIPTION:Link Youth is a year round ministry for youth in Grades 7-12. These years are pivotal in the life of every person. It’s when they make some of the biggest decisions of their life\, none bigger than whether or not to follow Jesus as their Lord and Saviour. \n(No home groups in January 2025)
URL:https://linkchurch.org/event/youth-3/2025-01-15/
LOCATION:The Link Church\, 1714 Saamis Dr NW\, Medicine Hat\, Alberta\, T1C1W7\, Canada
CATEGORIES:Link Youth
ATTACH;FMTTYPE=image/jpeg:https://linkchurch.org/wordpress/wp-content/uploads/2024/12/Stay-Hip-1.jpg
END:VEVENT
BEGIN:VEVENT
DTSTART;TZID=America/Edmonton:20250114T190000
DTEND;TZID=America/Edmonton:20250114T210000
DTSTAMP:20260425T094740
CREATED:20241218T194633Z
LAST-MODIFIED:20250313T164012Z
UID:10002815-1736881200-1736888400@linkchurch.org
SUMMARY:Young Adults
DESCRIPTION:6 Rossview Court SE \nContact – Lysa Penney – (403) 594-1431
URL:https://linkchurch.org/event/young-adults-7/2025-01-14/
LOCATION:The Link Church\, 1714 Saamis Dr NW\, Medicine Hat\, Alberta\, T1C1W7\, Canada
CATEGORIES:Young Adults
ATTACH;FMTTYPE=image/jpeg:https://linkchurch.org/wordpress/wp-content/uploads/2024/12/Young-Adults.jpg
END:VEVENT
BEGIN:VEVENT
DTSTART;TZID=America/Edmonton:20250114T183000
DTEND;TZID=America/Edmonton:20250114T203000
DTSTAMP:20260425T094740
CREATED:20241218T194211Z
LAST-MODIFIED:20250514T162352Z
UID:10002791-1736879400-1736886600@linkchurch.org
SUMMARY:Women's Ministry Evening Study
DESCRIPTION:Creating community with each other while growing in our understanding of the Bible and our faith
URL:https://linkchurch.org/event/womens-ministry-evening-study-19/2025-01-14/
LOCATION:The Link Church\, 1714 Saamis Dr NW\, Medicine Hat\, Alberta\, T1C1W7\, Canada
CATEGORIES:Womens Ministry
ATTACH;FMTTYPE=image/jpeg:https://linkchurch.org/wordpress/wp-content/uploads/2024/12/womenS-copy.jpg
END:VEVENT
BEGIN:VEVENT
DTSTART;TZID=America/Edmonton:20250114T093000
DTEND;TZID=America/Edmonton:20250114T113000
DTSTAMP:20260425T094740
CREATED:20241218T194037Z
LAST-MODIFIED:20250514T162453Z
UID:10002767-1736847000-1736854200@linkchurch.org
SUMMARY:Women's Ministry Morning Study
DESCRIPTION:Creating community with each other while growing in our understanding of the Bible and our faith
URL:https://linkchurch.org/event/womens-ministry-morning-study/2025-01-14/
LOCATION:The Link Church\, 1714 Saamis Dr NW\, Medicine Hat\, Alberta\, T1C1W7\, Canada
CATEGORIES:Womens Ministry
ATTACH;FMTTYPE=image/jpeg:https://linkchurch.org/wordpress/wp-content/uploads/2024/12/womenS.jpg
END:VEVENT
BEGIN:VEVENT
DTSTART;TZID=America/Edmonton:20250114T060000
DTEND;TZID=America/Edmonton:20250114T070000
DTSTAMP:20260425T094740
CREATED:20241218T203820Z
LAST-MODIFIED:20250109T172113Z
UID:10002908-1736834400-1736838000@linkchurch.org
SUMMARY:The Way Mentoring Group
DESCRIPTION:
URL:https://linkchurch.org/event/the-way-mentoring-group/2025-01-14/
LOCATION:The Link Church\, 1714 Saamis Dr NW\, Medicine Hat\, Alberta\, T1C1W7\, Canada
CATEGORIES:Bible Studies
ATTACH;FMTTYPE=image/jpeg:https://linkchurch.org/wordpress/wp-content/uploads/2024/12/Together.jpg
END:VEVENT
BEGIN:VEVENT
DTSTART;TZID=America/Edmonton:20250113T190000
DTEND;TZID=America/Edmonton:20250113T210000
DTSTAMP:20260425T094740
CREATED:20241218T193357Z
LAST-MODIFIED:20250109T172140Z
UID:10002743-1736794800-1736802000@linkchurch.org
SUMMARY:Men's Ministry
DESCRIPTION:This group is open to all men wherever you are at with your relationship with the Lord. \nContact Clark Kurpjuweit (403) 581-8972\, clarkrenate@gmail.com \nor Pastor Rick Aupperle (403) 700-7140\, rick@linkchurch.org
URL:https://linkchurch.org/event/mens-ministry/2025-01-13/
LOCATION:The Link Church\, 1714 Saamis Dr NW\, Medicine Hat\, Alberta\, T1C1W7\, Canada
CATEGORIES:Men's Ministry
ATTACH;FMTTYPE=image/jpeg:https://linkchurch.org/wordpress/wp-content/uploads/2024/12/Your-paragraph-text.jpg
END:VEVENT
BEGIN:VEVENT
DTSTART;TZID=America/Edmonton:20250113T183000
DTEND;TZID=America/Edmonton:20250113T200000
DTSTAMP:20260425T094740
CREATED:20241218T204228Z
LAST-MODIFIED:20250514T162645Z
UID:10002932-1736793000-1736798400@linkchurch.org
SUMMARY:Mini Youth
DESCRIPTION:Mini Youth provides a space for kids in grades 4-6 to be discipled by leaders\, mature in their faith\, and share the gospel message with their friends.
URL:https://linkchurch.org/event/mini-youth/2025-01-13/
LOCATION:The Link Church\, 1714 Saamis Dr NW\, Medicine Hat\, Alberta\, T1C1W7\, Canada
CATEGORIES:Link Kids,Link Youth
ATTACH;FMTTYPE=image/jpeg:https://linkchurch.org/wordpress/wp-content/uploads/2024/12/MINI-1.jpg
END:VEVENT
END:VCALENDAR