BEGIN:VCALENDAR
VERSION:2.0
PRODID:-//The Link Christian Fellowship - ECPv6.15.20//NONSGML v1.0//EN
CALSCALE:GREGORIAN
METHOD:PUBLISH
X-WR-CALNAME:The Link Christian Fellowship
X-ORIGINAL-URL:https://linkchurch.org
X-WR-CALDESC:Events for The Link Christian Fellowship
REFRESH-INTERVAL;VALUE=DURATION:PT1H
X-Robots-Tag:noindex
X-PUBLISHED-TTL:PT1H
BEGIN:VTIMEZONE
TZID:America/Edmonton
BEGIN:DAYLIGHT
TZOFFSETFROM:-0700
TZOFFSETTO:-0600
TZNAME:MDT
DTSTART:20230312T090000
END:DAYLIGHT
BEGIN:STANDARD
TZOFFSETFROM:-0600
TZOFFSETTO:-0700
TZNAME:MST
DTSTART:20231105T080000
END:STANDARD
BEGIN:DAYLIGHT
TZOFFSETFROM:-0700
TZOFFSETTO:-0600
TZNAME:MDT
DTSTART:20240310T090000
END:DAYLIGHT
BEGIN:STANDARD
TZOFFSETFROM:-0600
TZOFFSETTO:-0700
TZNAME:MST
DTSTART:20241103T080000
END:STANDARD
BEGIN:DAYLIGHT
TZOFFSETFROM:-0700
TZOFFSETTO:-0600
TZNAME:MDT
DTSTART:20250309T090000
END:DAYLIGHT
BEGIN:STANDARD
TZOFFSETFROM:-0600
TZOFFSETTO:-0700
TZNAME:MST
DTSTART:20251102T080000
END:STANDARD
BEGIN:DAYLIGHT
TZOFFSETFROM:-0700
TZOFFSETTO:-0600
TZNAME:MDT
DTSTART:20260308T090000
END:DAYLIGHT
BEGIN:STANDARD
TZOFFSETFROM:-0600
TZOFFSETTO:-0700
TZNAME:MST
DTSTART:20261101T080000
END:STANDARD
END:VTIMEZONE
BEGIN:VEVENT
DTSTART;TZID=America/Edmonton:20250106T190000
DTEND;TZID=America/Edmonton:20250106T210000
DTSTAMP:20260425T135827
CREATED:20241218T193357Z
LAST-MODIFIED:20250109T172140Z
UID:10002742-1736190000-1736197200@linkchurch.org
SUMMARY:Men's Ministry
DESCRIPTION:This group is open to all men wherever you are at with your relationship with the Lord. \nContact Clark Kurpjuweit (403) 581-8972\, clarkrenate@gmail.com \nor Pastor Rick Aupperle (403) 700-7140\, rick@linkchurch.org
URL:https://linkchurch.org/event/mens-ministry/2025-01-06/
LOCATION:The Link Church\, 1714 Saamis Dr NW\, Medicine Hat\, Alberta\, T1C1W7\, Canada
CATEGORIES:Men's Ministry
ATTACH;FMTTYPE=image/jpeg:https://linkchurch.org/wordpress/wp-content/uploads/2024/12/Your-paragraph-text.jpg
END:VEVENT
BEGIN:VEVENT
DTSTART;TZID=America/Edmonton:20250106T120000
DTEND;TZID=America/Edmonton:20250110T130000
DTSTAMP:20260425T135827
CREATED:20250103T211028Z
LAST-MODIFIED:20250103T211710Z
UID:10002965-1736164800-1736514000@linkchurch.org
SUMMARY:Week of Prayer: Noon - 1pm Prayer Time
DESCRIPTION:We are kicking off the New Year with a Week of Prayer at the Link. You are invited to join us for an hour of prayer from Monday to Friday\, January 6th – 10th.  There will be three time slots each day: 6am-7am\, noon-1pm and 7pm-8pm. \nThis week of prayer kicks off an entire month focused on Holy Spirit and culminates in the Awaken Conference on Jan 31st and Feb 1st.  The Awaken Conference will be a practicum of experiencing the life that Holy Spirit makes possible.
URL:https://linkchurch.org/event/week-of-prayer-noon-1pm-prayer-time/
LOCATION:The Link Church\, 1714 Saamis Dr NW\, Medicine Hat\, Alberta\, T1C1W7\, Canada
CATEGORIES:Prayer
ATTACH;FMTTYPE=image/jpeg:https://linkchurch.org/wordpress/wp-content/uploads/2024/12/Week-of-Prayer.jpg
END:VEVENT
BEGIN:VEVENT
DTSTART;TZID=America/Edmonton:20250106T060000
DTEND;TZID=America/Edmonton:20250110T070000
DTSTAMP:20260425T135827
CREATED:20241218T203233Z
LAST-MODIFIED:20250103T211411Z
UID:10002905-1736143200-1736492400@linkchurch.org
SUMMARY:Week of Prayer - Morning Prayer Time
DESCRIPTION:We are kicking off the New Year with a Week of Prayer at the Link. You are invited to join us for an hour of prayer from Monday to Friday\, January 6th – 10th.  There will be three time slots each day: 6am-7am\, noon-1pm and 7pm-8pm. \nThis week of prayer kicks off an entire month focused on Holy Spirit and culminates in the Awaken Conference on Jan 31st and Feb 1st.  The Awaken Conference will be a practicum of experiencing the life that Holy Spirit makes possible.
URL:https://linkchurch.org/event/week-of-prayer-morning-prayer-time/
LOCATION:The Link Church\, 1714 Saamis Dr NW\, Medicine Hat\, Alberta\, T1C1W7\, Canada
CATEGORIES:Prayer
ATTACH;FMTTYPE=image/jpeg:https://linkchurch.org/wordpress/wp-content/uploads/2024/12/Week-of-Prayer.jpg
END:VEVENT
BEGIN:VEVENT
DTSTART;TZID=America/Edmonton:20250105T110000
DTEND;TZID=America/Edmonton:20250105T123000
DTSTAMP:20260425T135827
CREATED:20241217T193105Z
LAST-MODIFIED:20251127T203018Z
UID:10002716-1736074800-1736080200@linkchurch.org
SUMMARY:Sunday Morning Worship – 2nd Service
DESCRIPTION:Come and join us for our Sunday Morning worship service at 11:00 AM every Sunday. \nThere is no Livestream for the 11:00 AM service \nWe are located at 1714 Saamis Dr. NW. \nPlease contact info@linkchurch.org if you have any questions
URL:https://linkchurch.org/event/sunday-morning-worship-2nd-service/2025-01-05/
LOCATION:The Link Church\, 1714 Saamis Dr NW\, Medicine Hat\, Alberta\, T1C1W7\, Canada
CATEGORIES:Worship Services
ATTACH;FMTTYPE=image/png:https://linkchurch.org/wordpress/wp-content/uploads/2024/08/this-sunday-copy.png
END:VEVENT
BEGIN:VEVENT
DTSTART;TZID=America/Edmonton:20250105T090000
DTEND;TZID=America/Edmonton:20250105T103000
DTSTAMP:20260425T135827
CREATED:20241217T192941Z
LAST-MODIFIED:20251127T203348Z
UID:10002690-1736067600-1736073000@linkchurch.org
SUMMARY:Sunday Morning Worship – 1st Service
DESCRIPTION:Come and join us for our Sunday Morning worship service at 9:00 AM every Sunday. \nLive stream is also available for the 9:00 AM service: http://www.facebook.com/linkchurchmedhat/live/ \nWe are located at 1714 Saamis Dr. NW. \nPlease contact info@linkchurch.org if you have any questions
URL:https://linkchurch.org/event/sunday-morning-worship-1st-service/2025-01-05/
LOCATION:The Link Church\, 1714 Saamis Dr NW\, Medicine Hat\, Alberta\, T1C1W7\, Canada
CATEGORIES:Worship Services
ATTACH;FMTTYPE=image/png:https://linkchurch.org/wordpress/wp-content/uploads/2024/08/this-sunday.png
END:VEVENT
BEGIN:VEVENT
DTSTART;TZID=America/Edmonton:20250103T183000
DTEND;TZID=America/Edmonton:20250103T203000
DTSTAMP:20260425T135827
CREATED:20241218T202541Z
LAST-MODIFIED:20241218T202541Z
UID:10002904-1735929000-1735936200@linkchurch.org
SUMMARY:Link Singles Bowling Night
DESCRIPTION:10 pin – Cost is $25 \nRSVP to Delynne at delynne@telus.net by Monday December 30
URL:https://linkchurch.org/event/link-singles-bowling-night/
LOCATION:The Link Church\, 1714 Saamis Dr NW\, Medicine Hat\, Alberta\, T1C1W7\, Canada
CATEGORIES:Link Singles
ATTACH;FMTTYPE=image/jpeg:https://linkchurch.org/wordpress/wp-content/uploads/2024/12/LInk-singles.jpg
END:VEVENT
BEGIN:VEVENT
DTSTART;TZID=America/Edmonton:20250102T121500
DTEND;TZID=America/Edmonton:20250102T130000
DTSTAMP:20260425T135827
CREATED:20241218T202146Z
LAST-MODIFIED:20250109T172212Z
UID:10002865-1735820100-1735822800@linkchurch.org
SUMMARY:Prayer
DESCRIPTION:Prayer is the key that unlocks the riches of God’s power\, his wisdom and his presence. \nThere are ways for you to connect\, whether you are in need of prayer for yourself or a loved one\, or whether you feel called to pray for others. \nJoin us on Thursday’s from 12:15pm – 1:00pm to pray.
URL:https://linkchurch.org/event/prayer/2025-01-02/
LOCATION:The Link Church\, 1714 Saamis Dr NW\, Medicine Hat\, Alberta\, T1C1W7\, Canada
CATEGORIES:Prayer
ATTACH;FMTTYPE=image/jpeg:https://linkchurch.org/wordpress/wp-content/uploads/2024/12/prayer-3.jpg
END:VEVENT
BEGIN:VEVENT
DTSTART;TZID=America/Edmonton:20241231T180000
DTEND;TZID=America/Edmonton:20241231T234500
DTSTAMP:20260425T135827
CREATED:20241220T211846Z
LAST-MODIFIED:20241220T212447Z
UID:10002956-1735668000-1735688700@linkchurch.org
SUMMARY:New Years Eve Friends & Family Event
DESCRIPTION:NEW YEAR’S EVE FAMILY EVENT – December 31st at The Link.  There will be a potluck at 6:00 pm and then Games + Hanging Out until midnight!  Everyone Welcome!  Any questions contact sherry@linkchurch.org
URL:https://linkchurch.org/event/new-years-eve-friends-family-event/
LOCATION:The Link Church\, 1714 Saamis Dr NW\, Medicine Hat\, Alberta\, T1C1W7\, Canada
CATEGORIES:Special Events
ATTACH;FMTTYPE=image/png:https://linkchurch.org/wordpress/wp-content/uploads/2024/12/2023.png
END:VEVENT
BEGIN:VEVENT
DTSTART;TZID=America/Edmonton:20241231T080000
DTEND;TZID=America/Edmonton:20250101T170000
DTSTAMP:20260425T135827
CREATED:20241009T165618Z
LAST-MODIFIED:20241009T165618Z
UID:10002582-1735632000-1735750800@linkchurch.org
SUMMARY:Office Closed
DESCRIPTION:The Church office will be closed for the Christmas holiday from December 24th to January 1st. We will re-open on January 2\, 2024
URL:https://linkchurch.org/event/office-closed-4/
LOCATION:The Link Church\, 1714 Saamis Dr NW\, Medicine Hat\, Alberta\, T1C1W7\, Canada
ATTACH;FMTTYPE=image/png:https://linkchurch.org/wordpress/wp-content/uploads/2024/10/Closed.png
END:VEVENT
BEGIN:VEVENT
DTSTART;TZID=America/Edmonton:20241229T100000
DTEND;TZID=America/Edmonton:20241229T113000
DTSTAMP:20260425T135827
CREATED:20241217T191313Z
LAST-MODIFIED:20241217T191313Z
UID:10002688-1735466400-1735471800@linkchurch.org
SUMMARY:One Service
DESCRIPTION:Sunday Dec 29 we will have one Sunday Morning Worship Service at 10:00AM
URL:https://linkchurch.org/event/one-service/
LOCATION:The Link Church\, 1714 Saamis Dr NW\, Medicine Hat\, Alberta\, T1C1W7\, Canada
CATEGORIES:Men's Ministry,Worship Services
ATTACH;FMTTYPE=image/png:https://linkchurch.org/wordpress/wp-content/uploads/2024/12/Pentecost.png
END:VEVENT
BEGIN:VEVENT
DTSTART;TZID=America/Edmonton:20241224T173000
DTEND;TZID=America/Edmonton:20241224T183000
DTSTAMP:20260425T135827
CREATED:20241120T180224Z
LAST-MODIFIED:20241120T180224Z
UID:10002667-1735061400-1735065000@linkchurch.org
SUMMARY:Christmas Eve Service
DESCRIPTION:
URL:https://linkchurch.org/event/christmas-eve-service-4/2024-12-24/2/
LOCATION:The Link Church\, 1714 Saamis Dr NW\, Medicine Hat\, Alberta\, T1C1W7\, Canada
CATEGORIES:Special Events
ATTACH;FMTTYPE=image/jpeg:https://linkchurch.org/wordpress/wp-content/uploads/2024/11/Christmas-1.jpg
END:VEVENT
BEGIN:VEVENT
DTSTART;TZID=America/Edmonton:20241224T160000
DTEND;TZID=America/Edmonton:20241224T170000
DTSTAMP:20260425T135827
CREATED:20241120T180224Z
LAST-MODIFIED:20241120T180224Z
UID:10002666-1735056000-1735059600@linkchurch.org
SUMMARY:Christmas Eve Service
DESCRIPTION:
URL:https://linkchurch.org/event/christmas-eve-service-4/2024-12-24/1/
LOCATION:The Link Church\, 1714 Saamis Dr NW\, Medicine Hat\, Alberta\, T1C1W7\, Canada
CATEGORIES:Special Events
ATTACH;FMTTYPE=image/jpeg:https://linkchurch.org/wordpress/wp-content/uploads/2024/11/Christmas-1.jpg
END:VEVENT
BEGIN:VEVENT
DTSTART;TZID=America/Edmonton:20241224T080000
DTEND;TZID=America/Edmonton:20241227T170000
DTSTAMP:20260425T135827
CREATED:20241009T165508Z
LAST-MODIFIED:20241009T165508Z
UID:10002581-1735027200-1735318800@linkchurch.org
SUMMARY:Office Closed
DESCRIPTION:The Church office will be closed for the Christmas holiday from December 24th to January 1st. We will re-open on January 2\, 2024
URL:https://linkchurch.org/event/office-closed-3/
LOCATION:The Link Church\, 1714 Saamis Dr NW\, Medicine Hat\, Alberta\, T1C1W7\, Canada
ATTACH;FMTTYPE=image/png:https://linkchurch.org/wordpress/wp-content/uploads/2024/10/Closed.png
END:VEVENT
BEGIN:VEVENT
DTSTART;TZID=America/Edmonton:20241223T190000
DTEND;TZID=America/Edmonton:20241223T210000
DTSTAMP:20260425T135827
CREATED:20241217T201619Z
LAST-MODIFIED:20241217T201619Z
UID:10002324-1734980400-1734987600@linkchurch.org
SUMMARY:Men's Group
DESCRIPTION:This group is open to all men wherever you are at with your relationship with the Lord. \nContact Clark Kurpjuweit (403) 581-8972\, clarkrenate@gmail.com \nor Pastor Rick Aupperle (403) 700-7140\, rick@linkchurch.org for more information
URL:https://linkchurch.org/event/mens-group-2/2024-12-23/
LOCATION:The Link Church\, 1714 Saamis Dr NW\, Medicine Hat\, Alberta\, T1C1W7\, Canada
CATEGORIES:Men's Ministry
END:VEVENT
BEGIN:VEVENT
DTSTART;TZID=America/Edmonton:20241222T110000
DTEND;TZID=America/Edmonton:20241222T123000
DTSTAMP:20260425T135827
CREATED:20240806T204813Z
LAST-MODIFIED:20241015T172932Z
UID:10002587-1734865200-1734870600@linkchurch.org
SUMMARY:Sunday Morning Worship - 2nd Service
DESCRIPTION:Come and join us for our Sunday Morning worship service at 11:00 AM every Sunday. \nThere is no Livestream for the 11:00 AM service \nWe are located at 1714 Saamis Dr NW.  Please contact info@linkchurch.org if you have any questions
URL:https://linkchurch.org/event/sunday-morning-worship-2nd-service-2/2024-12-22/
LOCATION:The Link Church\, 1714 Saamis Dr NW\, Medicine Hat\, Alberta\, T1C1W7\, Canada
CATEGORIES:Worship Services
ATTACH;FMTTYPE=image/png:https://linkchurch.org/wordpress/wp-content/uploads/2024/08/this-sunday-copy.png
END:VEVENT
BEGIN:VEVENT
DTSTART;TZID=America/Edmonton:20241222T090000
DTEND;TZID=America/Edmonton:20241222T103000
DTSTAMP:20260425T135827
CREATED:20240806T204537Z
LAST-MODIFIED:20241015T173243Z
UID:10002591-1734858000-1734863400@linkchurch.org
SUMMARY:Sunday Morning Worship - 1st Service
DESCRIPTION:Come and join us for our Sunday Morning worship service at 9:00AM every Sunday. \nLive stream is also available for the 9:00 AM service: http://www.facebook.com/linkchurchmedhat/live/ \nWe are located at 1714 Saamis Dr NW.  Please contact info@linkchurch.org if you have any questions \n\n\n\n\n 
URL:https://linkchurch.org/event/sunday-morning-worship-service-1st-service-4/2024-12-22/
LOCATION:The Link Church\, 1714 Saamis Dr NW\, Medicine Hat\, Alberta\, T1C1W7\, Canada
CATEGORIES:Worship Services
ATTACH;FMTTYPE=image/png:https://linkchurch.org/wordpress/wp-content/uploads/2024/08/this-sunday.png
END:VEVENT
BEGIN:VEVENT
DTSTART;TZID=America/Edmonton:20241219T121500
DTEND;TZID=America/Edmonton:20241219T130000
DTSTAMP:20260425T135827
CREATED:20240502T185735Z
LAST-MODIFIED:20241015T175449Z
UID:10002606-1734610500-1734613200@linkchurch.org
SUMMARY:Prayer Group
DESCRIPTION:Everyone is welcome to join us for a time of prayer as we pray for our church\, our city and our country.  We meet in the Prayer Room at the back of the sanctuary
URL:https://linkchurch.org/event/prayer-group-8/2024-12-19/
LOCATION:The Link Church\, 1714 Saamis Dr NW\, Medicine Hat\, Alberta\, T1C1W7\, Canada
CATEGORIES:Prayer
ATTACH;FMTTYPE=image/png:https://linkchurch.org/wordpress/wp-content/uploads/2023/01/Prayer-1.png
END:VEVENT
BEGIN:VEVENT
DTSTART;TZID=America/Edmonton:20241218T174500
DTEND;TZID=America/Edmonton:20241218T193000
DTSTAMP:20260425T135827
CREATED:20241217T191710Z
LAST-MODIFIED:20241217T191710Z
UID:10002689-1734543900-1734550200@linkchurch.org
SUMMARY:Youth Semi Formal Christmas Potluck
DESCRIPTION:Wednesday\, December 18 – 5:45 pm-7:30 pm\nGrade 7-8: bring an appetizer\nGrade 9-12: bring a main dish\nDrinks will be provided\nSemi-formal optional – feel free to dress your best
URL:https://linkchurch.org/event/youth-semi-formal-christmas-potluck-2/
LOCATION:The Link Church\, 1714 Saamis Dr NW\, Medicine Hat\, Alberta\, T1C1W7\, Canada
CATEGORIES:Link Youth
ATTACH;FMTTYPE=image/png:https://linkchurch.org/wordpress/wp-content/uploads/2023/12/Social-Bunco-Night-2.png
END:VEVENT
BEGIN:VEVENT
DTSTART;TZID=America/Edmonton:20241217T190000
DTEND;TZID=America/Edmonton:20241217T213000
DTSTAMP:20260425T135827
CREATED:20240806T195354Z
LAST-MODIFIED:20241126T193652Z
UID:10002681-1734462000-1734471000@linkchurch.org
SUMMARY:Young Adults Group
DESCRIPTION:Tuesday night Young Adults Connect group.  80 Spruce Close. \nIf you are between the ages of 18-30ish you are welcome to join us!
URL:https://linkchurch.org/event/young-adults-group-12/2024-12-17/
LOCATION:Alberta
CATEGORIES:Young Adults
ATTACH;FMTTYPE=image/png:https://linkchurch.org/wordpress/wp-content/uploads/2024/08/Young-Adults-2.png
END:VEVENT
BEGIN:VEVENT
DTSTART;TZID=America/Edmonton:20241217T183000
DTEND;TZID=America/Edmonton:20241217T200000
DTSTAMP:20260425T135827
CREATED:20240815T202904Z
LAST-MODIFIED:20240815T202904Z
UID:10002202-1734460200-1734465600@linkchurch.org
SUMMARY:End Of This Age: Beginning Of The Next: Revelation Study
DESCRIPTION:Have you ever wanted to take a class on Revelation? Have you ever wondered about the beautiful Throne of God from Revelation 4 & 5? The Throne that the angels and creatures surround when they worship the King of kings? When we worship at The Link on our Sunday mornings\, this is that King\, sitting on that Throne\, and we corporately worship Him! This is the King that we raise our arms to\, pray\, and bow our knee to!\n\nOr\, what’s behind these seals\, trumpets and bowls that is part of God’s plan? What’s their significance\, and why are they necessary? \n\nWhat about Heaven\, or the Return of Jesus\, the Millenium\, the New Heaven\, the New Earth\, and the New Jerusalem? These are all topics we cover and learn what the Bible has to say about them. \n\nRevelation is about His heart\, and our heart. It’s about Jesus Christ\, the “man” behind the “plan”. It’s about the deepest of lengths He will go for that one\, last\, lost sheep. \n\nHe’s Holy\, loving\, righteous\, and tremendously merciful. He’s also the Bridegroom\, Judge and King. \n\nCome\, find out what all this means. Revelation can be understood. \n\nScriptures      Matthew 24 & 25\, Daniel 7-12\, Revelation 1-22\, Malachi\, Habakkuk and other Old Testament Scripture \nGroup is lead by Roger and Lynne Sabourin
URL:https://linkchurch.org/event/end-of-this-age-beginning-of-the-next-revelation-study/2024-12-17/
LOCATION:The Link Church\, 1714 Saamis Dr NW\, Medicine Hat\, Alberta\, T1C1W7\, Canada
CATEGORIES:Bible Studies
ATTACH;FMTTYPE=image/jpeg:https://linkchurch.org/wordpress/wp-content/uploads/2024/08/transform.jpeg
END:VEVENT
BEGIN:VEVENT
DTSTART;TZID=America/Edmonton:20241216T190000
DTEND;TZID=America/Edmonton:20241216T210000
DTSTAMP:20260425T135827
CREATED:20240918T161957Z
LAST-MODIFIED:20240918T161957Z
UID:10002323-1734375600-1734382800@linkchurch.org
SUMMARY:Men's Group
DESCRIPTION:This group is open to all men wherever you are at with your relationship with the Lord. \n\nContact Clark Kurpjuweit (403) 581-8972\, clarkrenate@gmail.com \nor Pastor Rick Aupperle (403) 700-7140\, rick@linkchurch.org for more information
URL:https://linkchurch.org/event/mens-group/2024-12-16/
LOCATION:The Link Church\, 1714 Saamis Dr NW\, Medicine Hat\, Alberta\, T1C1W7\, Canada
CATEGORIES:Men's Ministry
END:VEVENT
BEGIN:VEVENT
DTSTART;TZID=America/Edmonton:20241215T180000
DTEND;TZID=America/Edmonton:20241215T210000
DTSTAMP:20260425T135827
CREATED:20241126T193523Z
LAST-MODIFIED:20241126T193524Z
UID:10002673-1734285600-1734296400@linkchurch.org
SUMMARY:Young Adults Ugly Christmas Sweater Party
DESCRIPTION:Young Adults Ugly Christmas/White Elephant Gift Exchange (gift under $10) \n6 Rossview Court SE \nIf you are 18-30 ish you are welcome to join us!
URL:https://linkchurch.org/event/young-adults-ugly-christmas-sweater-party/
LOCATION:Alberta
CATEGORIES:Young Adults
ATTACH;FMTTYPE=image/png:https://linkchurch.org/wordpress/wp-content/uploads/2024/11/Young-Adults.png
END:VEVENT
BEGIN:VEVENT
DTSTART;TZID=America/Edmonton:20241215T110000
DTEND;TZID=America/Edmonton:20241215T123000
DTSTAMP:20260425T135827
CREATED:20240806T204813Z
LAST-MODIFIED:20241015T172932Z
UID:10002586-1734260400-1734265800@linkchurch.org
SUMMARY:Sunday Morning Worship - 2nd Service
DESCRIPTION:Come and join us for our Sunday Morning worship service at 11:00 AM every Sunday. \nThere is no Livestream for the 11:00 AM service \nWe are located at 1714 Saamis Dr NW.  Please contact info@linkchurch.org if you have any questions
URL:https://linkchurch.org/event/sunday-morning-worship-2nd-service-2/2024-12-15/
LOCATION:The Link Church\, 1714 Saamis Dr NW\, Medicine Hat\, Alberta\, T1C1W7\, Canada
CATEGORIES:Worship Services
ATTACH;FMTTYPE=image/png:https://linkchurch.org/wordpress/wp-content/uploads/2024/08/this-sunday-copy.png
END:VEVENT
BEGIN:VEVENT
DTSTART;TZID=America/Edmonton:20241215T090000
DTEND;TZID=America/Edmonton:20241215T120000
DTSTAMP:20260425T135827
CREATED:20241009T163355Z
LAST-MODIFIED:20241009T163355Z
UID:10002580-1734253200-1734264000@linkchurch.org
SUMMARY:Link Kids Christmas Program
DESCRIPTION:This Sunday the Link Kids will perform their Christmas program at both services\, invite your family and friends to come and see all the weeks of hard work the kids have put into this!!
URL:https://linkchurch.org/event/link-kids-christmas-program-4/
LOCATION:The Link Church\, 1714 Saamis Dr NW\, Medicine Hat\, Alberta\, T1C1W7\, Canada
CATEGORIES:Link Kids
ATTACH;FMTTYPE=image/png:https://linkchurch.org/wordpress/wp-content/uploads/2024/10/Link-Kids.png
END:VEVENT
BEGIN:VEVENT
DTSTART;TZID=America/Edmonton:20241215T090000
DTEND;TZID=America/Edmonton:20241215T103000
DTSTAMP:20260425T135827
CREATED:20240806T204537Z
LAST-MODIFIED:20241015T173243Z
UID:10002590-1734253200-1734258600@linkchurch.org
SUMMARY:Sunday Morning Worship - 1st Service
DESCRIPTION:Come and join us for our Sunday Morning worship service at 9:00AM every Sunday. \nLive stream is also available for the 9:00 AM service: http://www.facebook.com/linkchurchmedhat/live/ \nWe are located at 1714 Saamis Dr NW.  Please contact info@linkchurch.org if you have any questions \n\n\n\n\n 
URL:https://linkchurch.org/event/sunday-morning-worship-service-1st-service-4/2024-12-15/
LOCATION:The Link Church\, 1714 Saamis Dr NW\, Medicine Hat\, Alberta\, T1C1W7\, Canada
CATEGORIES:Worship Services
ATTACH;FMTTYPE=image/png:https://linkchurch.org/wordpress/wp-content/uploads/2024/08/this-sunday.png
END:VEVENT
BEGIN:VEVENT
DTSTART;TZID=America/Edmonton:20241213T180000
DTEND;TZID=America/Edmonton:20241213T210000
DTSTAMP:20260425T135827
CREATED:20241126T195813Z
LAST-MODIFIED:20241126T195813Z
UID:10002685-1734112800-1734123600@linkchurch.org
SUMMARY:Link Singles Christmas Party
DESCRIPTION:Friday\, Dec 13th at the Link \nPotluck\, Chinese gift exchange ($20 unisex gift) and board games!
URL:https://linkchurch.org/event/link-singles-christmas-party/
LOCATION:The Link Church\, 1714 Saamis Dr NW\, Medicine Hat\, Alberta\, T1C1W7\, Canada
CATEGORIES:Link Singles
ATTACH;FMTTYPE=image/png:https://linkchurch.org/wordpress/wp-content/uploads/2024/11/LINK-SINGLES.png
END:VEVENT
BEGIN:VEVENT
DTSTART;TZID=America/Edmonton:20241212T121500
DTEND;TZID=America/Edmonton:20241212T130000
DTSTAMP:20260425T135827
CREATED:20240502T185735Z
LAST-MODIFIED:20241015T175449Z
UID:10002605-1734005700-1734008400@linkchurch.org
SUMMARY:Prayer Group
DESCRIPTION:Everyone is welcome to join us for a time of prayer as we pray for our church\, our city and our country.  We meet in the Prayer Room at the back of the sanctuary
URL:https://linkchurch.org/event/prayer-group-8/2024-12-12/
LOCATION:The Link Church\, 1714 Saamis Dr NW\, Medicine Hat\, Alberta\, T1C1W7\, Canada
CATEGORIES:Prayer
ATTACH;FMTTYPE=image/png:https://linkchurch.org/wordpress/wp-content/uploads/2023/01/Prayer-1.png
END:VEVENT
BEGIN:VEVENT
DTSTART;TZID=America/Edmonton:20241210T190000
DTEND;TZID=America/Edmonton:20241210T213000
DTSTAMP:20260425T135827
CREATED:20240806T195354Z
LAST-MODIFIED:20241126T193652Z
UID:10002680-1733857200-1733866200@linkchurch.org
SUMMARY:Young Adults Group
DESCRIPTION:Tuesday night Young Adults Connect group.  80 Spruce Close. \nIf you are between the ages of 18-30ish you are welcome to join us!
URL:https://linkchurch.org/event/young-adults-group-12/2024-12-10/
LOCATION:Alberta
CATEGORIES:Young Adults
ATTACH;FMTTYPE=image/png:https://linkchurch.org/wordpress/wp-content/uploads/2024/08/Young-Adults-2.png
END:VEVENT
BEGIN:VEVENT
DTSTART;TZID=America/Edmonton:20241210T183000
DTEND;TZID=America/Edmonton:20241210T203000
DTSTAMP:20260425T135827
CREATED:20241126T183533Z
LAST-MODIFIED:20241126T183533Z
UID:10002672-1733855400-1733862600@linkchurch.org
SUMMARY:Women's Ministry Evening Study
DESCRIPTION:“The Marvel and Miracle of Advent”\nThe study will run every Tuesday evening from 6:30pm-8:30pm for 4 weeks.\n-We will watch a video together as a large group and then break off into small groups for discussion and prayer time \n-A study guide is needed to participate\n-There is no childcare for this study\nPlease sign up for the study on the church app or contact rhonda@linkchurch.org if you have any questions
URL:https://linkchurch.org/event/womens-ministry-evening-study-18/2024-12-10/
LOCATION:The Link Church\, 1714 Saamis Dr NW\, Medicine Hat\, Alberta\, T1C1W7\, Canada
CATEGORIES:Womens Ministry
ATTACH;FMTTYPE=image/jpeg:https://linkchurch.org/wordpress/wp-content/uploads/2024/11/download.jpg
END:VEVENT
BEGIN:VEVENT
DTSTART;TZID=America/Edmonton:20241210T183000
DTEND;TZID=America/Edmonton:20241210T200000
DTSTAMP:20260425T135827
CREATED:20240815T202904Z
LAST-MODIFIED:20240815T202904Z
UID:10002201-1733855400-1733860800@linkchurch.org
SUMMARY:End Of This Age: Beginning Of The Next: Revelation Study
DESCRIPTION:Have you ever wanted to take a class on Revelation? Have you ever wondered about the beautiful Throne of God from Revelation 4 & 5? The Throne that the angels and creatures surround when they worship the King of kings? When we worship at The Link on our Sunday mornings\, this is that King\, sitting on that Throne\, and we corporately worship Him! This is the King that we raise our arms to\, pray\, and bow our knee to!\n\nOr\, what’s behind these seals\, trumpets and bowls that is part of God’s plan? What’s their significance\, and why are they necessary? \n\nWhat about Heaven\, or the Return of Jesus\, the Millenium\, the New Heaven\, the New Earth\, and the New Jerusalem? These are all topics we cover and learn what the Bible has to say about them. \n\nRevelation is about His heart\, and our heart. It’s about Jesus Christ\, the “man” behind the “plan”. It’s about the deepest of lengths He will go for that one\, last\, lost sheep. \n\nHe’s Holy\, loving\, righteous\, and tremendously merciful. He’s also the Bridegroom\, Judge and King. \n\nCome\, find out what all this means. Revelation can be understood. \n\nScriptures      Matthew 24 & 25\, Daniel 7-12\, Revelation 1-22\, Malachi\, Habakkuk and other Old Testament Scripture \nGroup is lead by Roger and Lynne Sabourin
URL:https://linkchurch.org/event/end-of-this-age-beginning-of-the-next-revelation-study/2024-12-10/
LOCATION:The Link Church\, 1714 Saamis Dr NW\, Medicine Hat\, Alberta\, T1C1W7\, Canada
CATEGORIES:Bible Studies
ATTACH;FMTTYPE=image/jpeg:https://linkchurch.org/wordpress/wp-content/uploads/2024/08/transform.jpeg
END:VEVENT
END:VCALENDAR