BEGIN:VCALENDAR
VERSION:2.0
PRODID:-//The Link Christian Fellowship - ECPv6.15.20//NONSGML v1.0//EN
CALSCALE:GREGORIAN
METHOD:PUBLISH
X-WR-CALNAME:The Link Christian Fellowship
X-ORIGINAL-URL:https://linkchurch.org
X-WR-CALDESC:Events for The Link Christian Fellowship
REFRESH-INTERVAL;VALUE=DURATION:PT1H
X-Robots-Tag:noindex
X-PUBLISHED-TTL:PT1H
BEGIN:VTIMEZONE
TZID:America/Edmonton
BEGIN:DAYLIGHT
TZOFFSETFROM:-0700
TZOFFSETTO:-0600
TZNAME:MDT
DTSTART:20230312T090000
END:DAYLIGHT
BEGIN:STANDARD
TZOFFSETFROM:-0600
TZOFFSETTO:-0700
TZNAME:MST
DTSTART:20231105T080000
END:STANDARD
BEGIN:DAYLIGHT
TZOFFSETFROM:-0700
TZOFFSETTO:-0600
TZNAME:MDT
DTSTART:20240310T090000
END:DAYLIGHT
BEGIN:STANDARD
TZOFFSETFROM:-0600
TZOFFSETTO:-0700
TZNAME:MST
DTSTART:20241103T080000
END:STANDARD
BEGIN:DAYLIGHT
TZOFFSETFROM:-0700
TZOFFSETTO:-0600
TZNAME:MDT
DTSTART:20250309T090000
END:DAYLIGHT
BEGIN:STANDARD
TZOFFSETFROM:-0600
TZOFFSETTO:-0700
TZNAME:MST
DTSTART:20251102T080000
END:STANDARD
END:VTIMEZONE
BEGIN:VEVENT
DTSTART;TZID=America/Edmonton:20241215T090000
DTEND;TZID=America/Edmonton:20241215T103000
DTSTAMP:20260425T164814
CREATED:20240806T204537Z
LAST-MODIFIED:20241015T173243Z
UID:10002590-1734253200-1734258600@linkchurch.org
SUMMARY:Sunday Morning Worship - 1st Service
DESCRIPTION:Come and join us for our Sunday Morning worship service at 9:00AM every Sunday. \nLive stream is also available for the 9:00 AM service: http://www.facebook.com/linkchurchmedhat/live/ \nWe are located at 1714 Saamis Dr NW.  Please contact info@linkchurch.org if you have any questions \n\n\n\n\n 
URL:https://linkchurch.org/event/sunday-morning-worship-service-1st-service-4/2024-12-15/
LOCATION:The Link Church\, 1714 Saamis Dr NW\, Medicine Hat\, Alberta\, T1C1W7\, Canada
CATEGORIES:Worship Services
ATTACH;FMTTYPE=image/png:https://linkchurch.org/wordpress/wp-content/uploads/2024/08/this-sunday.png
END:VEVENT
BEGIN:VEVENT
DTSTART;TZID=America/Edmonton:20241213T180000
DTEND;TZID=America/Edmonton:20241213T210000
DTSTAMP:20260425T164814
CREATED:20241126T195813Z
LAST-MODIFIED:20241126T195813Z
UID:10002685-1734112800-1734123600@linkchurch.org
SUMMARY:Link Singles Christmas Party
DESCRIPTION:Friday\, Dec 13th at the Link \nPotluck\, Chinese gift exchange ($20 unisex gift) and board games!
URL:https://linkchurch.org/event/link-singles-christmas-party/
LOCATION:The Link Church\, 1714 Saamis Dr NW\, Medicine Hat\, Alberta\, T1C1W7\, Canada
CATEGORIES:Link Singles
ATTACH;FMTTYPE=image/png:https://linkchurch.org/wordpress/wp-content/uploads/2024/11/LINK-SINGLES.png
END:VEVENT
BEGIN:VEVENT
DTSTART;TZID=America/Edmonton:20241212T121500
DTEND;TZID=America/Edmonton:20241212T130000
DTSTAMP:20260425T164814
CREATED:20240502T185735Z
LAST-MODIFIED:20241015T175449Z
UID:10002605-1734005700-1734008400@linkchurch.org
SUMMARY:Prayer Group
DESCRIPTION:Everyone is welcome to join us for a time of prayer as we pray for our church\, our city and our country.  We meet in the Prayer Room at the back of the sanctuary
URL:https://linkchurch.org/event/prayer-group-8/2024-12-12/
LOCATION:The Link Church\, 1714 Saamis Dr NW\, Medicine Hat\, Alberta\, T1C1W7\, Canada
CATEGORIES:Prayer
ATTACH;FMTTYPE=image/png:https://linkchurch.org/wordpress/wp-content/uploads/2023/01/Prayer-1.png
END:VEVENT
BEGIN:VEVENT
DTSTART;TZID=America/Edmonton:20241210T190000
DTEND;TZID=America/Edmonton:20241210T213000
DTSTAMP:20260425T164814
CREATED:20240806T195354Z
LAST-MODIFIED:20241126T193652Z
UID:10002680-1733857200-1733866200@linkchurch.org
SUMMARY:Young Adults Group
DESCRIPTION:Tuesday night Young Adults Connect group.  80 Spruce Close. \nIf you are between the ages of 18-30ish you are welcome to join us!
URL:https://linkchurch.org/event/young-adults-group-12/2024-12-10/
LOCATION:Alberta
CATEGORIES:Young Adults
ATTACH;FMTTYPE=image/png:https://linkchurch.org/wordpress/wp-content/uploads/2024/08/Young-Adults-2.png
END:VEVENT
BEGIN:VEVENT
DTSTART;TZID=America/Edmonton:20241210T183000
DTEND;TZID=America/Edmonton:20241210T203000
DTSTAMP:20260425T164814
CREATED:20241126T183533Z
LAST-MODIFIED:20241126T183533Z
UID:10002672-1733855400-1733862600@linkchurch.org
SUMMARY:Women's Ministry Evening Study
DESCRIPTION:“The Marvel and Miracle of Advent”\nThe study will run every Tuesday evening from 6:30pm-8:30pm for 4 weeks.\n-We will watch a video together as a large group and then break off into small groups for discussion and prayer time \n-A study guide is needed to participate\n-There is no childcare for this study\nPlease sign up for the study on the church app or contact rhonda@linkchurch.org if you have any questions
URL:https://linkchurch.org/event/womens-ministry-evening-study-18/2024-12-10/
LOCATION:The Link Church\, 1714 Saamis Dr NW\, Medicine Hat\, Alberta\, T1C1W7\, Canada
CATEGORIES:Womens Ministry
ATTACH;FMTTYPE=image/jpeg:https://linkchurch.org/wordpress/wp-content/uploads/2024/11/download.jpg
END:VEVENT
BEGIN:VEVENT
DTSTART;TZID=America/Edmonton:20241210T183000
DTEND;TZID=America/Edmonton:20241210T200000
DTSTAMP:20260425T164814
CREATED:20240815T202904Z
LAST-MODIFIED:20240815T202904Z
UID:10002201-1733855400-1733860800@linkchurch.org
SUMMARY:End Of This Age: Beginning Of The Next: Revelation Study
DESCRIPTION:Have you ever wanted to take a class on Revelation? Have you ever wondered about the beautiful Throne of God from Revelation 4 & 5? The Throne that the angels and creatures surround when they worship the King of kings? When we worship at The Link on our Sunday mornings\, this is that King\, sitting on that Throne\, and we corporately worship Him! This is the King that we raise our arms to\, pray\, and bow our knee to!\n\nOr\, what’s behind these seals\, trumpets and bowls that is part of God’s plan? What’s their significance\, and why are they necessary? \n\nWhat about Heaven\, or the Return of Jesus\, the Millenium\, the New Heaven\, the New Earth\, and the New Jerusalem? These are all topics we cover and learn what the Bible has to say about them. \n\nRevelation is about His heart\, and our heart. It’s about Jesus Christ\, the “man” behind the “plan”. It’s about the deepest of lengths He will go for that one\, last\, lost sheep. \n\nHe’s Holy\, loving\, righteous\, and tremendously merciful. He’s also the Bridegroom\, Judge and King. \n\nCome\, find out what all this means. Revelation can be understood. \n\nScriptures      Matthew 24 & 25\, Daniel 7-12\, Revelation 1-22\, Malachi\, Habakkuk and other Old Testament Scripture \nGroup is lead by Roger and Lynne Sabourin
URL:https://linkchurch.org/event/end-of-this-age-beginning-of-the-next-revelation-study/2024-12-10/
LOCATION:The Link Church\, 1714 Saamis Dr NW\, Medicine Hat\, Alberta\, T1C1W7\, Canada
CATEGORIES:Bible Studies
ATTACH;FMTTYPE=image/jpeg:https://linkchurch.org/wordpress/wp-content/uploads/2024/08/transform.jpeg
END:VEVENT
BEGIN:VEVENT
DTSTART;TZID=America/Edmonton:20241210T093000
DTEND;TZID=America/Edmonton:20241210T113000
DTSTAMP:20260425T164814
CREATED:20241126T194743Z
LAST-MODIFIED:20241126T194844Z
UID:10002684-1733823000-1733830200@linkchurch.org
SUMMARY:Women's Ministry Morning Study
DESCRIPTION:The Tuesday morning group is studying “The 5 Love Languages” \nAll Women are welcome to attend! \nChildcare is provided. \nPlease sign up on the Church App.
URL:https://linkchurch.org/event/womens-ministry-morning-study-17-2/2024-12-10/
LOCATION:The Link Church\, 1714 Saamis Dr NW\, Medicine Hat\, Alberta\, T1C1W7\, Canada
CATEGORIES:Womens Ministry
ATTACH;FMTTYPE=image/png:https://linkchurch.org/wordpress/wp-content/uploads/2024/08/5-Love-Languages.png
END:VEVENT
BEGIN:VEVENT
DTSTART;TZID=America/Edmonton:20241209T190000
DTEND;TZID=America/Edmonton:20241209T210000
DTSTAMP:20260425T164814
CREATED:20240918T161957Z
LAST-MODIFIED:20240918T161957Z
UID:10002322-1733770800-1733778000@linkchurch.org
SUMMARY:Men's Group
DESCRIPTION:This group is open to all men wherever you are at with your relationship with the Lord. \n\nContact Clark Kurpjuweit (403) 581-8972\, clarkrenate@gmail.com \nor Pastor Rick Aupperle (403) 700-7140\, rick@linkchurch.org for more information
URL:https://linkchurch.org/event/mens-group/2024-12-09/
LOCATION:The Link Church\, 1714 Saamis Dr NW\, Medicine Hat\, Alberta\, T1C1W7\, Canada
CATEGORIES:Men's Ministry
END:VEVENT
BEGIN:VEVENT
DTSTART;TZID=America/Edmonton:20241208T110000
DTEND;TZID=America/Edmonton:20241208T123000
DTSTAMP:20260425T164814
CREATED:20240806T204813Z
LAST-MODIFIED:20241015T172932Z
UID:10002585-1733655600-1733661000@linkchurch.org
SUMMARY:Sunday Morning Worship - 2nd Service
DESCRIPTION:Come and join us for our Sunday Morning worship service at 11:00 AM every Sunday. \nThere is no Livestream for the 11:00 AM service \nWe are located at 1714 Saamis Dr NW.  Please contact info@linkchurch.org if you have any questions
URL:https://linkchurch.org/event/sunday-morning-worship-2nd-service-2/2024-12-08/
LOCATION:The Link Church\, 1714 Saamis Dr NW\, Medicine Hat\, Alberta\, T1C1W7\, Canada
CATEGORIES:Worship Services
ATTACH;FMTTYPE=image/png:https://linkchurch.org/wordpress/wp-content/uploads/2024/08/this-sunday-copy.png
END:VEVENT
BEGIN:VEVENT
DTSTART;TZID=America/Edmonton:20241208T090000
DTEND;TZID=America/Edmonton:20241208T103000
DTSTAMP:20260425T164814
CREATED:20241015T175228Z
LAST-MODIFIED:20241015T175228Z
UID:10002599-1733648400-1733653800@linkchurch.org
SUMMARY:Alpha Course
DESCRIPTION:The Alpha Course is a series of sessions exploring the basics of Christianity through discussions and videos \nSome of the topics include; Is there more to life than this?\, Who is Jesus?\, How Do I Pray?\, How does God guide us?\, Does God heal today? \nAlpha will run at the Link at the 9:00 AM service. All are welcome to attend.
URL:https://linkchurch.org/event/alpha-course/2024-12-08/
LOCATION:The Link Church\, 1714 Saamis Dr NW\, Medicine Hat\, Alberta\, T1C1W7\, Canada
CATEGORIES:Bible Studies
ATTACH;FMTTYPE=image/png:https://linkchurch.org/wordpress/wp-content/uploads/2024/10/Untitled-design-12.png
END:VEVENT
BEGIN:VEVENT
DTSTART;TZID=America/Edmonton:20241208T090000
DTEND;TZID=America/Edmonton:20241208T103000
DTSTAMP:20260425T164814
CREATED:20240806T204537Z
LAST-MODIFIED:20241015T173243Z
UID:10002589-1733648400-1733653800@linkchurch.org
SUMMARY:Sunday Morning Worship - 1st Service
DESCRIPTION:Come and join us for our Sunday Morning worship service at 9:00AM every Sunday. \nLive stream is also available for the 9:00 AM service: http://www.facebook.com/linkchurchmedhat/live/ \nWe are located at 1714 Saamis Dr NW.  Please contact info@linkchurch.org if you have any questions \n\n\n\n\n 
URL:https://linkchurch.org/event/sunday-morning-worship-service-1st-service-4/2024-12-08/
LOCATION:The Link Church\, 1714 Saamis Dr NW\, Medicine Hat\, Alberta\, T1C1W7\, Canada
CATEGORIES:Worship Services
ATTACH;FMTTYPE=image/png:https://linkchurch.org/wordpress/wp-content/uploads/2024/08/this-sunday.png
END:VEVENT
BEGIN:VEVENT
DTSTART;TZID=America/Edmonton:20241206T180000
DTEND;TZID=America/Edmonton:20241206T200000
DTSTAMP:20260425T164814
CREATED:20241009T180836Z
LAST-MODIFIED:20241009T180836Z
UID:10002583-1733508000-1733515200@linkchurch.org
SUMMARY:Winter Carnival
DESCRIPTION:This is a night where we serve our hamper families with a night of gifts\, treats and fun! \nWe need a lot of volunteers to make this event happen.  This is a great way for families to get involved!  Contact alli@linkchurch.org if you would like to help out \nThis evening is only for invited hamper families and for those who are signed up to help serve
URL:https://linkchurch.org/event/winter-carnival/
LOCATION:The Link Church\, 1714 Saamis Dr NW\, Medicine Hat\, Alberta\, T1C1W7\, Canada
CATEGORIES:Special Events
ATTACH;FMTTYPE=image/png:https://linkchurch.org/wordpress/wp-content/uploads/2024/10/Carnival.png
END:VEVENT
BEGIN:VEVENT
DTSTART;TZID=America/Edmonton:20241205T121500
DTEND;TZID=America/Edmonton:20241205T130000
DTSTAMP:20260425T164814
CREATED:20240502T185735Z
LAST-MODIFIED:20241015T175449Z
UID:10002604-1733400900-1733403600@linkchurch.org
SUMMARY:Prayer Group
DESCRIPTION:Everyone is welcome to join us for a time of prayer as we pray for our church\, our city and our country.  We meet in the Prayer Room at the back of the sanctuary
URL:https://linkchurch.org/event/prayer-group-8/2024-12-05/
LOCATION:The Link Church\, 1714 Saamis Dr NW\, Medicine Hat\, Alberta\, T1C1W7\, Canada
CATEGORIES:Prayer
ATTACH;FMTTYPE=image/png:https://linkchurch.org/wordpress/wp-content/uploads/2023/01/Prayer-1.png
END:VEVENT
BEGIN:VEVENT
DTSTART;TZID=America/Edmonton:20241204T190000
DTEND;TZID=America/Edmonton:20241204T210000
DTSTAMP:20260425T164814
CREATED:20240903T173018Z
LAST-MODIFIED:20240903T173018Z
UID:10002239-1733338800-1733346000@linkchurch.org
SUMMARY:Youth Home Groups
DESCRIPTION:Youth are meeting in their home groups tonight\, do not come to the Link-go straight to your home group!  The list of home group locations can be found in the foyer or contact Pastor Josh at josh@linkchurch.org
URL:https://linkchurch.org/event/youth-home-groups-12/2024-12-04/
LOCATION:Alberta
CATEGORIES:Link Youth
ATTACH;FMTTYPE=image/jpeg:https://linkchurch.org/wordpress/wp-content/uploads/2024/09/Home-groups.jpg
END:VEVENT
BEGIN:VEVENT
DTSTART;TZID=America/Edmonton:20241203T190000
DTEND;TZID=America/Edmonton:20241203T213000
DTSTAMP:20260425T164814
CREATED:20240806T195354Z
LAST-MODIFIED:20241126T193652Z
UID:10002679-1733252400-1733261400@linkchurch.org
SUMMARY:Young Adults Group
DESCRIPTION:Tuesday night Young Adults Connect group.  80 Spruce Close. \nIf you are between the ages of 18-30ish you are welcome to join us!
URL:https://linkchurch.org/event/young-adults-group-12/2024-12-03/
LOCATION:Alberta
CATEGORIES:Young Adults
ATTACH;FMTTYPE=image/png:https://linkchurch.org/wordpress/wp-content/uploads/2024/08/Young-Adults-2.png
END:VEVENT
BEGIN:VEVENT
DTSTART;TZID=America/Edmonton:20241203T183000
DTEND;TZID=America/Edmonton:20241203T203000
DTSTAMP:20260425T164814
CREATED:20241126T183533Z
LAST-MODIFIED:20241126T183533Z
UID:10002671-1733250600-1733257800@linkchurch.org
SUMMARY:Women's Ministry Evening Study
DESCRIPTION:“The Marvel and Miracle of Advent”\nThe study will run every Tuesday evening from 6:30pm-8:30pm for 4 weeks.\n-We will watch a video together as a large group and then break off into small groups for discussion and prayer time \n-A study guide is needed to participate\n-There is no childcare for this study\nPlease sign up for the study on the church app or contact rhonda@linkchurch.org if you have any questions
URL:https://linkchurch.org/event/womens-ministry-evening-study-18/2024-12-03/
LOCATION:The Link Church\, 1714 Saamis Dr NW\, Medicine Hat\, Alberta\, T1C1W7\, Canada
CATEGORIES:Womens Ministry
ATTACH;FMTTYPE=image/jpeg:https://linkchurch.org/wordpress/wp-content/uploads/2024/11/download.jpg
END:VEVENT
BEGIN:VEVENT
DTSTART;TZID=America/Edmonton:20241203T183000
DTEND;TZID=America/Edmonton:20241203T200000
DTSTAMP:20260425T164814
CREATED:20240815T202904Z
LAST-MODIFIED:20240815T202904Z
UID:10002200-1733250600-1733256000@linkchurch.org
SUMMARY:End Of This Age: Beginning Of The Next: Revelation Study
DESCRIPTION:Have you ever wanted to take a class on Revelation? Have you ever wondered about the beautiful Throne of God from Revelation 4 & 5? The Throne that the angels and creatures surround when they worship the King of kings? When we worship at The Link on our Sunday mornings\, this is that King\, sitting on that Throne\, and we corporately worship Him! This is the King that we raise our arms to\, pray\, and bow our knee to!\n\nOr\, what’s behind these seals\, trumpets and bowls that is part of God’s plan? What’s their significance\, and why are they necessary? \n\nWhat about Heaven\, or the Return of Jesus\, the Millenium\, the New Heaven\, the New Earth\, and the New Jerusalem? These are all topics we cover and learn what the Bible has to say about them. \n\nRevelation is about His heart\, and our heart. It’s about Jesus Christ\, the “man” behind the “plan”. It’s about the deepest of lengths He will go for that one\, last\, lost sheep. \n\nHe’s Holy\, loving\, righteous\, and tremendously merciful. He’s also the Bridegroom\, Judge and King. \n\nCome\, find out what all this means. Revelation can be understood. \n\nScriptures      Matthew 24 & 25\, Daniel 7-12\, Revelation 1-22\, Malachi\, Habakkuk and other Old Testament Scripture \nGroup is lead by Roger and Lynne Sabourin
URL:https://linkchurch.org/event/end-of-this-age-beginning-of-the-next-revelation-study/2024-12-03/
LOCATION:The Link Church\, 1714 Saamis Dr NW\, Medicine Hat\, Alberta\, T1C1W7\, Canada
CATEGORIES:Bible Studies
ATTACH;FMTTYPE=image/jpeg:https://linkchurch.org/wordpress/wp-content/uploads/2024/08/transform.jpeg
END:VEVENT
BEGIN:VEVENT
DTSTART;TZID=America/Edmonton:20241203T093000
DTEND;TZID=America/Edmonton:20241203T113000
DTSTAMP:20260425T164814
CREATED:20241126T194743Z
LAST-MODIFIED:20241126T194844Z
UID:10002683-1733218200-1733225400@linkchurch.org
SUMMARY:Women's Ministry Morning Study
DESCRIPTION:The Tuesday morning group is studying “The 5 Love Languages” \nAll Women are welcome to attend! \nChildcare is provided. \nPlease sign up on the Church App.
URL:https://linkchurch.org/event/womens-ministry-morning-study-17-2/2024-12-03/
LOCATION:The Link Church\, 1714 Saamis Dr NW\, Medicine Hat\, Alberta\, T1C1W7\, Canada
CATEGORIES:Womens Ministry
ATTACH;FMTTYPE=image/png:https://linkchurch.org/wordpress/wp-content/uploads/2024/08/5-Love-Languages.png
END:VEVENT
BEGIN:VEVENT
DTSTART;TZID=America/Edmonton:20241203T060000
DTEND;TZID=America/Edmonton:20241203T070000
DTSTAMP:20260425T164814
CREATED:20240903T172412Z
LAST-MODIFIED:20240905T164135Z
UID:10002225-1733205600-1733209200@linkchurch.org
SUMMARY:The Way Mentoring Group
DESCRIPTION:This is open for anyone who would like to join! For more info please contact mike@linkchurch.org
URL:https://linkchurch.org/event/the-way-mentoring-group-17/2024-12-03/
LOCATION:The Link Church\, 1714 Saamis Dr NW\, Medicine Hat\, Alberta\, T1C1W7\, Canada
CATEGORIES:Bible Studies
ATTACH;FMTTYPE=image/png:https://linkchurch.org/wordpress/wp-content/uploads/2023/08/Untitled-design-8.png
END:VEVENT
BEGIN:VEVENT
DTSTART;TZID=America/Edmonton:20241202T190000
DTEND;TZID=America/Edmonton:20241202T210000
DTSTAMP:20260425T164814
CREATED:20240918T161957Z
LAST-MODIFIED:20240918T161957Z
UID:10002321-1733166000-1733173200@linkchurch.org
SUMMARY:Men's Group
DESCRIPTION:This group is open to all men wherever you are at with your relationship with the Lord. \n\nContact Clark Kurpjuweit (403) 581-8972\, clarkrenate@gmail.com \nor Pastor Rick Aupperle (403) 700-7140\, rick@linkchurch.org for more information
URL:https://linkchurch.org/event/mens-group/2024-12-02/
LOCATION:The Link Church\, 1714 Saamis Dr NW\, Medicine Hat\, Alberta\, T1C1W7\, Canada
CATEGORIES:Men's Ministry
END:VEVENT
BEGIN:VEVENT
DTSTART;TZID=America/Edmonton:20241201T183000
DTEND;TZID=America/Edmonton:20241201T200000
DTSTAMP:20260425T164814
CREATED:20241126T213353Z
LAST-MODIFIED:20241126T213353Z
UID:10002686-1733077800-1733083200@linkchurch.org
SUMMARY:Prayer & Worship Night
DESCRIPTION:Everyone is welcome to come and join us for a night of prayer and worship
URL:https://linkchurch.org/event/prayer-worship-night/
LOCATION:The Link Church\, 1714 Saamis Dr NW\, Medicine Hat\, Alberta\, T1C1W7\, Canada
CATEGORIES:Prayer
ATTACH;FMTTYPE=image/png:https://linkchurch.org/wordpress/wp-content/uploads/2024/08/Prayer-Worship-Night.png
END:VEVENT
BEGIN:VEVENT
DTSTART;TZID=America/Edmonton:20241201T150000
DTEND;TZID=America/Edmonton:20241201T170000
DTSTAMP:20260425T164814
CREATED:20241126T214237Z
LAST-MODIFIED:20241126T214237Z
UID:10002687-1733065200-1733072400@linkchurch.org
SUMMARY:Carnival Set-up
DESCRIPTION:Christmas Carnival Set-up Day! \nThis is when we wrap all the gifts\, pack all the hampers and set up the church for our upcoming Christmas Carnival. \nPlease sign up to help on the church app \n 
URL:https://linkchurch.org/event/carnival-set-up/
LOCATION:The Link Church\, 1714 Saamis Dr NW\, Medicine Hat\, Alberta\, T1C1W7\, Canada
CATEGORIES:Special Events
ATTACH;FMTTYPE=image/png:https://linkchurch.org/wordpress/wp-content/uploads/2024/11/Winter-Carnival.png
END:VEVENT
BEGIN:VEVENT
DTSTART;TZID=America/Edmonton:20241201T110000
DTEND;TZID=America/Edmonton:20241201T123000
DTSTAMP:20260425T164814
CREATED:20240806T204813Z
LAST-MODIFIED:20241015T172932Z
UID:10002584-1733050800-1733056200@linkchurch.org
SUMMARY:Sunday Morning Worship - 2nd Service
DESCRIPTION:Come and join us for our Sunday Morning worship service at 11:00 AM every Sunday. \nThere is no Livestream for the 11:00 AM service \nWe are located at 1714 Saamis Dr NW.  Please contact info@linkchurch.org if you have any questions
URL:https://linkchurch.org/event/sunday-morning-worship-2nd-service-2/2024-12-01/
LOCATION:The Link Church\, 1714 Saamis Dr NW\, Medicine Hat\, Alberta\, T1C1W7\, Canada
CATEGORIES:Worship Services
ATTACH;FMTTYPE=image/png:https://linkchurch.org/wordpress/wp-content/uploads/2024/08/this-sunday-copy.png
END:VEVENT
BEGIN:VEVENT
DTSTART;TZID=America/Edmonton:20241201T090000
DTEND;TZID=America/Edmonton:20241201T103000
DTSTAMP:20260425T164814
CREATED:20241015T175228Z
LAST-MODIFIED:20241015T175228Z
UID:10002598-1733043600-1733049000@linkchurch.org
SUMMARY:Alpha Course
DESCRIPTION:The Alpha Course is a series of sessions exploring the basics of Christianity through discussions and videos \nSome of the topics include; Is there more to life than this?\, Who is Jesus?\, How Do I Pray?\, How does God guide us?\, Does God heal today? \nAlpha will run at the Link at the 9:00 AM service. All are welcome to attend.
URL:https://linkchurch.org/event/alpha-course/2024-12-01/
LOCATION:The Link Church\, 1714 Saamis Dr NW\, Medicine Hat\, Alberta\, T1C1W7\, Canada
CATEGORIES:Bible Studies
ATTACH;FMTTYPE=image/png:https://linkchurch.org/wordpress/wp-content/uploads/2024/10/Untitled-design-12.png
END:VEVENT
BEGIN:VEVENT
DTSTART;TZID=America/Edmonton:20241201T090000
DTEND;TZID=America/Edmonton:20241201T103000
DTSTAMP:20260425T164814
CREATED:20240806T204537Z
LAST-MODIFIED:20241015T173243Z
UID:10002588-1733043600-1733049000@linkchurch.org
SUMMARY:Sunday Morning Worship - 1st Service
DESCRIPTION:Come and join us for our Sunday Morning worship service at 9:00AM every Sunday. \nLive stream is also available for the 9:00 AM service: http://www.facebook.com/linkchurchmedhat/live/ \nWe are located at 1714 Saamis Dr NW.  Please contact info@linkchurch.org if you have any questions \n\n\n\n\n 
URL:https://linkchurch.org/event/sunday-morning-worship-service-1st-service-4/2024-12-01/
LOCATION:The Link Church\, 1714 Saamis Dr NW\, Medicine Hat\, Alberta\, T1C1W7\, Canada
CATEGORIES:Worship Services
ATTACH;FMTTYPE=image/png:https://linkchurch.org/wordpress/wp-content/uploads/2024/08/this-sunday.png
END:VEVENT
BEGIN:VEVENT
DTSTART;TZID=America/Edmonton:20241128T121500
DTEND;TZID=America/Edmonton:20241128T130000
DTSTAMP:20260425T164814
CREATED:20240502T185735Z
LAST-MODIFIED:20241015T175449Z
UID:10002603-1732796100-1732798800@linkchurch.org
SUMMARY:Prayer Group
DESCRIPTION:Everyone is welcome to join us for a time of prayer as we pray for our church\, our city and our country.  We meet in the Prayer Room at the back of the sanctuary
URL:https://linkchurch.org/event/prayer-group-8/2024-11-28/
LOCATION:The Link Church\, 1714 Saamis Dr NW\, Medicine Hat\, Alberta\, T1C1W7\, Canada
CATEGORIES:Prayer
ATTACH;FMTTYPE=image/png:https://linkchurch.org/wordpress/wp-content/uploads/2023/01/Prayer-1.png
END:VEVENT
BEGIN:VEVENT
DTSTART;TZID=America/Edmonton:20241127T190000
DTEND;TZID=America/Edmonton:20241127T213000
DTSTAMP:20260425T164814
CREATED:20240903T172718Z
LAST-MODIFIED:20240903T172718Z
UID:10002236-1732734000-1732743000@linkchurch.org
SUMMARY:Youth Bible Study
DESCRIPTION:Bible study/games/worship/small groups.  Youth is for grades 7-12\, For more info contact Pastor Josh at josh@linkchurch.org.  Make sure you are following the youth social media pages for more info and for any last-minute changes
URL:https://linkchurch.org/event/youth-bible-study-26/2024-11-27/
LOCATION:The Link Church\, 1714 Saamis Dr NW\, Medicine Hat\, Alberta\, T1C1W7\, Canada
CATEGORIES:Link Youth
ATTACH;FMTTYPE=image/png:https://linkchurch.org/wordpress/wp-content/uploads/2021/06/2021-06-22-11-38-46_1511.png
END:VEVENT
BEGIN:VEVENT
DTSTART;TZID=America/Edmonton:20241127T090000
DTEND;TZID=America/Edmonton:20241127T120000
DTSTAMP:20260425T164814
CREATED:20241126T183149Z
LAST-MODIFIED:20241126T183149Z
UID:10002668-1732698000-1732708800@linkchurch.org
SUMMARY:Christmas Decorating
DESCRIPTION:If you like Christmas decorating\, we welcome you to come and join us as we get the Link all decorated for Christmas!
URL:https://linkchurch.org/event/christmas-decorating/
LOCATION:The Link Church\, 1714 Saamis Dr NW\, Medicine Hat\, Alberta\, T1C1W7\, Canada
CATEGORIES:Special Events
ATTACH;FMTTYPE=image/png:https://linkchurch.org/wordpress/wp-content/uploads/2024/11/Decorating.png
END:VEVENT
BEGIN:VEVENT
DTSTART;TZID=America/Edmonton:20241126T190000
DTEND;TZID=America/Edmonton:20241126T213000
DTSTAMP:20260425T164814
CREATED:20240806T195354Z
LAST-MODIFIED:20241126T193652Z
UID:10002678-1732647600-1732656600@linkchurch.org
SUMMARY:Young Adults Group
DESCRIPTION:Tuesday night Young Adults Connect group.  80 Spruce Close. \nIf you are between the ages of 18-30ish you are welcome to join us!
URL:https://linkchurch.org/event/young-adults-group-12/2024-11-26/
LOCATION:Alberta
CATEGORIES:Young Adults
ATTACH;FMTTYPE=image/png:https://linkchurch.org/wordpress/wp-content/uploads/2024/08/Young-Adults-2.png
END:VEVENT
BEGIN:VEVENT
DTSTART;TZID=America/Edmonton:20241126T183000
DTEND;TZID=America/Edmonton:20241126T203000
DTSTAMP:20260425T164814
CREATED:20241126T183533Z
LAST-MODIFIED:20241126T183533Z
UID:10002670-1732645800-1732653000@linkchurch.org
SUMMARY:Women's Ministry Evening Study
DESCRIPTION:“The Marvel and Miracle of Advent”\nThe study will run every Tuesday evening from 6:30pm-8:30pm for 4 weeks.\n-We will watch a video together as a large group and then break off into small groups for discussion and prayer time \n-A study guide is needed to participate\n-There is no childcare for this study\nPlease sign up for the study on the church app or contact rhonda@linkchurch.org if you have any questions
URL:https://linkchurch.org/event/womens-ministry-evening-study-18/2024-11-26/
LOCATION:The Link Church\, 1714 Saamis Dr NW\, Medicine Hat\, Alberta\, T1C1W7\, Canada
CATEGORIES:Womens Ministry
ATTACH;FMTTYPE=image/jpeg:https://linkchurch.org/wordpress/wp-content/uploads/2024/11/download.jpg
END:VEVENT
END:VCALENDAR