BEGIN:VCALENDAR
VERSION:2.0
PRODID:-//The Link Christian Fellowship - ECPv6.15.20//NONSGML v1.0//EN
CALSCALE:GREGORIAN
METHOD:PUBLISH
X-WR-CALNAME:The Link Christian Fellowship
X-ORIGINAL-URL:https://linkchurch.org
X-WR-CALDESC:Events for The Link Christian Fellowship
REFRESH-INTERVAL;VALUE=DURATION:PT1H
X-Robots-Tag:noindex
X-PUBLISHED-TTL:PT1H
BEGIN:VTIMEZONE
TZID:America/Edmonton
BEGIN:DAYLIGHT
TZOFFSETFROM:-0700
TZOFFSETTO:-0600
TZNAME:MDT
DTSTART:20230312T090000
END:DAYLIGHT
BEGIN:STANDARD
TZOFFSETFROM:-0600
TZOFFSETTO:-0700
TZNAME:MST
DTSTART:20231105T080000
END:STANDARD
BEGIN:DAYLIGHT
TZOFFSETFROM:-0700
TZOFFSETTO:-0600
TZNAME:MDT
DTSTART:20240310T090000
END:DAYLIGHT
BEGIN:STANDARD
TZOFFSETFROM:-0600
TZOFFSETTO:-0700
TZNAME:MST
DTSTART:20241103T080000
END:STANDARD
BEGIN:DAYLIGHT
TZOFFSETFROM:-0700
TZOFFSETTO:-0600
TZNAME:MDT
DTSTART:20250309T090000
END:DAYLIGHT
BEGIN:STANDARD
TZOFFSETFROM:-0600
TZOFFSETTO:-0700
TZNAME:MST
DTSTART:20251102T080000
END:STANDARD
END:VTIMEZONE
BEGIN:VEVENT
DTSTART;TZID=America/Edmonton:20241201T090000
DTEND;TZID=America/Edmonton:20241201T103000
DTSTAMP:20260425T194133
CREATED:20240806T204537Z
LAST-MODIFIED:20241015T173243Z
UID:10002588-1733043600-1733049000@linkchurch.org
SUMMARY:Sunday Morning Worship - 1st Service
DESCRIPTION:Come and join us for our Sunday Morning worship service at 9:00AM every Sunday. \nLive stream is also available for the 9:00 AM service: http://www.facebook.com/linkchurchmedhat/live/ \nWe are located at 1714 Saamis Dr NW.  Please contact info@linkchurch.org if you have any questions \n\n\n\n\n 
URL:https://linkchurch.org/event/sunday-morning-worship-service-1st-service-4/2024-12-01/
LOCATION:The Link Church\, 1714 Saamis Dr NW\, Medicine Hat\, Alberta\, T1C1W7\, Canada
CATEGORIES:Worship Services
ATTACH;FMTTYPE=image/png:https://linkchurch.org/wordpress/wp-content/uploads/2024/08/this-sunday.png
END:VEVENT
BEGIN:VEVENT
DTSTART;TZID=America/Edmonton:20241128T121500
DTEND;TZID=America/Edmonton:20241128T130000
DTSTAMP:20260425T194133
CREATED:20240502T185735Z
LAST-MODIFIED:20241015T175449Z
UID:10002603-1732796100-1732798800@linkchurch.org
SUMMARY:Prayer Group
DESCRIPTION:Everyone is welcome to join us for a time of prayer as we pray for our church\, our city and our country.  We meet in the Prayer Room at the back of the sanctuary
URL:https://linkchurch.org/event/prayer-group-8/2024-11-28/
LOCATION:The Link Church\, 1714 Saamis Dr NW\, Medicine Hat\, Alberta\, T1C1W7\, Canada
CATEGORIES:Prayer
ATTACH;FMTTYPE=image/png:https://linkchurch.org/wordpress/wp-content/uploads/2023/01/Prayer-1.png
END:VEVENT
BEGIN:VEVENT
DTSTART;TZID=America/Edmonton:20241127T190000
DTEND;TZID=America/Edmonton:20241127T213000
DTSTAMP:20260425T194133
CREATED:20240903T172718Z
LAST-MODIFIED:20240903T172718Z
UID:10002236-1732734000-1732743000@linkchurch.org
SUMMARY:Youth Bible Study
DESCRIPTION:Bible study/games/worship/small groups.  Youth is for grades 7-12\, For more info contact Pastor Josh at josh@linkchurch.org.  Make sure you are following the youth social media pages for more info and for any last-minute changes
URL:https://linkchurch.org/event/youth-bible-study-26/2024-11-27/
LOCATION:The Link Church\, 1714 Saamis Dr NW\, Medicine Hat\, Alberta\, T1C1W7\, Canada
CATEGORIES:Link Youth
ATTACH;FMTTYPE=image/png:https://linkchurch.org/wordpress/wp-content/uploads/2021/06/2021-06-22-11-38-46_1511.png
END:VEVENT
BEGIN:VEVENT
DTSTART;TZID=America/Edmonton:20241127T090000
DTEND;TZID=America/Edmonton:20241127T120000
DTSTAMP:20260425T194133
CREATED:20241126T183149Z
LAST-MODIFIED:20241126T183149Z
UID:10002668-1732698000-1732708800@linkchurch.org
SUMMARY:Christmas Decorating
DESCRIPTION:If you like Christmas decorating\, we welcome you to come and join us as we get the Link all decorated for Christmas!
URL:https://linkchurch.org/event/christmas-decorating/
LOCATION:The Link Church\, 1714 Saamis Dr NW\, Medicine Hat\, Alberta\, T1C1W7\, Canada
CATEGORIES:Special Events
ATTACH;FMTTYPE=image/png:https://linkchurch.org/wordpress/wp-content/uploads/2024/11/Decorating.png
END:VEVENT
BEGIN:VEVENT
DTSTART;TZID=America/Edmonton:20241126T190000
DTEND;TZID=America/Edmonton:20241126T213000
DTSTAMP:20260425T194133
CREATED:20240806T195354Z
LAST-MODIFIED:20241126T193652Z
UID:10002678-1732647600-1732656600@linkchurch.org
SUMMARY:Young Adults Group
DESCRIPTION:Tuesday night Young Adults Connect group.  80 Spruce Close. \nIf you are between the ages of 18-30ish you are welcome to join us!
URL:https://linkchurch.org/event/young-adults-group-12/2024-11-26/
LOCATION:Alberta
CATEGORIES:Young Adults
ATTACH;FMTTYPE=image/png:https://linkchurch.org/wordpress/wp-content/uploads/2024/08/Young-Adults-2.png
END:VEVENT
BEGIN:VEVENT
DTSTART;TZID=America/Edmonton:20241126T183000
DTEND;TZID=America/Edmonton:20241126T203000
DTSTAMP:20260425T194133
CREATED:20241126T183533Z
LAST-MODIFIED:20241126T183533Z
UID:10002670-1732645800-1732653000@linkchurch.org
SUMMARY:Women's Ministry Evening Study
DESCRIPTION:“The Marvel and Miracle of Advent”\nThe study will run every Tuesday evening from 6:30pm-8:30pm for 4 weeks.\n-We will watch a video together as a large group and then break off into small groups for discussion and prayer time \n-A study guide is needed to participate\n-There is no childcare for this study\nPlease sign up for the study on the church app or contact rhonda@linkchurch.org if you have any questions
URL:https://linkchurch.org/event/womens-ministry-evening-study-18/2024-11-26/
LOCATION:The Link Church\, 1714 Saamis Dr NW\, Medicine Hat\, Alberta\, T1C1W7\, Canada
CATEGORIES:Womens Ministry
ATTACH;FMTTYPE=image/jpeg:https://linkchurch.org/wordpress/wp-content/uploads/2024/11/download.jpg
END:VEVENT
BEGIN:VEVENT
DTSTART;TZID=America/Edmonton:20241126T183000
DTEND;TZID=America/Edmonton:20241126T200000
DTSTAMP:20260425T194133
CREATED:20240815T202904Z
LAST-MODIFIED:20240815T202904Z
UID:10002199-1732645800-1732651200@linkchurch.org
SUMMARY:End Of This Age: Beginning Of The Next: Revelation Study
DESCRIPTION:Have you ever wanted to take a class on Revelation? Have you ever wondered about the beautiful Throne of God from Revelation 4 & 5? The Throne that the angels and creatures surround when they worship the King of kings? When we worship at The Link on our Sunday mornings\, this is that King\, sitting on that Throne\, and we corporately worship Him! This is the King that we raise our arms to\, pray\, and bow our knee to!\n\nOr\, what’s behind these seals\, trumpets and bowls that is part of God’s plan? What’s their significance\, and why are they necessary? \n\nWhat about Heaven\, or the Return of Jesus\, the Millenium\, the New Heaven\, the New Earth\, and the New Jerusalem? These are all topics we cover and learn what the Bible has to say about them. \n\nRevelation is about His heart\, and our heart. It’s about Jesus Christ\, the “man” behind the “plan”. It’s about the deepest of lengths He will go for that one\, last\, lost sheep. \n\nHe’s Holy\, loving\, righteous\, and tremendously merciful. He’s also the Bridegroom\, Judge and King. \n\nCome\, find out what all this means. Revelation can be understood. \n\nScriptures      Matthew 24 & 25\, Daniel 7-12\, Revelation 1-22\, Malachi\, Habakkuk and other Old Testament Scripture \nGroup is lead by Roger and Lynne Sabourin
URL:https://linkchurch.org/event/end-of-this-age-beginning-of-the-next-revelation-study/2024-11-26/
LOCATION:The Link Church\, 1714 Saamis Dr NW\, Medicine Hat\, Alberta\, T1C1W7\, Canada
CATEGORIES:Bible Studies
ATTACH;FMTTYPE=image/jpeg:https://linkchurch.org/wordpress/wp-content/uploads/2024/08/transform.jpeg
END:VEVENT
BEGIN:VEVENT
DTSTART;TZID=America/Edmonton:20241126T183000
DTEND;TZID=America/Edmonton:20241126T200000
DTSTAMP:20260425T194133
CREATED:20240815T202314Z
LAST-MODIFIED:20241126T195426Z
UID:10002184-1732645800-1732651200@linkchurch.org
SUMMARY:Come With Me Through Revelation
DESCRIPTION:“Come with me through Revelation“ a 15 week study \nOpinions about the book of Revelation vary from very high to very low. Attitudes vary from fearful to indifferent. Yet God has such a high view of it that it is the only book in the Bible about which He pronounces: “Blessed is the one who reads aloud the words of this prophecy\, and blessed are those who hear it and take to heart what is written in it\, because the time is near.” (Rev 1:3).  God also warns\, “And if anyone takes words away from this scroll of prophecy\, God will take away from that person any share in the tree of life and in the Holy City\, which are described in this scroll.” (Rev 22:19). \nThe study of the end times is not about charts and graphs. It is a message of encouragement and warning. How will you prepare for the coming shaking that will remove everything that hinders love (Hag 2:6-7)? \nJoin us on a 15 week discovery as we draw back the curtains on what is happening behind the scenes\, and Who is ultimately in control during this birthing process of the new and glorious age. \nIt will stir your faith as you encounter Jesus – reigning as King of kings and Lord of lords. It will anchor your hope with this assurance: the story of God’s redemption draws human history to a happy conclusion. It will cause love to explode in your heart as you understand the lengths to which God will go so that we can dwell again with him\, face-to-face\, in a paradise-like city\, the New Jerusalem. \nBased on David Pawson’s book “Come with me through Revelation“ \nPlease Sign up on the Church App
URL:https://linkchurch.org/event/5154/2024-11-26/
LOCATION:The Link Church\, 1714 Saamis Dr NW\, Medicine Hat\, Alberta\, T1C1W7\, Canada
CATEGORIES:Bible Studies
ATTACH;FMTTYPE=image/png:https://linkchurch.org/wordpress/wp-content/uploads/2024/08/Untitled-design-11.png
END:VEVENT
BEGIN:VEVENT
DTSTART;TZID=America/Edmonton:20241126T093000
DTEND;TZID=America/Edmonton:20241126T113000
DTSTAMP:20260425T194133
CREATED:20241126T194743Z
LAST-MODIFIED:20241126T194844Z
UID:10002682-1732613400-1732620600@linkchurch.org
SUMMARY:Women's Ministry Morning Study
DESCRIPTION:The Tuesday morning group is studying “The 5 Love Languages” \nAll Women are welcome to attend! \nChildcare is provided. \nPlease sign up on the Church App.
URL:https://linkchurch.org/event/womens-ministry-morning-study-17-2/2024-11-26/
LOCATION:The Link Church\, 1714 Saamis Dr NW\, Medicine Hat\, Alberta\, T1C1W7\, Canada
CATEGORIES:Womens Ministry
ATTACH;FMTTYPE=image/png:https://linkchurch.org/wordpress/wp-content/uploads/2024/08/5-Love-Languages.png
END:VEVENT
BEGIN:VEVENT
DTSTART;TZID=America/Edmonton:20241126T060000
DTEND;TZID=America/Edmonton:20241126T070000
DTSTAMP:20260425T194133
CREATED:20240903T172412Z
LAST-MODIFIED:20240905T164135Z
UID:10002224-1732600800-1732604400@linkchurch.org
SUMMARY:The Way Mentoring Group
DESCRIPTION:This is open for anyone who would like to join! For more info please contact mike@linkchurch.org
URL:https://linkchurch.org/event/the-way-mentoring-group-17/2024-11-26/
LOCATION:The Link Church\, 1714 Saamis Dr NW\, Medicine Hat\, Alberta\, T1C1W7\, Canada
CATEGORIES:Bible Studies
ATTACH;FMTTYPE=image/png:https://linkchurch.org/wordpress/wp-content/uploads/2023/08/Untitled-design-8.png
END:VEVENT
BEGIN:VEVENT
DTSTART;TZID=America/Edmonton:20241125T190000
DTEND;TZID=America/Edmonton:20241125T210000
DTSTAMP:20260425T194133
CREATED:20240918T161957Z
LAST-MODIFIED:20240918T161957Z
UID:10002320-1732561200-1732568400@linkchurch.org
SUMMARY:Men's Group
DESCRIPTION:This group is open to all men wherever you are at with your relationship with the Lord. \n\nContact Clark Kurpjuweit (403) 581-8972\, clarkrenate@gmail.com \nor Pastor Rick Aupperle (403) 700-7140\, rick@linkchurch.org for more information
URL:https://linkchurch.org/event/mens-group/2024-11-25/
LOCATION:The Link Church\, 1714 Saamis Dr NW\, Medicine Hat\, Alberta\, T1C1W7\, Canada
CATEGORIES:Men's Ministry
END:VEVENT
BEGIN:VEVENT
DTSTART;TZID=America/Edmonton:20241124T123000
DTEND;TZID=America/Edmonton:20241124T133000
DTSTAMP:20260425T194133
CREATED:20241009T163009Z
LAST-MODIFIED:20241015T172639Z
UID:10002579-1732451400-1732455000@linkchurch.org
SUMMARY:Link AGM
DESCRIPTION:We will be holding our Annual General Meeting after the second service today.  Everyone is welcome to attend
URL:https://linkchurch.org/event/link-agm-3/
LOCATION:The Link Church\, 1714 Saamis Dr NW\, Medicine Hat\, Alberta\, T1C1W7\, Canada
CATEGORIES:Special Events
ATTACH;FMTTYPE=image/png:https://linkchurch.org/wordpress/wp-content/uploads/2024/10/Add-a-subheading-3.png
END:VEVENT
BEGIN:VEVENT
DTSTART;TZID=America/Edmonton:20241124T110000
DTEND;TZID=America/Edmonton:20241124T123000
DTSTAMP:20260425T194133
CREATED:20240806T204813Z
LAST-MODIFIED:20241015T172932Z
UID:10002142-1732446000-1732451400@linkchurch.org
SUMMARY:Sunday Morning Worship - 2nd Service
DESCRIPTION:Come and join us for our Sunday Morning worship service at 11:00 AM every Sunday. \nThere is no Livestream for the 11:00 AM service \nWe are located at 1714 Saamis Dr NW.  Please contact info@linkchurch.org if you have any questions
URL:https://linkchurch.org/event/sunday-morning-worship-2nd-service-2/2024-11-24/
LOCATION:The Link Church\, 1714 Saamis Dr NW\, Medicine Hat\, Alberta\, T1C1W7\, Canada
CATEGORIES:Worship Services
ATTACH;FMTTYPE=image/png:https://linkchurch.org/wordpress/wp-content/uploads/2024/08/this-sunday-copy.png
END:VEVENT
BEGIN:VEVENT
DTSTART;TZID=America/Edmonton:20241124T090000
DTEND;TZID=America/Edmonton:20241124T103000
DTSTAMP:20260425T194133
CREATED:20241015T175228Z
LAST-MODIFIED:20241015T175228Z
UID:10002597-1732438800-1732444200@linkchurch.org
SUMMARY:Alpha Course
DESCRIPTION:The Alpha Course is a series of sessions exploring the basics of Christianity through discussions and videos \nSome of the topics include; Is there more to life than this?\, Who is Jesus?\, How Do I Pray?\, How does God guide us?\, Does God heal today? \nAlpha will run at the Link at the 9:00 AM service. All are welcome to attend.
URL:https://linkchurch.org/event/alpha-course/2024-11-24/
LOCATION:The Link Church\, 1714 Saamis Dr NW\, Medicine Hat\, Alberta\, T1C1W7\, Canada
CATEGORIES:Bible Studies
ATTACH;FMTTYPE=image/png:https://linkchurch.org/wordpress/wp-content/uploads/2024/10/Untitled-design-12.png
END:VEVENT
BEGIN:VEVENT
DTSTART;TZID=America/Edmonton:20241124T090000
DTEND;TZID=America/Edmonton:20241124T103000
DTSTAMP:20260425T194133
CREATED:20240806T204537Z
LAST-MODIFIED:20241015T173243Z
UID:10002131-1732438800-1732444200@linkchurch.org
SUMMARY:Sunday Morning Worship - 1st Service
DESCRIPTION:Come and join us for our Sunday Morning worship service at 9:00AM every Sunday. \nLive stream is also available for the 9:00 AM service: http://www.facebook.com/linkchurchmedhat/live/ \nWe are located at 1714 Saamis Dr NW.  Please contact info@linkchurch.org if you have any questions \n\n\n\n\n 
URL:https://linkchurch.org/event/sunday-morning-worship-service-1st-service-4/2024-11-24/
LOCATION:The Link Church\, 1714 Saamis Dr NW\, Medicine Hat\, Alberta\, T1C1W7\, Canada
CATEGORIES:Worship Services
ATTACH;FMTTYPE=image/png:https://linkchurch.org/wordpress/wp-content/uploads/2024/08/this-sunday.png
END:VEVENT
BEGIN:VEVENT
DTSTART;TZID=America/Edmonton:20241121T121500
DTEND;TZID=America/Edmonton:20241121T130000
DTSTAMP:20260425T194133
CREATED:20240502T185735Z
LAST-MODIFIED:20241015T175449Z
UID:10002602-1732191300-1732194000@linkchurch.org
SUMMARY:Prayer Group
DESCRIPTION:Everyone is welcome to join us for a time of prayer as we pray for our church\, our city and our country.  We meet in the Prayer Room at the back of the sanctuary
URL:https://linkchurch.org/event/prayer-group-8/2024-11-21/
LOCATION:The Link Church\, 1714 Saamis Dr NW\, Medicine Hat\, Alberta\, T1C1W7\, Canada
CATEGORIES:Prayer
ATTACH;FMTTYPE=image/png:https://linkchurch.org/wordpress/wp-content/uploads/2023/01/Prayer-1.png
END:VEVENT
BEGIN:VEVENT
DTSTART;TZID=America/Edmonton:20241120T190000
DTEND;TZID=America/Edmonton:20241120T213000
DTSTAMP:20260425T194133
CREATED:20240903T172718Z
LAST-MODIFIED:20240903T172718Z
UID:10002235-1732129200-1732138200@linkchurch.org
SUMMARY:Youth Bible Study
DESCRIPTION:Bible study/games/worship/small groups.  Youth is for grades 7-12\, For more info contact Pastor Josh at josh@linkchurch.org.  Make sure you are following the youth social media pages for more info and for any last-minute changes
URL:https://linkchurch.org/event/youth-bible-study-26/2024-11-20/
LOCATION:The Link Church\, 1714 Saamis Dr NW\, Medicine Hat\, Alberta\, T1C1W7\, Canada
CATEGORIES:Link Youth
ATTACH;FMTTYPE=image/png:https://linkchurch.org/wordpress/wp-content/uploads/2021/06/2021-06-22-11-38-46_1511.png
END:VEVENT
BEGIN:VEVENT
DTSTART;TZID=America/Edmonton:20241119T190000
DTEND;TZID=America/Edmonton:20241119T213000
DTSTAMP:20260425T194133
CREATED:20240806T195354Z
LAST-MODIFIED:20241126T193652Z
UID:10002677-1732042800-1732051800@linkchurch.org
SUMMARY:Young Adults Group
DESCRIPTION:Tuesday night Young Adults Connect group.  80 Spruce Close. \nIf you are between the ages of 18-30ish you are welcome to join us!
URL:https://linkchurch.org/event/young-adults-group-12/2024-11-19/
LOCATION:Alberta
CATEGORIES:Young Adults
ATTACH;FMTTYPE=image/png:https://linkchurch.org/wordpress/wp-content/uploads/2024/08/Young-Adults-2.png
END:VEVENT
BEGIN:VEVENT
DTSTART;TZID=America/Edmonton:20241119T183000
DTEND;TZID=America/Edmonton:20241119T203000
DTSTAMP:20260425T194133
CREATED:20241126T183533Z
LAST-MODIFIED:20241126T183533Z
UID:10002669-1732041000-1732048200@linkchurch.org
SUMMARY:Women's Ministry Evening Study
DESCRIPTION:“The Marvel and Miracle of Advent”\nThe study will run every Tuesday evening from 6:30pm-8:30pm for 4 weeks.\n-We will watch a video together as a large group and then break off into small groups for discussion and prayer time \n-A study guide is needed to participate\n-There is no childcare for this study\nPlease sign up for the study on the church app or contact rhonda@linkchurch.org if you have any questions
URL:https://linkchurch.org/event/womens-ministry-evening-study-18/2024-11-19/
LOCATION:The Link Church\, 1714 Saamis Dr NW\, Medicine Hat\, Alberta\, T1C1W7\, Canada
CATEGORIES:Womens Ministry
ATTACH;FMTTYPE=image/jpeg:https://linkchurch.org/wordpress/wp-content/uploads/2024/11/download.jpg
END:VEVENT
BEGIN:VEVENT
DTSTART;TZID=America/Edmonton:20241119T183000
DTEND;TZID=America/Edmonton:20241119T200000
DTSTAMP:20260425T194133
CREATED:20240815T202904Z
LAST-MODIFIED:20240815T202904Z
UID:10002198-1732041000-1732046400@linkchurch.org
SUMMARY:End Of This Age: Beginning Of The Next: Revelation Study
DESCRIPTION:Have you ever wanted to take a class on Revelation? Have you ever wondered about the beautiful Throne of God from Revelation 4 & 5? The Throne that the angels and creatures surround when they worship the King of kings? When we worship at The Link on our Sunday mornings\, this is that King\, sitting on that Throne\, and we corporately worship Him! This is the King that we raise our arms to\, pray\, and bow our knee to!\n\nOr\, what’s behind these seals\, trumpets and bowls that is part of God’s plan? What’s their significance\, and why are they necessary? \n\nWhat about Heaven\, or the Return of Jesus\, the Millenium\, the New Heaven\, the New Earth\, and the New Jerusalem? These are all topics we cover and learn what the Bible has to say about them. \n\nRevelation is about His heart\, and our heart. It’s about Jesus Christ\, the “man” behind the “plan”. It’s about the deepest of lengths He will go for that one\, last\, lost sheep. \n\nHe’s Holy\, loving\, righteous\, and tremendously merciful. He’s also the Bridegroom\, Judge and King. \n\nCome\, find out what all this means. Revelation can be understood. \n\nScriptures      Matthew 24 & 25\, Daniel 7-12\, Revelation 1-22\, Malachi\, Habakkuk and other Old Testament Scripture \nGroup is lead by Roger and Lynne Sabourin
URL:https://linkchurch.org/event/end-of-this-age-beginning-of-the-next-revelation-study/2024-11-19/
LOCATION:The Link Church\, 1714 Saamis Dr NW\, Medicine Hat\, Alberta\, T1C1W7\, Canada
CATEGORIES:Bible Studies
ATTACH;FMTTYPE=image/jpeg:https://linkchurch.org/wordpress/wp-content/uploads/2024/08/transform.jpeg
END:VEVENT
BEGIN:VEVENT
DTSTART;TZID=America/Edmonton:20241119T183000
DTEND;TZID=America/Edmonton:20241119T200000
DTSTAMP:20260425T194133
CREATED:20240815T202314Z
LAST-MODIFIED:20241126T195426Z
UID:10002183-1732041000-1732046400@linkchurch.org
SUMMARY:Come With Me Through Revelation
DESCRIPTION:“Come with me through Revelation“ a 15 week study \nOpinions about the book of Revelation vary from very high to very low. Attitudes vary from fearful to indifferent. Yet God has such a high view of it that it is the only book in the Bible about which He pronounces: “Blessed is the one who reads aloud the words of this prophecy\, and blessed are those who hear it and take to heart what is written in it\, because the time is near.” (Rev 1:3).  God also warns\, “And if anyone takes words away from this scroll of prophecy\, God will take away from that person any share in the tree of life and in the Holy City\, which are described in this scroll.” (Rev 22:19). \nThe study of the end times is not about charts and graphs. It is a message of encouragement and warning. How will you prepare for the coming shaking that will remove everything that hinders love (Hag 2:6-7)? \nJoin us on a 15 week discovery as we draw back the curtains on what is happening behind the scenes\, and Who is ultimately in control during this birthing process of the new and glorious age. \nIt will stir your faith as you encounter Jesus – reigning as King of kings and Lord of lords. It will anchor your hope with this assurance: the story of God’s redemption draws human history to a happy conclusion. It will cause love to explode in your heart as you understand the lengths to which God will go so that we can dwell again with him\, face-to-face\, in a paradise-like city\, the New Jerusalem. \nBased on David Pawson’s book “Come with me through Revelation“ \nPlease Sign up on the Church App
URL:https://linkchurch.org/event/5154/2024-11-19/
LOCATION:The Link Church\, 1714 Saamis Dr NW\, Medicine Hat\, Alberta\, T1C1W7\, Canada
CATEGORIES:Bible Studies
ATTACH;FMTTYPE=image/png:https://linkchurch.org/wordpress/wp-content/uploads/2024/08/Untitled-design-11.png
END:VEVENT
BEGIN:VEVENT
DTSTART;TZID=America/Edmonton:20241119T093000
DTEND;TZID=America/Edmonton:20241119T113000
DTSTAMP:20260425T194133
CREATED:20241126T194743Z
LAST-MODIFIED:20241126T194844Z
UID:10002171-1732008600-1732015800@linkchurch.org
SUMMARY:Women's Ministry Morning Study
DESCRIPTION:The Tuesday morning group is studying “The 5 Love Languages” \nAll Women are welcome to attend! \nChildcare is provided. \nPlease sign up on the Church App.
URL:https://linkchurch.org/event/womens-ministry-morning-study-17-2/2024-11-19/
LOCATION:The Link Church\, 1714 Saamis Dr NW\, Medicine Hat\, Alberta\, T1C1W7\, Canada
CATEGORIES:Womens Ministry
ATTACH;FMTTYPE=image/png:https://linkchurch.org/wordpress/wp-content/uploads/2024/08/5-Love-Languages.png
END:VEVENT
BEGIN:VEVENT
DTSTART;TZID=America/Edmonton:20241119T060000
DTEND;TZID=America/Edmonton:20241119T070000
DTSTAMP:20260425T194133
CREATED:20240903T172412Z
LAST-MODIFIED:20240905T164135Z
UID:10002223-1731996000-1731999600@linkchurch.org
SUMMARY:The Way Mentoring Group
DESCRIPTION:This is open for anyone who would like to join! For more info please contact mike@linkchurch.org
URL:https://linkchurch.org/event/the-way-mentoring-group-17/2024-11-19/
LOCATION:The Link Church\, 1714 Saamis Dr NW\, Medicine Hat\, Alberta\, T1C1W7\, Canada
CATEGORIES:Bible Studies
ATTACH;FMTTYPE=image/png:https://linkchurch.org/wordpress/wp-content/uploads/2023/08/Untitled-design-8.png
END:VEVENT
BEGIN:VEVENT
DTSTART;TZID=America/Edmonton:20241118T190000
DTEND;TZID=America/Edmonton:20241118T210000
DTSTAMP:20260425T194133
CREATED:20240918T161957Z
LAST-MODIFIED:20240918T161957Z
UID:10002319-1731956400-1731963600@linkchurch.org
SUMMARY:Men's Group
DESCRIPTION:This group is open to all men wherever you are at with your relationship with the Lord. \n\nContact Clark Kurpjuweit (403) 581-8972\, clarkrenate@gmail.com \nor Pastor Rick Aupperle (403) 700-7140\, rick@linkchurch.org for more information
URL:https://linkchurch.org/event/mens-group/2024-11-18/
LOCATION:The Link Church\, 1714 Saamis Dr NW\, Medicine Hat\, Alberta\, T1C1W7\, Canada
CATEGORIES:Men's Ministry
END:VEVENT
BEGIN:VEVENT
DTSTART;TZID=America/Edmonton:20241117T110000
DTEND;TZID=America/Edmonton:20241117T123000
DTSTAMP:20260425T194133
CREATED:20240806T204813Z
LAST-MODIFIED:20241015T172932Z
UID:10002141-1731841200-1731846600@linkchurch.org
SUMMARY:Sunday Morning Worship - 2nd Service
DESCRIPTION:Come and join us for our Sunday Morning worship service at 11:00 AM every Sunday. \nThere is no Livestream for the 11:00 AM service \nWe are located at 1714 Saamis Dr NW.  Please contact info@linkchurch.org if you have any questions
URL:https://linkchurch.org/event/sunday-morning-worship-2nd-service-2/2024-11-17/
LOCATION:The Link Church\, 1714 Saamis Dr NW\, Medicine Hat\, Alberta\, T1C1W7\, Canada
CATEGORIES:Worship Services
ATTACH;FMTTYPE=image/png:https://linkchurch.org/wordpress/wp-content/uploads/2024/08/this-sunday-copy.png
END:VEVENT
BEGIN:VEVENT
DTSTART;TZID=America/Edmonton:20241117T090000
DTEND;TZID=America/Edmonton:20241117T103000
DTSTAMP:20260425T194133
CREATED:20241015T175228Z
LAST-MODIFIED:20241015T175228Z
UID:10002596-1731834000-1731839400@linkchurch.org
SUMMARY:Alpha Course
DESCRIPTION:The Alpha Course is a series of sessions exploring the basics of Christianity through discussions and videos \nSome of the topics include; Is there more to life than this?\, Who is Jesus?\, How Do I Pray?\, How does God guide us?\, Does God heal today? \nAlpha will run at the Link at the 9:00 AM service. All are welcome to attend.
URL:https://linkchurch.org/event/alpha-course/2024-11-17/
LOCATION:The Link Church\, 1714 Saamis Dr NW\, Medicine Hat\, Alberta\, T1C1W7\, Canada
CATEGORIES:Bible Studies
ATTACH;FMTTYPE=image/png:https://linkchurch.org/wordpress/wp-content/uploads/2024/10/Untitled-design-12.png
END:VEVENT
BEGIN:VEVENT
DTSTART;TZID=America/Edmonton:20241117T090000
DTEND;TZID=America/Edmonton:20241117T103000
DTSTAMP:20260425T194133
CREATED:20240806T204537Z
LAST-MODIFIED:20241015T173243Z
UID:10002130-1731834000-1731839400@linkchurch.org
SUMMARY:Sunday Morning Worship - 1st Service
DESCRIPTION:Come and join us for our Sunday Morning worship service at 9:00AM every Sunday. \nLive stream is also available for the 9:00 AM service: http://www.facebook.com/linkchurchmedhat/live/ \nWe are located at 1714 Saamis Dr NW.  Please contact info@linkchurch.org if you have any questions \n\n\n\n\n 
URL:https://linkchurch.org/event/sunday-morning-worship-service-1st-service-4/2024-11-17/
LOCATION:The Link Church\, 1714 Saamis Dr NW\, Medicine Hat\, Alberta\, T1C1W7\, Canada
CATEGORIES:Worship Services
ATTACH;FMTTYPE=image/png:https://linkchurch.org/wordpress/wp-content/uploads/2024/08/this-sunday.png
END:VEVENT
BEGIN:VEVENT
DTSTART;TZID=America/Edmonton:20241114T121500
DTEND;TZID=America/Edmonton:20241114T130000
DTSTAMP:20260425T194133
CREATED:20240502T185735Z
LAST-MODIFIED:20241015T175449Z
UID:10002601-1731586500-1731589200@linkchurch.org
SUMMARY:Prayer Group
DESCRIPTION:Everyone is welcome to join us for a time of prayer as we pray for our church\, our city and our country.  We meet in the Prayer Room at the back of the sanctuary
URL:https://linkchurch.org/event/prayer-group-8/2024-11-14/
LOCATION:The Link Church\, 1714 Saamis Dr NW\, Medicine Hat\, Alberta\, T1C1W7\, Canada
CATEGORIES:Prayer
ATTACH;FMTTYPE=image/png:https://linkchurch.org/wordpress/wp-content/uploads/2023/01/Prayer-1.png
END:VEVENT
BEGIN:VEVENT
DTSTART;TZID=America/Edmonton:20241113T190000
DTEND;TZID=America/Edmonton:20241113T213000
DTSTAMP:20260425T194133
CREATED:20240903T172718Z
LAST-MODIFIED:20240903T172718Z
UID:10002234-1731524400-1731533400@linkchurch.org
SUMMARY:Youth Bible Study
DESCRIPTION:Bible study/games/worship/small groups.  Youth is for grades 7-12\, For more info contact Pastor Josh at josh@linkchurch.org.  Make sure you are following the youth social media pages for more info and for any last-minute changes
URL:https://linkchurch.org/event/youth-bible-study-26/2024-11-13/
LOCATION:The Link Church\, 1714 Saamis Dr NW\, Medicine Hat\, Alberta\, T1C1W7\, Canada
CATEGORIES:Link Youth
ATTACH;FMTTYPE=image/png:https://linkchurch.org/wordpress/wp-content/uploads/2021/06/2021-06-22-11-38-46_1511.png
END:VEVENT
BEGIN:VEVENT
DTSTART;TZID=America/Edmonton:20241112T190000
DTEND;TZID=America/Edmonton:20241112T213000
DTSTAMP:20260425T194133
CREATED:20240806T195354Z
LAST-MODIFIED:20241126T193652Z
UID:10002676-1731438000-1731447000@linkchurch.org
SUMMARY:Young Adults Group
DESCRIPTION:Tuesday night Young Adults Connect group.  80 Spruce Close. \nIf you are between the ages of 18-30ish you are welcome to join us!
URL:https://linkchurch.org/event/young-adults-group-12/2024-11-12/
LOCATION:Alberta
CATEGORIES:Young Adults
ATTACH;FMTTYPE=image/png:https://linkchurch.org/wordpress/wp-content/uploads/2024/08/Young-Adults-2.png
END:VEVENT
END:VCALENDAR