BEGIN:VCALENDAR
VERSION:2.0
PRODID:-//The Link Christian Fellowship - ECPv6.15.20//NONSGML v1.0//EN
CALSCALE:GREGORIAN
METHOD:PUBLISH
X-WR-CALNAME:The Link Christian Fellowship
X-ORIGINAL-URL:https://linkchurch.org
X-WR-CALDESC:Events for The Link Christian Fellowship
REFRESH-INTERVAL;VALUE=DURATION:PT1H
X-Robots-Tag:noindex
X-PUBLISHED-TTL:PT1H
BEGIN:VTIMEZONE
TZID:America/Edmonton
BEGIN:DAYLIGHT
TZOFFSETFROM:-0700
TZOFFSETTO:-0600
TZNAME:MDT
DTSTART:20220313T090000
END:DAYLIGHT
BEGIN:STANDARD
TZOFFSETFROM:-0600
TZOFFSETTO:-0700
TZNAME:MST
DTSTART:20221106T080000
END:STANDARD
BEGIN:DAYLIGHT
TZOFFSETFROM:-0700
TZOFFSETTO:-0600
TZNAME:MDT
DTSTART:20230312T090000
END:DAYLIGHT
BEGIN:STANDARD
TZOFFSETFROM:-0600
TZOFFSETTO:-0700
TZNAME:MST
DTSTART:20231105T080000
END:STANDARD
BEGIN:DAYLIGHT
TZOFFSETFROM:-0700
TZOFFSETTO:-0600
TZNAME:MDT
DTSTART:20240310T090000
END:DAYLIGHT
BEGIN:STANDARD
TZOFFSETFROM:-0600
TZOFFSETTO:-0700
TZNAME:MST
DTSTART:20241103T080000
END:STANDARD
BEGIN:DAYLIGHT
TZOFFSETFROM:-0700
TZOFFSETTO:-0600
TZNAME:MDT
DTSTART:20250309T090000
END:DAYLIGHT
BEGIN:STANDARD
TZOFFSETFROM:-0600
TZOFFSETTO:-0700
TZNAME:MST
DTSTART:20251102T080000
END:STANDARD
END:VTIMEZONE
BEGIN:VEVENT
DTSTART;TZID=America/Edmonton:20240430T190000
DTEND;TZID=America/Edmonton:20240430T210000
DTSTAMP:20260422T052912
CREATED:20240430T195648Z
LAST-MODIFIED:20240430T195648Z
UID:10002013-1714503600-1714510800@linkchurch.org
SUMMARY:Women's Ministry Evening Group
DESCRIPTION:The Tuesday night group will be meeting for Prayer & Worship at Selah tonight.  Everyone is welcome to join!
URL:https://linkchurch.org/event/womens-ministry-evening-group/
LOCATION:YWAM Selah\, 1156 27 St SE\, Medicine Hat\, Alberta\, T1B 1W2\, Canada
CATEGORIES:Womens Ministry
ATTACH;FMTTYPE=image/png:https://linkchurch.org/wordpress/wp-content/uploads/2024/04/Untitled-design-11.png
END:VEVENT
BEGIN:VEVENT
DTSTART;TZID=America/Edmonton:20240425T121500
DTEND;TZID=America/Edmonton:20240425T130000
DTSTAMP:20260422T052912
CREATED:20240417T184543Z
LAST-MODIFIED:20240417T184543Z
UID:10002012-1714047300-1714050000@linkchurch.org
SUMMARY:Prayer Group
DESCRIPTION:Everyone is welcome to join us for a time of prayer as we pray for our church\, our city and our country. \nFor the next couple of weeks\, we will be meeting at YWAM Selah for prayer
URL:https://linkchurch.org/event/prayer-group-7/2024-04-25/
LOCATION:YWAM Selah\, 1156 27 St SE\, Medicine Hat\, Alberta\, T1B 1W2\, Canada
CATEGORIES:Prayer
ATTACH;FMTTYPE=image/png:https://linkchurch.org/wordpress/wp-content/uploads/2024/04/Untitled-design-11.png
END:VEVENT
BEGIN:VEVENT
DTSTART;TZID=America/Edmonton:20240418T121500
DTEND;TZID=America/Edmonton:20240418T130000
DTSTAMP:20260422T052912
CREATED:20240417T184543Z
LAST-MODIFIED:20240417T184543Z
UID:10002011-1713442500-1713445200@linkchurch.org
SUMMARY:Prayer Group
DESCRIPTION:Everyone is welcome to join us for a time of prayer as we pray for our church\, our city and our country. \nFor the next couple of weeks\, we will be meeting at YWAM Selah for prayer
URL:https://linkchurch.org/event/prayer-group-7/2024-04-18/
LOCATION:YWAM Selah\, 1156 27 St SE\, Medicine Hat\, Alberta\, T1B 1W2\, Canada
CATEGORIES:Prayer
ATTACH;FMTTYPE=image/png:https://linkchurch.org/wordpress/wp-content/uploads/2024/04/Untitled-design-11.png
END:VEVENT
BEGIN:VEVENT
DTSTART;TZID=America/Edmonton:20240409T080000
DTEND;TZID=America/Edmonton:20240409T170000
DTSTAMP:20260422T052912
CREATED:20240403T164334Z
LAST-MODIFIED:20240403T165654Z
UID:10002008-1712649600-1712682000@linkchurch.org
SUMMARY:Rend '24
DESCRIPTION:A solemn assembly of prayer & fasting. The church of Medicine Hat is invited to a 21-day unceasing event of prayer & fasting in the heart of Joel 2. \nApril 9-30 \nhttps://www.ywamselah.com/rend24 
URL:https://linkchurch.org/event/rend-24/
LOCATION:YWAM Selah\, 1156 27 St SE\, Medicine Hat\, Alberta\, T1B 1W2\, Canada
CATEGORIES:Special Events
ATTACH;FMTTYPE=image/jpeg:https://linkchurch.org/wordpress/wp-content/uploads/2024/04/Unknown-3.jpeg
END:VEVENT
BEGIN:VEVENT
DTSTART;TZID=America/Edmonton:20230527T190000
DTEND;TZID=America/Edmonton:20230527T210000
DTSTAMP:20260422T052912
CREATED:20230517T184240Z
LAST-MODIFIED:20230517T184240Z
UID:10001112-1685214000-1685221200@linkchurch.org
SUMMARY:Last day of 40 days of Prayer & Worship
DESCRIPTION:In place of our monthly prayer night on Sunday night we will be encouraging Linkers to join in at Global Prayer House for the final day of the 40 days of Prayer & Worship \nhttps://www.facebook.com/40daysmh \n 
URL:https://linkchurch.org/event/last-day-of-40-days-of-prayer-worship/
LOCATION:YWAM Selah\, 1156 27 St SE\, Medicine Hat\, Alberta\, T1B 1W2\, Canada
CATEGORIES:Prayer
ATTACH;FMTTYPE=image/jpeg:https://linkchurch.org/wordpress/wp-content/uploads/2023/04/330816515_553648660068600_3649578856687228253_n.jpg
END:VEVENT
BEGIN:VEVENT
DTSTART;TZID=America/Edmonton:20230430T190000
DTEND;TZID=America/Edmonton:20230430T210000
DTSTAMP:20260422T052912
CREATED:20230429T210725Z
LAST-MODIFIED:20230429T210727Z
UID:10001101-1682881200-1682888400@linkchurch.org
SUMMARY:40 Days Of Prayer
DESCRIPTION:In place of our monthly prayer night\, we will be encouraging Linkers to join in at Global Prayer House from 7:00-9:00pm
URL:https://linkchurch.org/event/40-days-of-prayer/
LOCATION:YWAM Selah\, 1156 27 St SE\, Medicine Hat\, Alberta\, T1B 1W2\, Canada
CATEGORIES:Prayer
ATTACH;FMTTYPE=image/jpeg:https://linkchurch.org/wordpress/wp-content/uploads/2023/04/330816515_553648660068600_3649578856687228253_n.jpg
END:VEVENT
BEGIN:VEVENT
DTSTART;TZID=America/Edmonton:20230428T190000
DTEND;TZID=America/Edmonton:20230428T220000
DTSTAMP:20260422T052912
CREATED:20230404T180516Z
LAST-MODIFIED:20230419T190544Z
UID:10001004-1682708400-1682719200@linkchurch.org
SUMMARY:City Wide Youth Night
DESCRIPTION:Tonight the youth are meeting for City Wide youth night at Global Prayer House for their 40 days of Worship.  From 7:00-9:00pm. \nYouth is for kids in grades 7-12.  Contact Pastor Rick for more info at rick@linkchurch.org
URL:https://linkchurch.org/event/city-wide-youth-night-6/
LOCATION:YWAM Selah\, 1156 27 St SE\, Medicine Hat\, Alberta\, T1B 1W2\, Canada
CATEGORIES:Link Kids
ATTACH;FMTTYPE=image/png:https://linkchurch.org/wordpress/wp-content/uploads/2023/04/City-wide-1-1.png
END:VEVENT
END:VCALENDAR